BEGIN:VCALENDAR
VERSION:2.0
PRODID:-//Poblenou Urban District - ECPv6.15.20//NONSGML v1.0//EN
CALSCALE:GREGORIAN
METHOD:PUBLISH
X-ORIGINAL-URL:https://poblenouurbandistrict.com/es
X-WR-CALDESC:Eventos para Poblenou Urban District
REFRESH-INTERVAL;VALUE=DURATION:PT1H
X-Robots-Tag:noindex
X-PUBLISHED-TTL:PT1H
BEGIN:VTIMEZONE
TZID:Europe/Madrid
BEGIN:DAYLIGHT
TZOFFSETFROM:+0100
TZOFFSETTO:+0200
TZNAME:CEST
DTSTART:20210328T010000
END:DAYLIGHT
BEGIN:STANDARD
TZOFFSETFROM:+0200
TZOFFSETTO:+0100
TZNAME:CET
DTSTART:20211031T010000
END:STANDARD
BEGIN:DAYLIGHT
TZOFFSETFROM:+0100
TZOFFSETTO:+0200
TZNAME:CEST
DTSTART:20220327T010000
END:DAYLIGHT
BEGIN:STANDARD
TZOFFSETFROM:+0200
TZOFFSETTO:+0100
TZNAME:CET
DTSTART:20221030T010000
END:STANDARD
BEGIN:DAYLIGHT
TZOFFSETFROM:+0100
TZOFFSETTO:+0200
TZNAME:CEST
DTSTART:20230326T010000
END:DAYLIGHT
BEGIN:STANDARD
TZOFFSETFROM:+0200
TZOFFSETTO:+0100
TZNAME:CET
DTSTART:20231029T010000
END:STANDARD
END:VTIMEZONE
BEGIN:VEVENT
DTSTART;TZID=Europe/Madrid:20221101T100000
DTEND;TZID=Europe/Madrid:20221105T190000
DTSTAMP:20260420T061945
CREATED:20220912T150431Z
LAST-MODIFIED:20220912T150525Z
UID:10003990-1667296800-1667674800@poblenouurbandistrict.com
SUMMARY:[:ca]Exposició: Somni atemporal[:es]Exposición: Somni atemporal[:en]Exhibition: Timeless dream[:]
DESCRIPTION:JOAN ILL \nSueño atemporal\n15.09 >> 11.11.2022 \nINAUGURACIÓN JUEVES 15 DE SEPTIEMBRE\n19h a 21:30h en L&B Gallery \nJUEVES 15\nVideo-instalación site-specific de Joan Ill Sueño\na bordo de la embarcación Niña Luisita en el Real Club Náutico de Barcelona\n1er turno 21:30h a 22:30h\n2º turno 22:30h a 23:30h\nSólo con reserva vía galeria@ibcontemporaryart.com (COMPLETO) \nVIERNES 16\nAperitivo con el artista\n13h en L&B Gallery \nSÁBADO 17\nAperitivo con el artista\n12h en L&B Gallery
URL:https://poblenouurbandistrict.com/es/agenda/exposicio-somni-atemporal-2022-09-20/2022-11-01/
LOCATION:L&B Gallery\, Àlaba 58\, Barcelona\, Barcelona\, 08005\, Espanya
CATEGORIES:Arte,Exposición
ATTACH;FMTTYPE=image/jpeg:https://media.poblenouurbandistrict.com/2022/09/25054055/capture-decran-2022-09-12-a-170026.jpg
ORGANIZER;CN="L&B Gallery":MAILTO:galeria@lbcontemporaryart.com
END:VEVENT
BEGIN:VEVENT
DTSTART;TZID=Europe/Madrid:20221101T110000
DTEND;TZID=Europe/Madrid:20221106T180000
DTSTAMP:20260420T061945
CREATED:20220616T104557Z
LAST-MODIFIED:20220912T142409Z
UID:10003839-1667300400-1667757600@poblenouurbandistrict.com
SUMMARY:[:ca]Exposició: Eugènia Balcells - Ella\, una i altra vegada[:es]Exposición: Eugènia Balcells - Ella\, una y otra vez[:en]Exhibition: Eugènia Balcells - Ella\, una i altra vegada[:]
DESCRIPTION:A lo largo de la exposición\, los arquetipos femeninos –incluyéndose y excluyéndose mutuamente– van dibujando un vocabulario propio desde el cual repensar las relaciones humanas en las que hoy nos movemos. \nDisponible hasta el 22 de enero del 2023.
URL:https://poblenouurbandistrict.com/es/agenda/exposicio-eugenia-balcells-ella-una-i-altra-vegada/2022-11-01/
LOCATION:Museu Can Framis\, carrer de Roc Boronat\, 116\, 126\, Barcelona\, Barcelona\, 08018\, Espanya
CATEGORIES:Arte,Exposición
ATTACH;FMTTYPE=image/jpeg:https://media.poblenouurbandistrict.com/2022/06/25053058/screenshot-2022-06-16-at-124529.jpg
END:VEVENT
END:VCALENDAR