BEGIN:VCALENDAR
VERSION:2.0
PRODID:-//Poblenou Urban District - ECPv6.15.20//NONSGML v1.0//EN
CALSCALE:GREGORIAN
METHOD:PUBLISH
X-WR-CALNAME:Poblenou Urban District
X-ORIGINAL-URL:https://poblenouurbandistrict.com/es
X-WR-CALDESC:Eventos para Poblenou Urban District
REFRESH-INTERVAL;VALUE=DURATION:PT1H
X-Robots-Tag:noindex
X-PUBLISHED-TTL:PT1H
BEGIN:VTIMEZONE
TZID:Europe/Madrid
BEGIN:DAYLIGHT
TZOFFSETFROM:+0100
TZOFFSETTO:+0200
TZNAME:CEST
DTSTART:20220327T010000
END:DAYLIGHT
BEGIN:STANDARD
TZOFFSETFROM:+0200
TZOFFSETTO:+0100
TZNAME:CET
DTSTART:20221030T010000
END:STANDARD
BEGIN:DAYLIGHT
TZOFFSETFROM:+0100
TZOFFSETTO:+0200
TZNAME:CEST
DTSTART:20230326T010000
END:DAYLIGHT
BEGIN:STANDARD
TZOFFSETFROM:+0200
TZOFFSETTO:+0100
TZNAME:CET
DTSTART:20231029T010000
END:STANDARD
BEGIN:DAYLIGHT
TZOFFSETFROM:+0100
TZOFFSETTO:+0200
TZNAME:CEST
DTSTART:20240331T010000
END:DAYLIGHT
BEGIN:STANDARD
TZOFFSETFROM:+0200
TZOFFSETTO:+0100
TZNAME:CET
DTSTART:20241027T010000
END:STANDARD
END:VTIMEZONE
BEGIN:VEVENT
DTSTART;TZID=Europe/Madrid:20230101T110000
DTEND;TZID=Europe/Madrid:20231231T180000
DTSTAMP:20260419T205936
CREATED:20230710T153658Z
LAST-MODIFIED:20230721T090759Z
UID:10004540-1672570800-1704045600@poblenouurbandistrict.com
SUMMARY:[:ca]Exposició "Monòleg\, Diàleg i Concepte"[:es]Exposición "Monòleg\, Diàleg i Concepte"[:]
DESCRIPTION:
URL:https://poblenouurbandistrict.com/es/agenda/monoleg-dialeg-i-concepte/
LOCATION:Museu Can Framis\, carrer de Roc Boronat\, 116\, 126\, Barcelona\, Barcelona\, 08018\, Espanya
CATEGORIES:Arte,Exposición
END:VEVENT
BEGIN:VEVENT
DTSTART;TZID=Europe/Madrid:20230329T180000
DTEND;TZID=Europe/Madrid:20230329T180000
DTSTAMP:20260419T205936
CREATED:20230321T104117Z
LAST-MODIFIED:20230321T104117Z
UID:10004413-1680112800-1680112800@poblenouurbandistrict.com
SUMMARY:[:ca]"Work out there" amb Nelson Balaban- BAU talks[:es]"Work out there" con Nelson Balaban-BAU talks[:en]Work out there with Nelson Balaban-BAU talks[:]
DESCRIPTION:
URL:https://poblenouurbandistrict.com/es/agenda/work-out-there-amb-nelson-balaban-bau-talks/
LOCATION:BAU\, Carrer de Pujades\, 118\, Barcelona\, Barcelona\, 08005\, Espanya
CATEGORIES:Arte,Diseño,Charla
END:VEVENT
BEGIN:VEVENT
DTSTART;TZID=Europe/Madrid:20230329T180000
DTEND;TZID=Europe/Madrid:20230329T190000
DTSTAMP:20260419T205936
CREATED:20230327T090335Z
LAST-MODIFIED:20230327T090335Z
UID:10004428-1680112800-1680116400@poblenouurbandistrict.com
SUMMARY:[:ca]BAU Talks: Work out there- Nelson Balaban[:es]BAU Talks (online): Work out there- Nelson Balaban[:en]BAU Talks: Work out there- Nelson Balaban[:]
DESCRIPTION:
URL:https://poblenouurbandistrict.com/es/agenda/bau-talks-work-out-there-nelson-balaban/
LOCATION:Barcelona
CATEGORIES:Arte,Audiovisual,Diseño,Charla
END:VEVENT
END:VCALENDAR