BEGIN:VCALENDAR
VERSION:2.0
PRODID:-//Poblenou Urban District - ECPv6.15.20//NONSGML v1.0//EN
CALSCALE:GREGORIAN
METHOD:PUBLISH
X-WR-CALNAME:Poblenou Urban District
X-ORIGINAL-URL:https://poblenouurbandistrict.com/es
X-WR-CALDESC:Eventos para Poblenou Urban District
REFRESH-INTERVAL;VALUE=DURATION:PT1H
X-Robots-Tag:noindex
X-PUBLISHED-TTL:PT1H
BEGIN:VTIMEZONE
TZID:Europe/Madrid
BEGIN:DAYLIGHT
TZOFFSETFROM:+0100
TZOFFSETTO:+0200
TZNAME:CEST
DTSTART:20230326T010000
END:DAYLIGHT
BEGIN:STANDARD
TZOFFSETFROM:+0200
TZOFFSETTO:+0100
TZNAME:CET
DTSTART:20231029T010000
END:STANDARD
BEGIN:DAYLIGHT
TZOFFSETFROM:+0100
TZOFFSETTO:+0200
TZNAME:CEST
DTSTART:20240331T010000
END:DAYLIGHT
BEGIN:STANDARD
TZOFFSETFROM:+0200
TZOFFSETTO:+0100
TZNAME:CET
DTSTART:20241027T010000
END:STANDARD
BEGIN:DAYLIGHT
TZOFFSETFROM:+0100
TZOFFSETTO:+0200
TZNAME:CEST
DTSTART:20250330T010000
END:DAYLIGHT
BEGIN:STANDARD
TZOFFSETFROM:+0200
TZOFFSETTO:+0100
TZNAME:CET
DTSTART:20251026T010000
END:STANDARD
END:VTIMEZONE
BEGIN:VEVENT
DTSTART;TZID=Europe/Madrid:20240606T180000
DTEND;TZID=Europe/Madrid:20240606T200000
DTSTAMP:20260424T184111
CREATED:20240605T090245Z
LAST-MODIFIED:20240605T090245Z
UID:10006825-1717696800-1717704000@poblenouurbandistrict.com
SUMMARY:B48_TALK presents Marco Faraone
DESCRIPTION:
URL:https://poblenouurbandistrict.com/es/agenda/b48_talk-presents-marco-faraone/
LOCATION:Bridge_48\, Carrer de Llull\, 48\, Barcelona\, 08005
CATEGORIES:Música,Charla
ATTACH;FMTTYPE=image/jpeg:https://media.poblenouurbandistrict.com/2024/06/25073937/bridge-talk-faraone-cuadrada.jpg
END:VEVENT
BEGIN:VEVENT
DTSTART;TZID=Europe/Madrid:20240606T180000
DTEND;TZID=Europe/Madrid:20240606T210000
DTSTAMP:20260424T184111
CREATED:20240528T101605Z
LAST-MODIFIED:20240603T145034Z
UID:10006814-1717696800-1717707600@poblenouurbandistrict.com
SUMMARY:Design Vernissage
DESCRIPTION:
URL:https://poblenouurbandistrict.com/es/agenda/design-vernissage/
LOCATION:L’idem Barcelona\, Carrer de la Ciutat de Granada\, 53\, 57\,\, Barcelona\, Barcelona\, 08005\, Espanya
CATEGORIES:Diseño,Charla
ATTACH;FMTTYPE=image/jpeg:https://media.poblenouurbandistrict.com/2024/05/25073817/captura-de-pantalla-2024-05-30-163657.jpg
END:VEVENT
END:VCALENDAR