BEGIN:VCALENDAR
VERSION:2.0
PRODID:-//Poblenou Urban District - ECPv6.15.20//NONSGML v1.0//EN
CALSCALE:GREGORIAN
METHOD:PUBLISH
X-ORIGINAL-URL:https://poblenouurbandistrict.com/es
X-WR-CALDESC:Eventos para Poblenou Urban District
REFRESH-INTERVAL;VALUE=DURATION:PT1H
X-Robots-Tag:noindex
X-PUBLISHED-TTL:PT1H
BEGIN:VTIMEZONE
TZID:Europe/Madrid
BEGIN:DAYLIGHT
TZOFFSETFROM:+0100
TZOFFSETTO:+0200
TZNAME:CEST
DTSTART:20210328T010000
END:DAYLIGHT
BEGIN:STANDARD
TZOFFSETFROM:+0200
TZOFFSETTO:+0100
TZNAME:CET
DTSTART:20211031T010000
END:STANDARD
BEGIN:DAYLIGHT
TZOFFSETFROM:+0100
TZOFFSETTO:+0200
TZNAME:CEST
DTSTART:20220327T010000
END:DAYLIGHT
BEGIN:STANDARD
TZOFFSETFROM:+0200
TZOFFSETTO:+0100
TZNAME:CET
DTSTART:20221030T010000
END:STANDARD
BEGIN:DAYLIGHT
TZOFFSETFROM:+0100
TZOFFSETTO:+0200
TZNAME:CEST
DTSTART:20230326T010000
END:DAYLIGHT
BEGIN:STANDARD
TZOFFSETFROM:+0200
TZOFFSETTO:+0100
TZNAME:CET
DTSTART:20231029T010000
END:STANDARD
END:VTIMEZONE
BEGIN:VEVENT
DTSTART;TZID=Europe/Madrid:20221001T213000
DTEND;TZID=Europe/Madrid:20221001T230000
DTSTAMP:20260425T205204
CREATED:20220912T151519Z
LAST-MODIFIED:20220922T115256Z
UID:10003992-1664659800-1664665200@poblenouurbandistrict.com
SUMMARY:[:ca]Concert: SAVONIS[:es]Concierto: SAVONIS[:en]Concert: SAVONIS[:]
DESCRIPTION:SAVONIS es delicado y sofisticado pero a la vez contundente y descarado. Tesituras vocales del rango de Antony and the Johnsons\, Radiohead o Morrisey se dan la mano con arreglos musicales del estilo de Vetusta Morla o Kings of Leon. Indie-rock es sólo una de las etiquetas que podrían intentar definir el estilo ecléctico de una banda que disfruta paseando por el preciosismo de sus pasajes íntimos para poco después subirse a una apisonadora y arrasar con todo lo que encuentra a su paso”. \nEl próximo 1 de Octubre de 2022 es la fecha elegida para presentar su álbum debut\, «Antes Mejor Arder»\, en la emblemática sala Razzmatazz 3 de Barcelona.
URL:https://poblenouurbandistrict.com/es/agenda/concert-savonis/
LOCATION:Sala Razzmatazz\, C/ dels Almogàvers\, 122\, Barcelona\, Barcelona\, 08018\, Espanya
CATEGORIES:Música
ATTACH;FMTTYPE=image/jpeg:https://media.poblenouurbandistrict.com/2022/09/25054056/capture-decran-2022-09-12-a-171408.jpg
END:VEVENT
BEGIN:VEVENT
DTSTART;TZID=Europe/Madrid:20221001T213000
DTEND;TZID=Europe/Madrid:20221001T233000
DTSTAMP:20260425T205204
CREATED:20220913T133720Z
LAST-MODIFIED:20220913T133720Z
UID:10004012-1664659800-1664667000@poblenouurbandistrict.com
SUMMARY:[:ca]Concert: El Jose[:es]Concierto: El Jose[:en]Concert: El Jose[:]
DESCRIPTION:
URL:https://poblenouurbandistrict.com/es/agenda/concert-el-jose/
LOCATION:La Nau
CATEGORIES:Música
ATTACH;FMTTYPE=image/jpeg:https://media.poblenouurbandistrict.com/2022/09/25054240/capture-decran-2022-09-13-a-153607.jpg
END:VEVENT
BEGIN:VEVENT
DTSTART;TZID=Europe/Madrid:20221002T210000
DTEND;TZID=Europe/Madrid:20221002T230000
DTSTAMP:20260425T205204
CREATED:20220913T131029Z
LAST-MODIFIED:20220913T131029Z
UID:10003997-1664744400-1664751600@poblenouurbandistrict.com
SUMMARY:[:ca]Concert: Onyx[:es]Concierto: Onyx[:en]Concert: Onyx[:]
DESCRIPTION:
URL:https://poblenouurbandistrict.com/es/agenda/concert-onyx/
LOCATION:Sala Wolf\, C/ dels Almogàvers\, 88\, Barcelona\, Barcelona\, 08018\, Espanya
CATEGORIES:Música
ATTACH;FMTTYPE=image/jpeg:https://media.poblenouurbandistrict.com/2022/09/25054227/capture-decran-2022-09-13-a-150941.jpg
END:VEVENT
BEGIN:VEVENT
DTSTART;TZID=Europe/Madrid:20221002T210000
DTEND;TZID=Europe/Madrid:20221002T230000
DTSTAMP:20260425T205204
CREATED:20220913T133904Z
LAST-MODIFIED:20220913T133904Z
UID:10004010-1664744400-1664751600@poblenouurbandistrict.com
SUMMARY:[:ca]Concert: ANAJU[:es]Concierto: ANAJU[:en]Concert: ANAJU[:]
DESCRIPTION:
URL:https://poblenouurbandistrict.com/es/agenda/concert-anaju/
LOCATION:La Nau
CATEGORIES:Música
ATTACH;FMTTYPE=image/jpeg:https://media.poblenouurbandistrict.com/2022/09/25054242/capture-decran-2022-09-13-a-153746.jpg
END:VEVENT
BEGIN:VEVENT
DTSTART;TZID=Europe/Madrid:20221004T203000
DTEND;TZID=Europe/Madrid:20221004T223000
DTSTAMP:20260425T205204
CREATED:20220913T134100Z
LAST-MODIFIED:20220913T134100Z
UID:10004008-1664915400-1664922600@poblenouurbandistrict.com
SUMMARY:[:ca]Concert: Recordatorio + Lucia Fumero[:es]Concierto: Recordatorio + Lucia Fumero[:en]Concert: Recordatorio + Lucia Fumero[:]
DESCRIPTION:
URL:https://poblenouurbandistrict.com/es/agenda/concert-recordatorio-lucia-fumero/
LOCATION:La Nau
CATEGORIES:Música
ATTACH;FMTTYPE=image/jpeg:https://media.poblenouurbandistrict.com/2022/09/25054243/capture-decran-2022-09-13-a-154002.jpg
END:VEVENT
BEGIN:VEVENT
DTSTART;TZID=Europe/Madrid:20221005T210000
DTEND;TZID=Europe/Madrid:20221005T230000
DTSTAMP:20260425T205204
CREATED:20220913T131144Z
LAST-MODIFIED:20220913T131144Z
UID:10003998-1665003600-1665010800@poblenouurbandistrict.com
SUMMARY:[:ca]Concert: Helado Negro[:es]Concierto: Helado Negro[:en]Concert: Helado Negro[:]
DESCRIPTION:
URL:https://poblenouurbandistrict.com/es/agenda/concert-helado-negro/
LOCATION:Sala Wolf\, C/ dels Almogàvers\, 88\, Barcelona\, Barcelona\, 08018\, Espanya
CATEGORIES:Música
ATTACH;FMTTYPE=image/jpeg:https://media.poblenouurbandistrict.com/2022/09/25054228/capture-decran-2022-09-13-a-151116.jpg
END:VEVENT
BEGIN:VEVENT
DTSTART;TZID=Europe/Madrid:20221005T210000
DTEND;TZID=Europe/Madrid:20221005T230000
DTSTAMP:20260425T205204
CREATED:20220913T134327Z
LAST-MODIFIED:20220913T134327Z
UID:10004006-1665003600-1665010800@poblenouurbandistrict.com
SUMMARY:[:ca]Concert: Moonchild[:es]Concierto: Moonchild[:en]Concert: Moonchild[:]
DESCRIPTION:
URL:https://poblenouurbandistrict.com/es/agenda/concert-moonchild/
LOCATION:La Nau
CATEGORIES:Música
ATTACH;FMTTYPE=image/jpeg:https://media.poblenouurbandistrict.com/2022/09/25054245/capture-decran-2022-09-13-a-154222.jpg
END:VEVENT
BEGIN:VEVENT
DTSTART;TZID=Europe/Madrid:20221006T210000
DTEND;TZID=Europe/Madrid:20221006T230000
DTSTAMP:20260425T205204
CREATED:20220913T134503Z
LAST-MODIFIED:20220913T134503Z
UID:10004004-1665090000-1665097200@poblenouurbandistrict.com
SUMMARY:[:ca]Concert: CAMELLOS[:es]Concierto: CAMELLOS[:en]Concert: CAMELLOS[:]
DESCRIPTION:
URL:https://poblenouurbandistrict.com/es/agenda/concert-camellos/
LOCATION:La Nau
CATEGORIES:Música
ATTACH;FMTTYPE=image/jpeg:https://media.poblenouurbandistrict.com/2022/09/25054247/capture-decran-2022-09-13-a-154432.jpg
END:VEVENT
BEGIN:VEVENT
DTSTART;TZID=Europe/Madrid:20221007T210000
DTEND;TZID=Europe/Madrid:20221007T230000
DTSTAMP:20260425T205204
CREATED:20220913T131348Z
LAST-MODIFIED:20221006T124747Z
UID:10003999-1665176400-1665183600@poblenouurbandistrict.com
SUMMARY:[:ca]Concert: The Grassland Sinners[:es]Concierto: The Grassland Sinners[:en]Concert: The Grassland Sinners[:]
DESCRIPTION:
URL:https://poblenouurbandistrict.com/es/agenda/concert-the-grassland-sinners/
LOCATION:Sala Wolf\, C/ dels Almogàvers\, 88\, Barcelona\, Barcelona\, 08018\, Espanya
CATEGORIES:Música
ATTACH;FMTTYPE=image/jpeg:https://media.poblenouurbandistrict.com/2022/09/25054229/capture-decran-2022-09-13-a-151240.jpg
END:VEVENT
BEGIN:VEVENT
DTSTART;TZID=Europe/Madrid:20221007T213000
DTEND;TZID=Europe/Madrid:20221007T233000
DTSTAMP:20260425T205204
CREATED:20220913T134704Z
LAST-MODIFIED:20220913T134704Z
UID:10004013-1665178200-1665185400@poblenouurbandistrict.com
SUMMARY:[:ca]Concert: Amatria[:es]Concierto: Amatria[:en]Concert: Amatria[:]
DESCRIPTION:
URL:https://poblenouurbandistrict.com/es/agenda/concert-amatria/
LOCATION:La Nau
CATEGORIES:Música
ATTACH;FMTTYPE=image/jpeg:https://media.poblenouurbandistrict.com/2022/09/25054248/capture-decran-2022-09-13-a-154634.jpg
END:VEVENT
BEGIN:VEVENT
DTSTART;TZID=Europe/Madrid:20221012T203000
DTEND;TZID=Europe/Madrid:20221012T223000
DTSTAMP:20260425T205204
CREATED:20220913T134931Z
LAST-MODIFIED:20220913T134931Z
UID:10004014-1665606600-1665613800@poblenouurbandistrict.com
SUMMARY:[:ca]Concert: IOSONOUNCANE[:es]Concierto: IOSONOUNCANE[:en]Concert: IOSONOUNCANE[:]
DESCRIPTION:
URL:https://poblenouurbandistrict.com/es/agenda/concert-iosonouncane/
LOCATION:La Nau
CATEGORIES:Música
ATTACH;FMTTYPE=image/jpeg:https://media.poblenouurbandistrict.com/2022/09/25054250/capture-decran-2022-09-13-a-154824.jpg
END:VEVENT
BEGIN:VEVENT
DTSTART;TZID=Europe/Madrid:20221012T210000
DTEND;TZID=Europe/Madrid:20221012T230000
DTSTAMP:20260425T205204
CREATED:20220913T131506Z
LAST-MODIFIED:20220913T131506Z
UID:10004000-1665608400-1665615600@poblenouurbandistrict.com
SUMMARY:[:ca]Concert: Cold Cave[:es]Concierto: Cold Cave[:en]Concert: Cold Cave[:]
DESCRIPTION:
URL:https://poblenouurbandistrict.com/es/agenda/concert-cold-cave/
LOCATION:Sala Wolf\, C/ dels Almogàvers\, 88\, Barcelona\, Barcelona\, 08018\, Espanya
CATEGORIES:Música
ATTACH;FMTTYPE=image/jpeg:https://media.poblenouurbandistrict.com/2022/09/25054231/capture-decran-2022-09-13-a-151404.jpg
END:VEVENT
BEGIN:VEVENT
DTSTART;TZID=Europe/Madrid:20221013T210000
DTEND;TZID=Europe/Madrid:20221013T230000
DTSTAMP:20260425T205204
CREATED:20220913T135235Z
LAST-MODIFIED:20220913T135235Z
UID:10004015-1665694800-1665702000@poblenouurbandistrict.com
SUMMARY:[:ca]Concert: Comandante Twin[:es]Concierto: Comandante Twin[:en]Concert: Comandante Twin[:]
DESCRIPTION:
URL:https://poblenouurbandistrict.com/es/agenda/concert-comandante-twin/
LOCATION:La Nau
CATEGORIES:Música
ATTACH;FMTTYPE=image/jpeg:https://media.poblenouurbandistrict.com/2022/09/25054251/capture-decran-2022-09-13-a-155130.jpg
END:VEVENT
BEGIN:VEVENT
DTSTART;TZID=Europe/Madrid:20221014T210000
DTEND;TZID=Europe/Madrid:20221014T230000
DTSTAMP:20260425T205204
CREATED:20220913T131649Z
LAST-MODIFIED:20221013T121307Z
UID:10004001-1665781200-1665788400@poblenouurbandistrict.com
SUMMARY:[:ca]Concert: Javier Corcobado[:es]Concierto: Javier Corcobado[:en]Concert: Javier Corcobado[:]
DESCRIPTION:
URL:https://poblenouurbandistrict.com/es/agenda/concert-javier-corcobado/
LOCATION:Sala Wolf\, C/ dels Almogàvers\, 88\, Barcelona\, Barcelona\, 08018\, Espanya
CATEGORIES:Música
ATTACH;FMTTYPE=image/jpeg:https://media.poblenouurbandistrict.com/2022/09/25054232/capture-decran-2022-09-13-a-151558.jpg
END:VEVENT
BEGIN:VEVENT
DTSTART;TZID=Europe/Madrid:20221014T210000
DTEND;TZID=Europe/Madrid:20221014T230000
DTSTAMP:20260425T205204
CREATED:20220913T135429Z
LAST-MODIFIED:20220913T135429Z
UID:10004016-1665781200-1665788400@poblenouurbandistrict.com
SUMMARY:[:ca]Concert: Gloosito[:es]Concierto: Gloosito[:en]Concert: Gloosito[:]
DESCRIPTION:
URL:https://poblenouurbandistrict.com/es/agenda/concert-gloosito/
LOCATION:La Nau
CATEGORIES:Música
ATTACH;FMTTYPE=image/jpeg:https://media.poblenouurbandistrict.com/2022/09/25054253/capture-decran-2022-09-13-a-155256.jpg
END:VEVENT
BEGIN:VEVENT
DTSTART;TZID=Europe/Madrid:20221015T210000
DTEND;TZID=Europe/Madrid:20221015T230000
DTSTAMP:20260425T205204
CREATED:20220913T135633Z
LAST-MODIFIED:20220913T135633Z
UID:10004017-1665867600-1665874800@poblenouurbandistrict.com
SUMMARY:[:ca]Concert: Mark Guiliana[:es]Concierto: Mark Guiliana[:en]Concert: Mark Guiliana[:]
DESCRIPTION:
URL:https://poblenouurbandistrict.com/es/agenda/concert-mark-guiliana/
LOCATION:La Nau
CATEGORIES:Música
ATTACH;FMTTYPE=image/jpeg:https://media.poblenouurbandistrict.com/2022/09/25054255/capture-decran-2022-09-13-a-155554.jpg
END:VEVENT
BEGIN:VEVENT
DTSTART;TZID=Europe/Madrid:20221017T210000
DTEND;TZID=Europe/Madrid:20221017T230000
DTSTAMP:20260425T205204
CREATED:20220913T135806Z
LAST-MODIFIED:20220913T135806Z
UID:10004018-1666040400-1666047600@poblenouurbandistrict.com
SUMMARY:[:ca]Concert: Youn Sun Nah[:es]Concierto: Youn Sun Nah[:en]Concert: Youn Sun Nah[:]
DESCRIPTION:
URL:https://poblenouurbandistrict.com/es/agenda/concert-youn-sun-nah/
LOCATION:La Nau
CATEGORIES:Música
ATTACH;FMTTYPE=image/jpeg:https://media.poblenouurbandistrict.com/2022/09/25054256/capture-decran-2022-09-13-a-155721.jpg
END:VEVENT
BEGIN:VEVENT
DTSTART;TZID=Europe/Madrid:20221021T210000
DTEND;TZID=Europe/Madrid:20221021T230000
DTSTAMP:20260425T205204
CREATED:20220913T131833Z
LAST-MODIFIED:20221020T124637Z
UID:10004003-1666386000-1666393200@poblenouurbandistrict.com
SUMMARY:[:ca]Concert: Karmento[:es]Concierto: Karmento[:en]Concert: Karmento[:]
DESCRIPTION:
URL:https://poblenouurbandistrict.com/es/agenda/concert-karmento/
LOCATION:Sala Wolf\, C/ dels Almogàvers\, 88\, Barcelona\, Barcelona\, 08018\, Espanya
CATEGORIES:Música
ATTACH;FMTTYPE=image/jpeg:https://media.poblenouurbandistrict.com/2022/09/25054233/capture-decran-2022-09-13-a-151725.jpg
END:VEVENT
BEGIN:VEVENT
DTSTART;TZID=Europe/Madrid:20221023T180000
DTEND;TZID=Europe/Madrid:20221023T190000
DTSTAMP:20260425T205204
CREATED:20221021T141705Z
LAST-MODIFIED:20221021T141705Z
UID:10004031-1666548000-1666551600@poblenouurbandistrict.com
SUMMARY:MORT I TRANSFIGURACIÓ
DESCRIPTION:Sofya Melikyan y Pascual-Vilaplana\n\n\nREPERTORIO\n\n\n\nManuel de Falla:\n\n\nNoches en los jardines de España \n\n\n (1915) 25’ – Transcripción de Joan Lamote de Grignon\n\n\n\n\nGilda Lyons: La flor más linda (2019) 7’\n\n\n\n\nRichard Strauss:\n\n\nMuerte y transfiguración \n\n\n\, op. 24 (1891) 25’ – Transcripción de Lluís Oliva\n\n\n\n\n\nINTÉRPRETES\n\n\n\nBanda Municipal de Barcelona\n\n\n\n\nSofya Melikyan\, piano\n\n\n\n\nJosé R. Pascual-Vilaplana\, dirección\n\n\n\n\n\nPROGRAMA\n\n\nLos artistas románticos buscaban la idea de trascendencia como hito estético y filosófico. El poema sinfónico Tod und Verklärung (Muerte y transfiguración) de Richard Strauss constituye un caso paradigmático. Más allá de un programa literario previo\, los conceptos de sublimación artística y eternidad son los temas centrales de la obra. La partitura contiene analogías sonoras de la vida mundana –como los latidos irregulares del corazón del artista o la descripción sonora del momento en el que el alma abandona el cuerpo–\, pero el trasfondo de la obra es mucho más profundo. En los últimos minutos\, el compositor quería transmitir una emoción difícil de explicar con palabras. \nEn el año 1916\, Manuel de Falla estrenó Noches en los jardines de España\, una obra para piano y orquesta sinfónica pensada\, en un principio\, como una serie de nocturnos para piano solo dedicados al pianista ilerdense Ricard Viñes. Es una de las obras más internacionales del compositor andaluz\, a la vez estrechamente emparentada con la sonoridad de los franceses Debussy y Ravel.
URL:https://poblenouurbandistrict.com/es/agenda/mort-i-transfiguracio/
LOCATION:L’Auditori\, Carrer de Lepant\, 150\, Barcelona\, 08013\, Espanya
CATEGORIES:Música
ATTACH;FMTTYPE=image/jpeg:https://media.poblenouurbandistrict.com/2022/10/25054629/auditori-1.jpg
END:VEVENT
BEGIN:VEVENT
DTSTART;TZID=Europe/Madrid:20221023T200000
DTEND;TZID=Europe/Madrid:20221023T213000
DTSTAMP:20260425T205204
CREATED:20221021T142520Z
LAST-MODIFIED:20221021T142917Z
UID:10004032-1666555200-1666560600@poblenouurbandistrict.com
SUMMARY:CÉCILE MCLORIN
DESCRIPTION:INTÉRPRETES\n\n\n\nCécile McLorin Salvant\, voz\n\n\n\n\nGlenn Zaleski\, piano\n\n\n\n\nMarvin Sewell\, guitarra\n\n\n\n\nPaul Sikivie\, contrabajo\n\n\nKeita Ogawa\, percusiones\n\n\n\nPROGRAMA\n\n\nCécile McLorin Salvant confirmó el año pasado por qué está considerada una de las cantantes de referencia del jazz actual. Ahora nos vuelve a visitar para presentarnos su nuevo disco\, Ghost Song\, una muestra más de las cargas de profundidad tanto vocales como emocionales de que es capaz McLorin con su instrumento. Voz poderosa\, con un registro incomparable\, la cantante de Miami es también una experta en narrar historias con sus canciones. Porque un recital de McLorin\, para que nos entendamos\, no es una sucesión de melodías\, sino un relato denso\, vibrante e intenso. La vida misma.
URL:https://poblenouurbandistrict.com/es/agenda/cecile-mclorin/
LOCATION:L’Auditori\, Carrer de Lepant\, 150\, Barcelona\, 08013\, Espanya
CATEGORIES:Música
ATTACH;FMTTYPE=image/jpeg:https://media.poblenouurbandistrict.com/2022/10/25054630/audi.jpg
END:VEVENT
BEGIN:VEVENT
DTSTART;TZID=Europe/Madrid:20221025T200000
DTEND;TZID=Europe/Madrid:20221025T220000
DTSTAMP:20260425T205204
CREATED:20221021T143501Z
LAST-MODIFIED:20221021T143501Z
UID:10004033-1666728000-1666735200@poblenouurbandistrict.com
SUMMARY:YO-YO MA I KATHRYN STOTT
DESCRIPTION:REPERTORIO\n\n\n\nFelix Mendelssohn:\n\n\nSong Without Words \n\n\n\, op. 109\n\n\nTradicional Scarborough Fair \n\n\n (arr. Stephen Hough)\n\n\n\n\nCaroline Shaw:\n\n\nShenandoah \n\n\nJean Sibelius: <em\, n. 4 op. 37\n\n\n\n\nErnest Bloch:\n\n\nFrom Jewish Life \n\n\nAntonín Dvorák: Quatre peces romàntiques\n\n\n\n\nErrollyn Wallen:\n\n\nDervish \n\n\nCesar Camargo Matiano:\n\n\nCristal \n\n\n (arr. Jorge Calandrelli)\n\n\n\n\nVioleta Parra:\n\n\nGracias a la vida \n\n\n (arr. Jorge Calandrelli)\n\n\n\n\nAstor Piazzolla:\n\n\nLibertango \n\n\n (arr. Kathryn Stott)\n\n\n\n\nAstor Piazzolla:\n\n\nSoledad \n\n\nAstor Piazzolla:\n\n\nLe Grand Tango \n</em\n\n\n\nINTÉRPRETES\n\n\n\nYo-Yo Ma\, violonchelo\n\n\nKathryn Stott\, piano\n\n 
URL:https://poblenouurbandistrict.com/es/agenda/yo-yo-ma-i-kathryn-stott/
LOCATION:L’Auditori\, Carrer de Lepant\, 150\, Barcelona\, 08013\, Espanya
CATEGORIES:Música
ATTACH;FMTTYPE=image/jpeg:https://media.poblenouurbandistrict.com/2022/10/25054632/audit.jpg
END:VEVENT
BEGIN:VEVENT
DTSTART;TZID=Europe/Madrid:20221029T200000
DTEND;TZID=Europe/Madrid:20221029T230000
DTSTAMP:20260425T205204
CREATED:20221021T145310Z
LAST-MODIFIED:20221027T112747Z
UID:10004034-1667073600-1667084400@poblenouurbandistrict.com
SUMMARY:POL BATLLE AMB RITA PAYÉS / MARINA HERLOP
DESCRIPTION:INTÉRPRETES\n\n\n\nPol Batlle\, voz y guitarra eléctrica\n\n\n\n\nRita Payés\, voz y trombón\n\n\n\n\nMarina Hernández\, voz y teclado\n\n\n\n\nToni Llull\, batería y pad\n\n\n\n\nHelena Ros\, voz y pad\n\n\n\n\nMarta Torrella\, voz y sinte\n\n\nAftershow \nDj Lanav\n\n\n\nPROGRAMA\n\n\nCon motivo del Vibe35 L’Auditori invita a dos artistas íntimamente vinculados a L’Auditori a través del Sit Back: Marina Herlop y Pol Batlle. Dos nombres propios de la escena barcelonesa actual que están despuntando por su talento y la innovación de sus formatos.\nEl Sit Back es un ciclo de conciertos creado por L’Auditori en colaboración con los principales agentes de la escena musical de la ciudad y que propone una nueva manera de escuchar\, un viaje que invita al público a sentarse cómodamente y a disfrutar de los artistas en las mejores condiciones acústicas posibles.\nMarina Herlop recibió el encargo de participar en Escenes y ahora regresa para presentar su nuevo disco\, Pripyat\, un álbum con un nuevo sonido y el lenguaje único que caracteriza a esta artista. Herlop estará acompañada de un equipo de lujo\, con Helena Ros y Marta Torrella —integrantes de Tarta Relena— y Toni Llull.\nPor su parte\, Pol Batlle traerá nuevamente su primer trabajo\, Salt Mortal\, a L’Auditori. Un trabajo que convierte cada tema en un viaje de los que cuesta olvidar. Un concierto en el que estará acompañado por la voz de Rita Payés. \nEn el aftershow\, podremos disfrutar de una sesión de Dj Lanav. Nacida en Barcelona y residente en el Nitsa y la Razzmatazz\, fue una de las fundadoras de Abundance\, colectivo barcelonés que tiene como objetivo promocionar el talento local vinculado a la música electrónica actual. Sus influencias musicales oscilan entre la música experimental\, de baile y los sonidos tribales.\nEl aftershow de “Vibe35” cuenta con la colaboración de Primavera Sound.
URL:https://poblenouurbandistrict.com/es/agenda/pol-batlle-amb-rita-payes-marina-herlop/
LOCATION:L’Auditori\, Carrer de Lepant\, 150\, Barcelona\, 08013\, Espanya
CATEGORIES:Música
ATTACH;FMTTYPE=image/jpeg:https://media.poblenouurbandistrict.com/2022/10/25054633/audita.jpg
END:VEVENT
BEGIN:VEVENT
DTSTART;TZID=Europe/Madrid:20221030T180000
DTEND;TZID=Europe/Madrid:20221030T200000
DTSTAMP:20260425T205204
CREATED:20221021T145738Z
LAST-MODIFIED:20221027T112851Z
UID:10004035-1667152800-1667160000@poblenouurbandistrict.com
SUMMARY:[:ca]Jordi Farran i Salvador Brotons[:es]Jordi Farran y Salvador Brotons[:en]Jordi Farran & Salvador Brotons[:]
DESCRIPTION:REPERTORIO\n\n\n\nJoan Lamote de Grignon:\n\n\nMarxa catalana \n\n\n n. 1 (1924) 4’\n\n\n\n\nJoan Lamote de Grignon:\n\n\nRosa del folló \n\n\n\, sardana (1908) 4’\n\n\n\n\nJoan Lamote de Grignon:\n\n\nScherzo sobre un tema popular catalán \n\n\n (1897-1915) 8’\n\n\n\n\nCamille Saint-Saëns / Joan Lamote de Grignon:\n\n\nDéjanire \n\n\n. Selección de música escénica (1898) 13’\n\n\n\n\nManuel Oltra i Ferrer: Rapsodia para piano e instrumentos de viento\, op. 47 (1953) 11’\n\n\n\n\nManuel Oltra i Ferrer:\n\n\nMontmagastre\, pequeño cuadro sinfónico \n\n\n\, op. 145 (1970) 6’\n\n\n\n\nManuel Oltra i Ferrer:\n\n\nL’Alimara \n\n\n\, poema sinfónico\, op. 179 (1983) 9’\n\n\n\n\n\nINTÉRPRETES\n\n\n\nBanda Municipal de Barcelona\n\n\n\n\nJordi Farran\, piano\n\n\nSalvador Brotons\, dirección\n\n\n\nPROGRAMA\n\n\nJoan Lamote de Grignon es una figura importantísima en la historia de la Banda Municipal de Barcelona porque lideró la transformación hacia la excelencia interpretativa de esta formación y la situó en el mapa de las bandas europeas. En el 150 aniversario de su nacimiento\, la Banda le rinde homenaje en su faceta como compositor con obras tan interesantes como la sardana La rosa del folló o el scherzo sobre la canción popular catalana La filadora. La suite a partir de la ópera Déjanire de Saint-Saëns también ilustra su labor de instrumentador y nos transporta a su mundo sonoro. \nEl año 2022 es también el año en que se conmemora el centenario del nacimiento de Manuel Oltra\, compositor y pedagogo de raíces valencianas que vivió y desarrolló su carrera profesional en Barcelona. Muy conocido por sus sardanas y piezas corales\, en este concierto se han programado obras de más envergadura\, como por ejemplo la Rapsodia para piano e instrumentos de viento o el poema sinfónico L’alimara.
URL:https://poblenouurbandistrict.com/es/agenda/jordi-farran-i-salvador-brotons/
LOCATION:L’Auditori\, Carrer de Lepant\, 150\, Barcelona\, 08013\, Espanya
CATEGORIES:Música
ATTACH;FMTTYPE=image/jpeg:https://media.poblenouurbandistrict.com/2022/10/25054635/audita-1.jpg
END:VEVENT
END:VCALENDAR