BEGIN:VCALENDAR
VERSION:2.0
PRODID:-//Poblenou Urban District - ECPv6.15.20//NONSGML v1.0//EN
CALSCALE:GREGORIAN
METHOD:PUBLISH
X-WR-CALNAME:Poblenou Urban District
X-ORIGINAL-URL:https://poblenouurbandistrict.com/es
X-WR-CALDESC:Eventos para Poblenou Urban District
REFRESH-INTERVAL;VALUE=DURATION:PT1H
X-Robots-Tag:noindex
X-PUBLISHED-TTL:PT1H
BEGIN:VTIMEZONE
TZID:Europe/Madrid
BEGIN:DAYLIGHT
TZOFFSETFROM:+0100
TZOFFSETTO:+0200
TZNAME:CEST
DTSTART:20220327T010000
END:DAYLIGHT
BEGIN:STANDARD
TZOFFSETFROM:+0200
TZOFFSETTO:+0100
TZNAME:CET
DTSTART:20221030T010000
END:STANDARD
BEGIN:DAYLIGHT
TZOFFSETFROM:+0100
TZOFFSETTO:+0200
TZNAME:CEST
DTSTART:20230326T010000
END:DAYLIGHT
BEGIN:STANDARD
TZOFFSETFROM:+0200
TZOFFSETTO:+0100
TZNAME:CET
DTSTART:20231029T010000
END:STANDARD
BEGIN:DAYLIGHT
TZOFFSETFROM:+0100
TZOFFSETTO:+0200
TZNAME:CEST
DTSTART:20240331T010000
END:DAYLIGHT
BEGIN:STANDARD
TZOFFSETFROM:+0200
TZOFFSETTO:+0100
TZNAME:CET
DTSTART:20241027T010000
END:STANDARD
END:VTIMEZONE
BEGIN:VEVENT
DTSTART;VALUE=DATE:20230701
DTEND;VALUE=DATE:20230703
DTSTAMP:20260425T025804
CREATED:20230612T094711Z
LAST-MODIFIED:20230612T094711Z
UID:10004484-1688169600-1688342399@poblenouurbandistrict.com
SUMMARY:[:ca]Palo Market Fest[:]
DESCRIPTION:1er Turno de visita de 12:00 a 17:00\n2º Turno de visita de 17:30 a 22:00
URL:https://poblenouurbandistrict.com/es/agenda/palo-market-fest/
LOCATION:Palo Alto\, Carrer dels Pellaires\, 30 - 38\, Barcelona\, 08019
CATEGORIES:Arte,Diseño,Gastronomía,Música
END:VEVENT
BEGIN:VEVENT
DTSTART;TZID=Europe/Madrid:20230701T170000
DTEND;TZID=Europe/Madrid:20230701T230000
DTSTAMP:20260425T025804
CREATED:20230630T170847Z
LAST-MODIFIED:20230630T170847Z
UID:10004522-1688230800-1688252400@poblenouurbandistrict.com
SUMMARY:[:ca]Wine Camp de vins naturals[:es]Wine Camp de vinos naturales[:]
DESCRIPTION:
URL:https://poblenouurbandistrict.com/es/agenda/wine-camp-de-vins-naturals/
LOCATION:Camping\, Carmen Amaya 18\, Barcelona\, Barcelona\, 08005\, Espanya
CATEGORIES:Gastronomía,Música
END:VEVENT
BEGIN:VEVENT
DTSTART;TZID=Europe/Madrid:20230702T170000
DTEND;TZID=Europe/Madrid:20230702T230000
DTSTAMP:20260425T025804
CREATED:20230630T170943Z
LAST-MODIFIED:20230630T170943Z
UID:10004523-1688317200-1688338800@poblenouurbandistrict.com
SUMMARY:[:ca]Wine Camp de vins naturals[:es]Wine Camp de vinos naturales[:]
DESCRIPTION:
URL:https://poblenouurbandistrict.com/es/agenda/wine-camp-de-vins-naturals-2/
LOCATION:Camping\, Carmen Amaya 18\, Barcelona\, Barcelona\, 08005\, Espanya
CATEGORIES:Gastronomía,Música
END:VEVENT
BEGIN:VEVENT
DTSTART;VALUE=DATE:20230705
DTEND;VALUE=DATE:20230706
DTSTAMP:20260425T025804
CREATED:20230612T115808Z
LAST-MODIFIED:20230612T115959Z
UID:10004503-1688515200-1688601599@poblenouurbandistrict.com
SUMMARY:[:ca]Concert: Colle Der Fomento Live & Bassi Maestro Dj set[:es]Concierto: Colle Der Fomento Live & Bassi Maestro Dj set[:]
DESCRIPTION:Aperturas de puertas: 20.00h\nInicio de concierto: 21.00H
URL:https://poblenouurbandistrict.com/es/agenda/concert-colle-der-fomento-live-bassi-maestro-dj-set/
LOCATION:Sala Wolf\, C/ dels Almogàvers\, 88\, Barcelona\, Barcelona\, 08018\, Espanya
CATEGORIES:Música
END:VEVENT
BEGIN:VEVENT
DTSTART;VALUE=DATE:20230705
DTEND;VALUE=DATE:20230707
DTSTAMP:20260425T025804
CREATED:20230612T104832Z
LAST-MODIFIED:20230612T105347Z
UID:10004491-1688515200-1688687999@poblenouurbandistrict.com
SUMMARY:[:ca]Mozart: "Réquiem"- Trevor Pinnock y Esemble o vos Omnes[:es]Mozart: "Réquiem"- Trevor Pinnock y Esemble o vos Omnes[:]
DESCRIPTION:Sala 1 Pau Casals – 19h
URL:https://poblenouurbandistrict.com/es/agenda/mozart-requiem-trevor-pinnock-y-esemble-o-vos-omnes/
LOCATION:L’Auditori\, Carrer de Lepant\, 150\, Barcelona\, 08013\, Espanya
CATEGORIES:Música
END:VEVENT
BEGIN:VEVENT
DTSTART;TZID=Europe/Madrid:20230707T210000
DTEND;TZID=Europe/Madrid:20230707T233000
DTSTAMP:20260425T025804
CREATED:20230612T120310Z
LAST-MODIFIED:20230707T143151Z
UID:10004504-1688763600-1688772600@poblenouurbandistrict.com
SUMMARY:[:ca]Bulsara - Tribut a Queen[:es]Bulsara - Tributo a Queen[:]
DESCRIPTION:Apertura de puertas: 20.00h\nInicio de concierto: 21.00h
URL:https://poblenouurbandistrict.com/es/agenda/concert-bulsara-tribut-a-queen/
LOCATION:Sala Wolf\, C/ dels Almogàvers\, 88\, Barcelona\, Barcelona\, 08018\, Espanya
CATEGORIES:Música
END:VEVENT
BEGIN:VEVENT
DTSTART;TZID=Europe/Madrid:20230708T200000
DTEND;TZID=Europe/Madrid:20230708T210000
DTSTAMP:20260425T025804
CREATED:20230612T105247Z
LAST-MODIFIED:20230707T161637Z
UID:10004535-1688846400-1688850000@poblenouurbandistrict.com
SUMMARY:[:ca]Fem una una bona pena abans de morir- Los Sara Fontan i Sònia Gómez[:es]Fem una una bona pena abans de morir - Los Sara Fontan i Sònia Gómez[:]
DESCRIPTION:Sala 3 Tete Montoliu – 20h
URL:https://poblenouurbandistrict.com/es/agenda/fem-una-una-bona-pena-abans-de-morir-los-sara-fontan-i-sonia-gomez/2023-07-08/
LOCATION:L’Auditori\, Carrer de Lepant\, 150\, Barcelona\, 08013\, Espanya
CATEGORIES:Música
END:VEVENT
BEGIN:VEVENT
DTSTART;TZID=Europe/Madrid:20230708T203000
DTEND;TZID=Europe/Madrid:20230708T230000
DTSTAMP:20260425T025804
CREATED:20230707T143302Z
LAST-MODIFIED:20230707T143302Z
UID:10004531-1688848200-1688857200@poblenouurbandistrict.com
SUMMARY:[:ca]Men I Trust + Marta Knight[:es]Men I Trust + Marta Knight[:]
DESCRIPTION:
URL:https://poblenouurbandistrict.com/es/agenda/men-i-trust-marta-knight/
LOCATION:Sala Razzmatazz\, C/ dels Almogàvers\, 122\, Barcelona\, Barcelona\, 08018\, Espanya
CATEGORIES:Música
END:VEVENT
BEGIN:VEVENT
DTSTART;TZID=Europe/Madrid:20230709T183000
DTEND;TZID=Europe/Madrid:20230709T203000
DTSTAMP:20260425T025804
CREATED:20230707T143407Z
LAST-MODIFIED:20230707T143407Z
UID:10004532-1688927400-1688934600@poblenouurbandistrict.com
SUMMARY:[:ca]Concert solidari de gòspel L'Aliança[:es]Concierto solidario de gospel L'Aliança[:]
DESCRIPTION:
URL:https://poblenouurbandistrict.com/es/agenda/concert-solidari-de-gospel-lalianca/
LOCATION:Casino l’aliança del Poblenou\, Rambla del Poblenou\, 42\,\, Barcelona\, Barcelona\, 08005\, Espanya
CATEGORIES:Música
END:VEVENT
BEGIN:VEVENT
DTSTART;TZID=Europe/Madrid:20230709T200000
DTEND;TZID=Europe/Madrid:20230709T210000
DTSTAMP:20260425T025804
CREATED:20230612T105247Z
LAST-MODIFIED:20230707T161637Z
UID:10004536-1688932800-1688936400@poblenouurbandistrict.com
SUMMARY:[:ca]Fem una una bona pena abans de morir- Los Sara Fontan i Sònia Gómez[:es]Fem una una bona pena abans de morir - Los Sara Fontan i Sònia Gómez[:]
DESCRIPTION:Sala 3 Tete Montoliu – 20h
URL:https://poblenouurbandistrict.com/es/agenda/fem-una-una-bona-pena-abans-de-morir-los-sara-fontan-i-sonia-gomez/2023-07-09/
LOCATION:L’Auditori\, Carrer de Lepant\, 150\, Barcelona\, 08013\, Espanya
CATEGORIES:Música
END:VEVENT
BEGIN:VEVENT
DTSTART;VALUE=DATE:20230712
DTEND;VALUE=DATE:20230713
DTSTAMP:20260425T025804
CREATED:20230612T105934Z
LAST-MODIFIED:20230612T105934Z
UID:10004493-1689120000-1689206399@poblenouurbandistrict.com
SUMMARY:[:ca]Festival Bachcelona- Masaaki Suzuki[:es]Festival Bachcelona- Masaaki Suzuki[:]
DESCRIPTION:Sala 2 Oriol Martorell – 19h
URL:https://poblenouurbandistrict.com/es/agenda/festival-bachcelona-masaaki-suzuki/
LOCATION:L’Auditori\, Carrer de Lepant\, 150\, Barcelona\, 08013\, Espanya
CATEGORIES:Música
END:VEVENT
BEGIN:VEVENT
DTSTART;TZID=Europe/Madrid:20230721T210000
DTEND;TZID=Europe/Madrid:20230721T230000
DTSTAMP:20260425T025804
CREATED:20230721T092724Z
LAST-MODIFIED:20230721T093739Z
UID:10005071-1689973200-1689980400@poblenouurbandistrict.com
SUMMARY:[:ca]Concert Santaferia[:es]Concierto Santaferia[:]
DESCRIPTION:
URL:https://poblenouurbandistrict.com/es/agenda/concert-santaferia/
LOCATION:La Nau
CATEGORIES:Música
END:VEVENT
BEGIN:VEVENT
DTSTART;TZID=Europe/Madrid:20230722T190000
DTEND;TZID=Europe/Madrid:20230722T230000
DTSTAMP:20260425T025804
CREATED:20230721T090311Z
LAST-MODIFIED:20230721T091438Z
UID:10004807-1690052400-1690066800@poblenouurbandistrict.com
SUMMARY:[:ca]Festi Camping[:es]Festi Camping[:]
DESCRIPTION:Danny Schiller \nHnos Munoz
URL:https://poblenouurbandistrict.com/es/agenda/festi-camping/
LOCATION:Sala Razzmatazz\, C/ dels Almogàvers\, 122\, Barcelona\, Barcelona\, 08018\, Espanya
CATEGORIES:Música
END:VEVENT
BEGIN:VEVENT
DTSTART;TZID=Europe/Madrid:20230726T210000
DTEND;TZID=Europe/Madrid:20230726T230000
DTSTAMP:20260425T025804
CREATED:20230721T094316Z
LAST-MODIFIED:20230721T094316Z
UID:10005198-1690405200-1690412400@poblenouurbandistrict.com
SUMMARY:[:ca]Concert Brett Dennen[:es]Concierto Brett Dennen[:]
DESCRIPTION:
URL:https://poblenouurbandistrict.com/es/agenda/concert-brett-dennen/
LOCATION:Sala Razzmatazz\, C/ dels Almogàvers\, 122\, Barcelona\, Barcelona\, 08018\, Espanya
CATEGORIES:Música
END:VEVENT
BEGIN:VEVENT
DTSTART;TZID=Europe/Madrid:20230727T200000
DTEND;TZID=Europe/Madrid:20230727T210000
DTSTAMP:20260425T025804
CREATED:20230721T094424Z
LAST-MODIFIED:20230721T094424Z
UID:10005199-1690488000-1690491600@poblenouurbandistrict.com
SUMMARY:[:ca]Cantates de Bach - Festival Bachcelona 2023[:es]Cantatas de Bach - Festival Bachcelona 2023[:]
DESCRIPTION:
URL:https://poblenouurbandistrict.com/es/agenda/cantates-de-bach-festival-bachcelona-2023/
LOCATION:L’Auditori\, Carrer de Lepant\, 150\, Barcelona\, 08013\, Espanya
CATEGORIES:Música
END:VEVENT
BEGIN:VEVENT
DTSTART;TZID=Europe/Madrid:20230728T203000
DTEND;TZID=Europe/Madrid:20230728T220000
DTSTAMP:20260425T025804
CREATED:20230728T084405Z
LAST-MODIFIED:20230728T084405Z
UID:10006622-1690576200-1690581600@poblenouurbandistrict.com
SUMMARY:[:ca]Concert Fuego Live! Dillom[:es]Concierto Fuego Live! Dillom[:]
DESCRIPTION:
URL:https://poblenouurbandistrict.com/es/agenda/concert-fuego-live-dillom/
LOCATION:Sala Razzmatazz\, C/ dels Almogàvers\, 122\, Barcelona\, Barcelona\, 08018\, Espanya
CATEGORIES:Música
END:VEVENT
BEGIN:VEVENT
DTSTART;TZID=Europe/Madrid:20230730T190000
DTEND;TZID=Europe/Madrid:20230730T230000
DTSTAMP:20260425T025804
CREATED:20230728T084551Z
LAST-MODIFIED:20230728T084551Z
UID:10006623-1690743600-1690758000@poblenouurbandistrict.com
SUMMARY:[:ca]Concert Batekoo[:es]Concierto Batekoo[:]
DESCRIPTION:
URL:https://poblenouurbandistrict.com/es/agenda/concert-batekoo/
LOCATION:La Nau
CATEGORIES:Música
END:VEVENT
END:VCALENDAR