BEGIN:VCALENDAR
VERSION:2.0
PRODID:-//Poblenou Urban District - ECPv6.15.20//NONSGML v1.0//EN
CALSCALE:GREGORIAN
METHOD:PUBLISH
X-ORIGINAL-URL:https://poblenouurbandistrict.com/es
X-WR-CALDESC:Eventos para Poblenou Urban District
REFRESH-INTERVAL;VALUE=DURATION:PT1H
X-Robots-Tag:noindex
X-PUBLISHED-TTL:PT1H
BEGIN:VTIMEZONE
TZID:Europe/Madrid
BEGIN:DAYLIGHT
TZOFFSETFROM:+0100
TZOFFSETTO:+0200
TZNAME:CEST
DTSTART:20220327T010000
END:DAYLIGHT
BEGIN:STANDARD
TZOFFSETFROM:+0200
TZOFFSETTO:+0100
TZNAME:CET
DTSTART:20221030T010000
END:STANDARD
BEGIN:DAYLIGHT
TZOFFSETFROM:+0100
TZOFFSETTO:+0200
TZNAME:CEST
DTSTART:20230326T010000
END:DAYLIGHT
BEGIN:STANDARD
TZOFFSETFROM:+0200
TZOFFSETTO:+0100
TZNAME:CET
DTSTART:20231029T010000
END:STANDARD
BEGIN:DAYLIGHT
TZOFFSETFROM:+0100
TZOFFSETTO:+0200
TZNAME:CEST
DTSTART:20240331T010000
END:DAYLIGHT
BEGIN:STANDARD
TZOFFSETFROM:+0200
TZOFFSETTO:+0100
TZNAME:CET
DTSTART:20241027T010000
END:STANDARD
END:VTIMEZONE
BEGIN:VEVENT
DTSTART;TZID=Europe/Madrid:20230904T210000
DTEND;TZID=Europe/Madrid:20230904T210000
DTSTAMP:20260424T224246
CREATED:20230929T114500Z
LAST-MODIFIED:20230929T114500Z
UID:10006743-1693861200-1693861200@poblenouurbandistrict.com
SUMMARY:[:ca]Concert "Telefunka"[:es]Concierto "Telefunka"[:]
DESCRIPTION:
URL:https://poblenouurbandistrict.com/es/agenda/concert-telefunka/
LOCATION:La Nau
CATEGORIES:Música
END:VEVENT
BEGIN:VEVENT
DTSTART;TZID=Europe/Madrid:20230905T190000
DTEND;TZID=Europe/Madrid:20230905T210000
DTSTAMP:20260424T224246
CREATED:20230727T165602Z
LAST-MODIFIED:20230908T145902Z
UID:10006507-1693940400-1693947600@poblenouurbandistrict.com
SUMMARY:[:ca]Afterwork amb DJ Jimmy Trias[:es]Afterwork con DJ Jimmy Trias[:]
DESCRIPTION:
URL:https://poblenouurbandistrict.com/es/agenda/afterwork-amb-dj-jimmy-trias/2023-09-05/
LOCATION:Novotel Barcelona City\, Av. Diagonal\, 201\, Barcelona\, Barcelona\, 08018\, Espanya
CATEGORIES:Música
END:VEVENT
BEGIN:VEVENT
DTSTART;TZID=Europe/Madrid:20230907T190000
DTEND;TZID=Europe/Madrid:20230907T210000
DTSTAMP:20260424T224246
CREATED:20230727T165602Z
LAST-MODIFIED:20230908T145902Z
UID:10006508-1694113200-1694120400@poblenouurbandistrict.com
SUMMARY:[:ca]Afterwork amb DJ Jimmy Trias[:es]Afterwork con DJ Jimmy Trias[:]
DESCRIPTION:
URL:https://poblenouurbandistrict.com/es/agenda/afterwork-amb-dj-jimmy-trias/2023-09-07/
LOCATION:Novotel Barcelona City\, Av. Diagonal\, 201\, Barcelona\, Barcelona\, 08018\, Espanya
CATEGORIES:Música
END:VEVENT
BEGIN:VEVENT
DTSTART;TZID=Europe/Madrid:20230908T170000
DTEND;TZID=Europe/Madrid:20230908T170000
DTSTAMP:20260424T224246
CREATED:20230908T095745Z
LAST-MODIFIED:20230908T144413Z
UID:10006641-1694192400-1694192400@poblenouurbandistrict.com
SUMMARY:[:ca]Cervesa i música d'Ohm Sweet Ohm[:es]Cerveza y música de Ohm Sweet Ohm[:]
DESCRIPTION:
URL:https://poblenouurbandistrict.com/es/agenda/musica-i-cervesa-de-ohm-sweet-ohm/
LOCATION:Garage Beer\, Calvell\, 45\, Barcelona\, Catalunya\, 08005\, Espanya
CATEGORIES:Música
END:VEVENT
BEGIN:VEVENT
DTSTART;TZID=Europe/Madrid:20230908T200000
DTEND;TZID=Europe/Madrid:20230908T200000
DTSTAMP:20260424T224246
CREATED:20230908T092659Z
LAST-MODIFIED:20230908T144656Z
UID:10006639-1694203200-1694203200@poblenouurbandistrict.com
SUMMARY:[:ca]“Ferides”\, òpera en català d’estil mozartià[:es]"Ferides"\, ópera en catalán de estilo mozartiano[:]
DESCRIPTION:
URL:https://poblenouurbandistrict.com/es/agenda/ferides-opera-en-catala-destil-mozartia/
LOCATION:Casino l’aliança del Poblenou\, Rambla del Poblenou\, 42\,\, Barcelona\, Barcelona\, 08005\, Espanya
CATEGORIES:Música,Teatro
END:VEVENT
BEGIN:VEVENT
DTSTART;TZID=Europe/Madrid:20230908T203000
DTEND;TZID=Europe/Madrid:20230908T220000
DTSTAMP:20260424T224246
CREATED:20230908T102545Z
LAST-MODIFIED:20230915T173150Z
UID:10006645-1694205000-1694210400@poblenouurbandistrict.com
SUMMARY:[:ca]Live Music[:es]Live Music[:]
DESCRIPTION:
URL:https://poblenouurbandistrict.com/es/agenda/live-music-i-dj-set/2023-09-08/
LOCATION:Trikini\, Pujades\, 226\, Barcelona\, Catalunya\, 08005\, Espanya
CATEGORIES:Música
END:VEVENT
BEGIN:VEVENT
DTSTART;TZID=Europe/Madrid:20230908T223000
DTEND;TZID=Europe/Madrid:20230909T000000
DTSTAMP:20260424T224246
CREATED:20230908T191731Z
LAST-MODIFIED:20230915T173105Z
UID:10006661-1694212200-1694217600@poblenouurbandistrict.com
SUMMARY:[:ca]Dj Set[:es]Dj Set[:]
DESCRIPTION:
URL:https://poblenouurbandistrict.com/es/agenda/dj-set/2023-09-08/
LOCATION:Trikini\, Pujades\, 226\, Barcelona\, Catalunya\, 08005\, Espanya
CATEGORIES:Música
END:VEVENT
BEGIN:VEVENT
DTSTART;TZID=Europe/Madrid:20230909T120000
DTEND;TZID=Europe/Madrid:20230910T220000
DTSTAMP:20260424T224246
CREATED:20230908T110815Z
LAST-MODIFIED:20230908T110815Z
UID:10006657-1694260800-1694383200@poblenouurbandistrict.com
SUMMARY:[:ca]Palo Market Fest[:es]Palo Market Fest[:]
DESCRIPTION:
URL:https://poblenouurbandistrict.com/es/agenda/palo-market-fest-2/
LOCATION:Palo Alto\, Carrer dels Pellaires\, 30 - 38\, Barcelona\, 08019
CATEGORIES:Arte,Gastronomía,Música
END:VEVENT
BEGIN:VEVENT
DTSTART;TZID=Europe/Madrid:20230909T180000
DTEND;TZID=Europe/Madrid:20230909T220000
DTSTAMP:20260424T224246
CREATED:20230908T104327Z
LAST-MODIFIED:20230908T104327Z
UID:10006649-1694282400-1694296800@poblenouurbandistrict.com
SUMMARY:[:ca]Dj Set amb Paez Calderon + còctels[:es]Dj Set con Paez Calderon + cócteles[:]
DESCRIPTION:
URL:https://poblenouurbandistrict.com/es/agenda/dj-set-amb-paez-calderon-coctels/
LOCATION:Local 225\, Dr. Trueta\, 225\, Barcelona\, Catalunya\, 08005\, Espanya
CATEGORIES:Gastronomía,Música
END:VEVENT
BEGIN:VEVENT
DTSTART;TZID=Europe/Madrid:20230909T203000
DTEND;TZID=Europe/Madrid:20230909T220000
DTSTAMP:20260424T224246
CREATED:20230908T102545Z
LAST-MODIFIED:20230915T173150Z
UID:10006659-1694291400-1694296800@poblenouurbandistrict.com
SUMMARY:[:ca]Live Music[:es]Live Music[:]
DESCRIPTION:
URL:https://poblenouurbandistrict.com/es/agenda/live-music-i-dj-set/2023-09-09/
LOCATION:Trikini\, Pujades\, 226\, Barcelona\, Catalunya\, 08005\, Espanya
CATEGORIES:Música
END:VEVENT
BEGIN:VEVENT
DTSTART;TZID=Europe/Madrid:20230909T223000
DTEND;TZID=Europe/Madrid:20230909T233000
DTSTAMP:20260424T224246
CREATED:20230908T191731Z
LAST-MODIFIED:20230915T173105Z
UID:10006662-1694298600-1694302200@poblenouurbandistrict.com
SUMMARY:[:ca]Dj Set[:es]Dj Set[:]
DESCRIPTION:
URL:https://poblenouurbandistrict.com/es/agenda/dj-set/2023-09-09/
LOCATION:Trikini\, Pujades\, 226\, Barcelona\, Catalunya\, 08005\, Espanya
CATEGORIES:Música
END:VEVENT
BEGIN:VEVENT
DTSTART;TZID=Europe/Madrid:20230910T200000
DTEND;TZID=Europe/Madrid:20230910T200000
DTSTAMP:20260424T224246
CREATED:20230908T105936Z
LAST-MODIFIED:20230908T192116Z
UID:10006656-1694376000-1694376000@poblenouurbandistrict.com
SUMMARY:[:ca]DESAFINADO - Latin Session[:es]DESAFINADO - Latin Session[:]
DESCRIPTION:
URL:https://poblenouurbandistrict.com/es/agenda/desafinado-latin-session/
LOCATION:La Nau
CATEGORIES:Música
END:VEVENT
BEGIN:VEVENT
DTSTART;TZID=Europe/Madrid:20230910T203000
DTEND;TZID=Europe/Madrid:20230910T220000
DTSTAMP:20260424T224246
CREATED:20230908T102545Z
LAST-MODIFIED:20230915T173150Z
UID:10006660-1694377800-1694383200@poblenouurbandistrict.com
SUMMARY:[:ca]Live Music[:es]Live Music[:]
DESCRIPTION:
URL:https://poblenouurbandistrict.com/es/agenda/live-music-i-dj-set/2023-09-10/
LOCATION:Trikini\, Pujades\, 226\, Barcelona\, Catalunya\, 08005\, Espanya
CATEGORIES:Música
END:VEVENT
BEGIN:VEVENT
DTSTART;TZID=Europe/Madrid:20230910T223000
DTEND;TZID=Europe/Madrid:20230910T233000
DTSTAMP:20260424T224246
CREATED:20230908T191731Z
LAST-MODIFIED:20230915T173105Z
UID:10006663-1694385000-1694388600@poblenouurbandistrict.com
SUMMARY:[:ca]Dj Set[:es]Dj Set[:]
DESCRIPTION:
URL:https://poblenouurbandistrict.com/es/agenda/dj-set/2023-09-10/
LOCATION:Trikini\, Pujades\, 226\, Barcelona\, Catalunya\, 08005\, Espanya
CATEGORIES:Música
END:VEVENT
BEGIN:VEVENT
DTSTART;TZID=Europe/Madrid:20230912T190000
DTEND;TZID=Europe/Madrid:20230912T210000
DTSTAMP:20260424T224246
CREATED:20230727T165602Z
LAST-MODIFIED:20230908T145902Z
UID:10006509-1694545200-1694552400@poblenouurbandistrict.com
SUMMARY:[:ca]Afterwork amb DJ Jimmy Trias[:es]Afterwork con DJ Jimmy Trias[:]
DESCRIPTION:
URL:https://poblenouurbandistrict.com/es/agenda/afterwork-amb-dj-jimmy-trias/2023-09-12/
LOCATION:Novotel Barcelona City\, Av. Diagonal\, 201\, Barcelona\, Barcelona\, 08018\, Espanya
CATEGORIES:Música
END:VEVENT
BEGIN:VEVENT
DTSTART;TZID=Europe/Madrid:20230914T190000
DTEND;TZID=Europe/Madrid:20230914T210000
DTSTAMP:20260424T224246
CREATED:20230727T165602Z
LAST-MODIFIED:20230908T145902Z
UID:10006510-1694718000-1694725200@poblenouurbandistrict.com
SUMMARY:[:ca]Afterwork amb DJ Jimmy Trias[:es]Afterwork con DJ Jimmy Trias[:]
DESCRIPTION:
URL:https://poblenouurbandistrict.com/es/agenda/afterwork-amb-dj-jimmy-trias/2023-09-14/
LOCATION:Novotel Barcelona City\, Av. Diagonal\, 201\, Barcelona\, Barcelona\, 08018\, Espanya
CATEGORIES:Música
END:VEVENT
BEGIN:VEVENT
DTSTART;TZID=Europe/Madrid:20230915T000000
DTEND;TZID=Europe/Madrid:20230915T060000
DTSTAMP:20260424T224246
CREATED:20230913T110619Z
LAST-MODIFIED:20230913T110619Z
UID:10006669-1694736000-1694757600@poblenouurbandistrict.com
SUMMARY:[:ca]Wolf Party [:es]Wolf Party[:]
DESCRIPTION:
URL:https://poblenouurbandistrict.com/es/agenda/wolf-party-3/
LOCATION:Sala Wolf\, C/ dels Almogàvers\, 88\, Barcelona\, Barcelona\, 08018\, Espanya
CATEGORIES:Música
END:VEVENT
BEGIN:VEVENT
DTSTART;TZID=Europe/Madrid:20230915T203000
DTEND;TZID=Europe/Madrid:20230915T220000
DTSTAMP:20260424T224246
CREATED:20230908T102545Z
LAST-MODIFIED:20230915T173150Z
UID:10006688-1694809800-1694815200@poblenouurbandistrict.com
SUMMARY:[:ca]Live Music[:es]Live Music[:]
DESCRIPTION:
URL:https://poblenouurbandistrict.com/es/agenda/live-music-i-dj-set/2023-09-15/
LOCATION:Trikini\, Pujades\, 226\, Barcelona\, Catalunya\, 08005\, Espanya
CATEGORIES:Música
END:VEVENT
BEGIN:VEVENT
DTSTART;TZID=Europe/Madrid:20230915T223000
DTEND;TZID=Europe/Madrid:20230915T233000
DTSTAMP:20260424T224246
CREATED:20230908T191731Z
LAST-MODIFIED:20230915T173105Z
UID:10006686-1694817000-1694820600@poblenouurbandistrict.com
SUMMARY:[:ca]Dj Set[:es]Dj Set[:]
DESCRIPTION:
URL:https://poblenouurbandistrict.com/es/agenda/dj-set/2023-09-15/
LOCATION:Trikini\, Pujades\, 226\, Barcelona\, Catalunya\, 08005\, Espanya
CATEGORIES:Música
END:VEVENT
BEGIN:VEVENT
DTSTART;TZID=Europe/Madrid:20230916T190000
DTEND;TZID=Europe/Madrid:20230916T210000
DTSTAMP:20260424T224246
CREATED:20230913T143958Z
LAST-MODIFIED:20230913T143958Z
UID:10006675-1694890800-1694898000@poblenouurbandistrict.com
SUMMARY:[:ca]Concert Los Coming Soon[:es]Concierto Los Coming Soon[:]
DESCRIPTION:
URL:https://poblenouurbandistrict.com/es/agenda/concert-los-coming-soon/
LOCATION:Bruncherie\, Fluvià\, 58\, Barcelona\, 08019\, Espanya
CATEGORIES:Música
END:VEVENT
BEGIN:VEVENT
DTSTART;TZID=Europe/Madrid:20230916T200000
DTEND;TZID=Europe/Madrid:20230916T200000
DTSTAMP:20260424T224246
CREATED:20230913T111750Z
LAST-MODIFIED:20230913T111750Z
UID:10006672-1694894400-1694894400@poblenouurbandistrict.com
SUMMARY:[:ca]Concert- Red Blood Shoes[:es]Concierto- Red Blood Shoes[:]
DESCRIPTION:
URL:https://poblenouurbandistrict.com/es/agenda/concert-red-blood-shoes/
LOCATION:La Nau
CATEGORIES:Música
END:VEVENT
BEGIN:VEVENT
DTSTART;TZID=Europe/Madrid:20230916T200000
DTEND;TZID=Europe/Madrid:20230916T230000
DTSTAMP:20260424T224246
CREATED:20230913T110752Z
LAST-MODIFIED:20230913T110752Z
UID:10006670-1694894400-1694905200@poblenouurbandistrict.com
SUMMARY:[:ca]Trash N The Hood[:es]Trash N The Hood[:]
DESCRIPTION:
URL:https://poblenouurbandistrict.com/es/agenda/trash-n-the-hood/
LOCATION:Trash Talk\, C. de Pere IV\, 244\, Barcelona\, 08005\, España
CATEGORIES:Música
END:VEVENT
BEGIN:VEVENT
DTSTART;TZID=Europe/Madrid:20230916T203000
DTEND;TZID=Europe/Madrid:20230916T220000
DTSTAMP:20260424T224246
CREATED:20230908T102545Z
LAST-MODIFIED:20230915T173150Z
UID:10006689-1694896200-1694901600@poblenouurbandistrict.com
SUMMARY:[:ca]Live Music[:es]Live Music[:]
DESCRIPTION:
URL:https://poblenouurbandistrict.com/es/agenda/live-music-i-dj-set/2023-09-16/
LOCATION:Trikini\, Pujades\, 226\, Barcelona\, Catalunya\, 08005\, Espanya
CATEGORIES:Música
END:VEVENT
BEGIN:VEVENT
DTSTART;TZID=Europe/Madrid:20230916T223000
DTEND;TZID=Europe/Madrid:20230916T233000
DTSTAMP:20260424T224246
CREATED:20230908T191731Z
LAST-MODIFIED:20230915T173105Z
UID:10006687-1694903400-1694907000@poblenouurbandistrict.com
SUMMARY:[:ca]Dj Set[:es]Dj Set[:]
DESCRIPTION:
URL:https://poblenouurbandistrict.com/es/agenda/dj-set/2023-09-16/
LOCATION:Trikini\, Pujades\, 226\, Barcelona\, Catalunya\, 08005\, Espanya
CATEGORIES:Música
END:VEVENT
BEGIN:VEVENT
DTSTART;TZID=Europe/Madrid:20230919T190000
DTEND;TZID=Europe/Madrid:20230919T210000
DTSTAMP:20260424T224246
CREATED:20230727T165602Z
LAST-MODIFIED:20230908T145902Z
UID:10006511-1695150000-1695157200@poblenouurbandistrict.com
SUMMARY:[:ca]Afterwork amb DJ Jimmy Trias[:es]Afterwork con DJ Jimmy Trias[:]
DESCRIPTION:
URL:https://poblenouurbandistrict.com/es/agenda/afterwork-amb-dj-jimmy-trias/2023-09-19/
LOCATION:Novotel Barcelona City\, Av. Diagonal\, 201\, Barcelona\, Barcelona\, 08018\, Espanya
CATEGORIES:Música
END:VEVENT
BEGIN:VEVENT
DTSTART;TZID=Europe/Madrid:20230921T190000
DTEND;TZID=Europe/Madrid:20230921T210000
DTSTAMP:20260424T224246
CREATED:20230727T165602Z
LAST-MODIFIED:20230908T145902Z
UID:10006512-1695322800-1695330000@poblenouurbandistrict.com
SUMMARY:[:ca]Afterwork amb DJ Jimmy Trias[:es]Afterwork con DJ Jimmy Trias[:]
DESCRIPTION:
URL:https://poblenouurbandistrict.com/es/agenda/afterwork-amb-dj-jimmy-trias/2023-09-21/
LOCATION:Novotel Barcelona City\, Av. Diagonal\, 201\, Barcelona\, Barcelona\, 08018\, Espanya
CATEGORIES:Música
END:VEVENT
BEGIN:VEVENT
DTSTART;TZID=Europe/Madrid:20230922T204500
DTEND;TZID=Europe/Madrid:20230922T204500
DTSTAMP:20260424T224246
CREATED:20230920T094737Z
LAST-MODIFIED:20230920T094737Z
UID:10006698-1695415500-1695415500@poblenouurbandistrict.com
SUMMARY:[:ca]La Banda en la Mercè[:es]La Banda en la Mercè[:]
DESCRIPTION:
URL:https://poblenouurbandistrict.com/es/agenda/la-banda-en-la-merce/
CATEGORIES:Música
END:VEVENT
BEGIN:VEVENT
DTSTART;TZID=Europe/Madrid:20230922T210000
DTEND;TZID=Europe/Madrid:20230923T020000
DTSTAMP:20260424T224246
CREATED:20230920T095810Z
LAST-MODIFIED:20230920T095810Z
UID:10006702-1695416400-1695434400@poblenouurbandistrict.com
SUMMARY:[:ca]Mutarte: Live Painting y música[:es]Mutarte: Live Painting i música[:]
DESCRIPTION:
URL:https://poblenouurbandistrict.com/es/agenda/mutarte-live-painting-y-musica/
LOCATION:La Nau
CATEGORIES:Arte,Música
END:VEVENT
BEGIN:VEVENT
DTSTART;TZID=Europe/Madrid:20230923T000000
DTEND;TZID=Europe/Madrid:20230923T000000
DTSTAMP:20260424T224246
CREATED:20230920T100729Z
LAST-MODIFIED:20230920T100921Z
UID:10006705-1695427200-1695427200@poblenouurbandistrict.com
SUMMARY:[:ca]Concert: Lalo López- Limited Orchestra[:es]Concierto: Lalo López- Limited Orchestra[:]
DESCRIPTION:
URL:https://poblenouurbandistrict.com/es/agenda/concierto-lalo-lopez-limited-orchestra/
LOCATION:Nación Funk\, Pallars\, 74\, Barcelona\, Catalunya\, 08018\, Espanya
CATEGORIES:Música
END:VEVENT
BEGIN:VEVENT
DTSTART;TZID=Europe/Madrid:20230923T204500
DTEND;TZID=Europe/Madrid:20230923T204500
DTSTAMP:20260424T224246
CREATED:20230920T095050Z
LAST-MODIFIED:20230920T095050Z
UID:10006699-1695501900-1695501900@poblenouurbandistrict.com
SUMMARY:[:ca]La OBC en la Mercè: "La Quinta" de Chaikovski[:es]La OBC en la Mercè: La Quinta de Chaikovski[:]
DESCRIPTION:
URL:https://poblenouurbandistrict.com/es/agenda/la-obc-en-la-merce-la-quinta-de-chaikovski/
CATEGORIES:Música
END:VEVENT
END:VCALENDAR