BEGIN:VCALENDAR
VERSION:2.0
PRODID:-//Poblenou Urban District - ECPv6.15.20//NONSGML v1.0//EN
CALSCALE:GREGORIAN
METHOD:PUBLISH
X-WR-CALNAME:Poblenou Urban District
X-ORIGINAL-URL:https://poblenouurbandistrict.com/es
X-WR-CALDESC:Eventos para Poblenou Urban District
REFRESH-INTERVAL;VALUE=DURATION:PT1H
X-Robots-Tag:noindex
X-PUBLISHED-TTL:PT1H
BEGIN:VTIMEZONE
TZID:Europe/Madrid
BEGIN:DAYLIGHT
TZOFFSETFROM:+0100
TZOFFSETTO:+0200
TZNAME:CEST
DTSTART:20230326T010000
END:DAYLIGHT
BEGIN:STANDARD
TZOFFSETFROM:+0200
TZOFFSETTO:+0100
TZNAME:CET
DTSTART:20231029T010000
END:STANDARD
BEGIN:DAYLIGHT
TZOFFSETFROM:+0100
TZOFFSETTO:+0200
TZNAME:CEST
DTSTART:20240331T010000
END:DAYLIGHT
BEGIN:STANDARD
TZOFFSETFROM:+0200
TZOFFSETTO:+0100
TZNAME:CET
DTSTART:20241027T010000
END:STANDARD
BEGIN:DAYLIGHT
TZOFFSETFROM:+0100
TZOFFSETTO:+0200
TZNAME:CEST
DTSTART:20250330T010000
END:DAYLIGHT
BEGIN:STANDARD
TZOFFSETFROM:+0200
TZOFFSETTO:+0100
TZNAME:CET
DTSTART:20251026T010000
END:STANDARD
END:VTIMEZONE
BEGIN:VEVENT
DTSTART;VALUE=DATE:20240601
DTEND;VALUE=DATE:20240603
DTSTAMP:20260424T061711
CREATED:20240521T162752Z
LAST-MODIFIED:20240521T162752Z
UID:10006802-1717200000-1717372799@poblenouurbandistrict.com
SUMMARY:Palo Market Fest
DESCRIPTION:
URL:https://poblenouurbandistrict.com/es/agenda/palo-market-fest-6/
LOCATION:Palo Alto\, Carrer dels Pellaires\, 30 - 38\, Barcelona\, 08019
CATEGORIES:Gastronomía,Música
END:VEVENT
BEGIN:VEVENT
DTSTART;TZID=Europe/Madrid:20240602T190000
DTEND;TZID=Europe/Madrid:20240602T210000
DTSTAMP:20260424T061712
CREATED:20240523T112158Z
LAST-MODIFIED:20240523T112158Z
UID:10006809-1717354800-1717362000@poblenouurbandistrict.com
SUMMARY:DESAFINADO Vol. X Latin Edition
DESCRIPTION:
URL:https://poblenouurbandistrict.com/es/agenda/desafinado-vol-x-latin-edition/
LOCATION:La Nau
CATEGORIES:Música
END:VEVENT
BEGIN:VEVENT
DTSTART;TZID=Europe/Madrid:20240606T180000
DTEND;TZID=Europe/Madrid:20240606T200000
DTSTAMP:20260424T061712
CREATED:20240605T090245Z
LAST-MODIFIED:20240605T090245Z
UID:10006825-1717696800-1717704000@poblenouurbandistrict.com
SUMMARY:B48_TALK presents Marco Faraone
DESCRIPTION:
URL:https://poblenouurbandistrict.com/es/agenda/b48_talk-presents-marco-faraone/
LOCATION:Bridge_48\, Carrer de Llull\, 48\, Barcelona\, 08005
CATEGORIES:Música,Charla
ATTACH;FMTTYPE=image/jpeg:https://media.poblenouurbandistrict.com/2024/06/25073937/bridge-talk-faraone-cuadrada.jpg
END:VEVENT
BEGIN:VEVENT
DTSTART;TZID=Europe/Madrid:20240607T170000
DTEND;TZID=Europe/Madrid:20240607T190000
DTSTAMP:20260424T061712
CREATED:20240603T161254Z
LAST-MODIFIED:20240603T161254Z
UID:10006823-1717779600-1717786800@poblenouurbandistrict.com
SUMMARY:Workshop El Oficio del Músico
DESCRIPTION:
URL:https://poblenouurbandistrict.com/es/agenda/workshop-el-oficio-del-musico/
LOCATION:SAE Barcelona\, C/ del Perú\, 176\, Barcelona\, 08020
CATEGORIES:Música,Charla
ATTACH;FMTTYPE=image/jpeg:https://media.poblenouurbandistrict.com/2024/06/25073913/captura-de-pantalla-2024-06-03-181138.jpg
END:VEVENT
BEGIN:VEVENT
DTSTART;TZID=Europe/Madrid:20240607T180000
DTEND;TZID=Europe/Madrid:20240607T200000
DTSTAMP:20260424T061712
CREATED:20240605T090442Z
LAST-MODIFIED:20240605T090449Z
UID:10006826-1717783200-1717790400@poblenouurbandistrict.com
SUMMARY:B48_TALK presents Davide Squillace
DESCRIPTION:
URL:https://poblenouurbandistrict.com/es/agenda/b48_talk-presents-davide-squillace/
LOCATION:Bridge_48\, Carrer de Llull\, 48\, Barcelona\, 08005
CATEGORIES:Música,Charla
ATTACH;FMTTYPE=image/jpeg:https://media.poblenouurbandistrict.com/2024/06/25073940/bridge-talk-squillace-cuadrada.jpg
END:VEVENT
BEGIN:VEVENT
DTSTART;VALUE=DATE:20240608
DTEND;VALUE=DATE:20240609
DTSTAMP:20260424T061712
CREATED:20240527T164256Z
LAST-MODIFIED:20240603T144519Z
UID:10006813-1717804800-1717891199@poblenouurbandistrict.com
SUMMARY:[:ca]5e Aniversari Bridge_48[:es]5o Aniversario Bridge_48[:en]5th Anniversary Bridge_48[:]
DESCRIPTION:
URL:https://poblenouurbandistrict.com/es/agenda/5e-aniversari-bridge_48/
LOCATION:Hola Club Sitges\, cala vallcarca\, C-31\, Sitges\, Barcelona\, 08871\, Espanya
CATEGORIES:Música
ATTACH;FMTTYPE=image/jpeg:https://media.poblenouurbandistrict.com/2024/05/25073848/2-flyer-1-1.jpg
END:VEVENT
BEGIN:VEVENT
DTSTART;TZID=Europe/Madrid:20240616T110000
DTEND;TZID=Europe/Madrid:20240616T200000
DTSTAMP:20260424T061712
CREATED:20240610T142842Z
LAST-MODIFIED:20240610T143433Z
UID:10006827-1718535600-1718568000@poblenouurbandistrict.com
SUMMARY:Lost&Found by Van Van
DESCRIPTION:
URL:https://poblenouurbandistrict.com/es/agenda/lostfound-by-van-van/
LOCATION:Plaça del mar\, Plaça del mar\, Barcelona\, 08003\, Espanya
CATEGORIES:Diseño,Gastronomía,Música
END:VEVENT
BEGIN:VEVENT
DTSTART;TZID=Europe/Madrid:20240620T170000
DTEND;TZID=Europe/Madrid:20240620T190000
DTSTAMP:20260424T061712
CREATED:20240619T113936Z
LAST-MODIFIED:20240619T115104Z
UID:10006833-1718902800-1718910000@poblenouurbandistrict.com
SUMMARY:[:ca]Workshop: El món dels teclats amb Lídia Facerías[:es]Workshop: El mundo de los teclados con Lidia Facerías[:en]Workshop: The world of keyboards with Lídia Facerías[:]
DESCRIPTION:
URL:https://poblenouurbandistrict.com/es/agenda/workshop-el-mon-dels-teclats-amb-lidia-facerias/
LOCATION:SAE Barcelona\, C/ del Perú\, 176\, Barcelona\, 08020
CATEGORIES:Música,Taller
END:VEVENT
BEGIN:VEVENT
DTSTART;VALUE=DATE:20240621
DTEND;VALUE=DATE:20240622
DTSTAMP:20260424T061712
CREATED:20240528T112833Z
LAST-MODIFIED:20240528T115417Z
UID:10006816-1718928000-1719014399@poblenouurbandistrict.com
SUMMARY:[:ca]Jornada de portes obertes - Dia de la música[:es]Jornada de puertas abiertas - Día de la música[:en]Open Day - Music Day[:]
DESCRIPTION:
URL:https://poblenouurbandistrict.com/es/agenda/jornada-de-portes-obertes-dia-de-la-musica/
LOCATION:L’Auditori\, Carrer de Lepant\, 150\, Barcelona\, 08013\, Espanya
CATEGORIES:Exposición,Música
ATTACH;FMTTYPE=image/jpeg:https://media.poblenouurbandistrict.com/2024/05/25073726/lauditori.jpg
END:VEVENT
BEGIN:VEVENT
DTSTART;TZID=Europe/Madrid:20240621T223000
DTEND;TZID=Europe/Madrid:20240622T030000
DTSTAMP:20260424T061712
CREATED:20240621T113635Z
LAST-MODIFIED:20240621T114138Z
UID:10006835-1719009000-1719025200@poblenouurbandistrict.com
SUMMARY:Textura x La Nau
DESCRIPTION:
URL:https://poblenouurbandistrict.com/es/agenda/textura-x-la-nau/
LOCATION:La Nau
CATEGORIES:Música
ATTACH;FMTTYPE=image/jpeg:https://media.poblenouurbandistrict.com/2024/06/25074401/la-nau.jpg
END:VEVENT
END:VCALENDAR