BEGIN:VCALENDAR
VERSION:2.0
PRODID:-//Poblenou Urban District - ECPv6.15.20//NONSGML v1.0//EN
CALSCALE:GREGORIAN
METHOD:PUBLISH
X-ORIGINAL-URL:https://poblenouurbandistrict.com/es
X-WR-CALDESC:Eventos para Poblenou Urban District
REFRESH-INTERVAL;VALUE=DURATION:PT1H
X-Robots-Tag:noindex
X-PUBLISHED-TTL:PT1H
BEGIN:VTIMEZONE
TZID:Europe/Madrid
BEGIN:DAYLIGHT
TZOFFSETFROM:+0100
TZOFFSETTO:+0200
TZNAME:CEST
DTSTART:20230326T010000
END:DAYLIGHT
BEGIN:STANDARD
TZOFFSETFROM:+0200
TZOFFSETTO:+0100
TZNAME:CET
DTSTART:20231029T010000
END:STANDARD
BEGIN:DAYLIGHT
TZOFFSETFROM:+0100
TZOFFSETTO:+0200
TZNAME:CEST
DTSTART:20240331T010000
END:DAYLIGHT
BEGIN:STANDARD
TZOFFSETFROM:+0200
TZOFFSETTO:+0100
TZNAME:CET
DTSTART:20241027T010000
END:STANDARD
BEGIN:DAYLIGHT
TZOFFSETFROM:+0100
TZOFFSETTO:+0200
TZNAME:CEST
DTSTART:20250330T010000
END:DAYLIGHT
BEGIN:STANDARD
TZOFFSETFROM:+0200
TZOFFSETTO:+0100
TZNAME:CET
DTSTART:20251026T010000
END:STANDARD
END:VTIMEZONE
BEGIN:VEVENT
DTSTART;TZID=Europe/Madrid:20240914T170000
DTEND;TZID=Europe/Madrid:20240914T233000
DTSTAMP:20260424T001926
CREATED:20240909T141029Z
LAST-MODIFIED:20240909T141557Z
UID:10006839-1726333200-1726356600@poblenouurbandistrict.com
SUMMARY:[:ca]BRIDGE_48 i FX BARCELONA FILM SCHOOL presenten 48X Live Music Experience[:es]BRIDGE_48 Y FX BARCELONA FILM SCHOOL presentan 48X Live Music Experience[:]
DESCRIPTION:
URL:https://poblenouurbandistrict.com/es/agenda/bridge_48-i-fx-barcelona-film-school-presenten-48x-live-music-experience/
LOCATION:FX Barcelona Film School\, C. de Pujades\, 112\, Barcelona\, Catalunya\, 08005\, Espanya
CATEGORIES:Música
ATTACH;FMTTYPE=image/jpeg:https://media.poblenouurbandistrict.com/2024/09/25074929/cartel-48x.jpg
END:VEVENT
BEGIN:VEVENT
DTSTART;TZID=Europe/Madrid:20240918T193000
DTEND;TZID=Europe/Madrid:20240918T210000
DTSTAMP:20260424T001926
CREATED:20240918T091303Z
LAST-MODIFIED:20240918T091303Z
UID:10006856-1726687800-1726693200@poblenouurbandistrict.com
SUMMARY:MÚSICA A CIEGAS: The Beatles\, Revolver
DESCRIPTION:Cada martes\, miércoles y domingo\, te invitamos a vivir una experiencia única en BRIDGE: Música a Ciegas. \nMúsica a Ciegas es una oportunidad para escuchar discos de tus artistas favoritos en completa oscuridad\, con un sonido inmersivo que transforma la manera en que disfrutas de la música. \nEste ciclo se convierte en un laboratorio musical de alta fidelidad\, permitiéndote disfrutar sin distracciones de algunos de los discos más emblemáticos de la historia de la música. Desde Pink Floyd hasta Rosalía\, pasando por Frank Ocean\, Radiohead\, Kendrick Lamar y Daft Punk\, sin olvidar a los Beatles\, Queen\, Depeche Mode\, Tyler\, the Creator y Taylor Swift. Las posibilidades de Música a Ciegas son incontables\, y seguro que tarde o temprano encontrarás un disco que querrás escuchar con sonido envolvente.
URL:https://poblenouurbandistrict.com/es/agenda/musica-a-ciegas-the-beatles-revolver/
LOCATION:Bridge_48\, Carrer de Llull\, 48\, Barcelona\, 08005
CATEGORIES:Música
ATTACH;FMTTYPE=image/png:https://media.poblenouurbandistrict.com/2024/09/25075247/musica-a-ciegas-1.png
END:VEVENT
BEGIN:VEVENT
DTSTART;TZID=Europe/Madrid:20240918T210000
DTEND;TZID=Europe/Madrid:20240918T223000
DTSTAMP:20260424T001926
CREATED:20240918T091558Z
LAST-MODIFIED:20240918T091707Z
UID:10006858-1726693200-1726698600@poblenouurbandistrict.com
SUMMARY:MÚSICA A CIEGAS: Arctic Monkeys\, AM
DESCRIPTION:Cada martes\, miércoles y domingo\, te invitamos a vivir una experiencia única en BRIDGE: Música a Ciegas. \nMúsica a Ciegas es una oportunidad para escuchar discos de tus artistas favoritos en completa oscuridad\, con un sonido inmersivo que transforma la manera en que disfrutas de la música. \nEste ciclo se convierte en un laboratorio musical de alta fidelidad\, permitiéndote disfrutar sin distracciones de algunos de los discos más emblemáticos de la historia de la música. Desde Pink Floyd hasta Rosalía\, pasando por Frank Ocean\, Radiohead\, Kendrick Lamar y Daft Punk\, sin olvidar a los Beatles\, Queen\, Depeche Mode\, Tyler\, the Creator y Taylor Swift. Las posibilidades de Música a Ciegas son incontables\, y seguro que tarde o temprano encontrarás un disco que querrás escuchar con sonido envolvente.
URL:https://poblenouurbandistrict.com/es/agenda/musica-a-ciegas-arctic-monkeys-am/
LOCATION:Bridge_48\, Carrer de Llull\, 48\, Barcelona\, 08005
CATEGORIES:Música
ATTACH;FMTTYPE=image/png:https://media.poblenouurbandistrict.com/2024/09/25075247/musica-a-ciegas-1.png
END:VEVENT
BEGIN:VEVENT
DTSTART;TZID=Europe/Madrid:20240920T183000
DTEND;TZID=Europe/Madrid:20240920T223000
DTSTAMP:20260424T001926
CREATED:20240918T081909Z
LAST-MODIFIED:20240918T084601Z
UID:10006853-1726857000-1726871400@poblenouurbandistrict.com
SUMMARY:[:ca]BRIDGE_48 presenta el seu cicle 2ROOMS[:es]BRIDGE_48 presenta su ciclo 2ROOMS[:en]BRIDGE_48 introduces its 2ROOMS series[:]
DESCRIPTION:Cada viernes vivimos una experiencia inmersiva en dos ambientes simultáneos: BRIDGE LIVE + BRIDGE LAB\, que unen a DJs y artistas consagrados y emergentes\, impulsando así los nuevos talentos formados en nuestros estudios. \nVive la electrizante atmósfera de BRIDGE LIVE. Participa en una transmisión en vivo interactiva con aforo limitado. Llegar temprano para asegurar tu lugar y disfrutar de un viaje musical íntimo con tus DJs favoritos\, donde la música trasciende fronteras.
URL:https://poblenouurbandistrict.com/es/agenda/bridge_48-presenta-el-seu-cicle-2rooms/
LOCATION:Bridge_48\, Carrer de Llull\, 48\, Barcelona\, 08005
CATEGORIES:Música
ATTACH;FMTTYPE=image/jpeg:https://media.poblenouurbandistrict.com/2024/09/25075244/2rooms-generico.jpg
END:VEVENT
BEGIN:VEVENT
DTSTART;TZID=Europe/Madrid:20240922T193000
DTEND;TZID=Europe/Madrid:20240922T210000
DTSTAMP:20260424T001926
CREATED:20240918T091655Z
LAST-MODIFIED:20240918T091944Z
UID:10006857-1727033400-1727038800@poblenouurbandistrict.com
SUMMARY:Música a Ciegas: Pink Floyd\, Animals
DESCRIPTION:Cada martes\, miércoles y domingo\, te invitamos a vivir una experiencia única en BRIDGE: Música a Ciegas. \nMúsica a Ciegas es una oportunidad para escuchar discos de tus artistas favoritos en completa oscuridad\, con un sonido inmersivo que transforma la manera en que disfrutas de la música. \nEste ciclo se convierte en un laboratorio musical de alta fidelidad\, permitiéndote disfrutar sin distracciones de algunos de los discos más emblemáticos de la historia de la música. Desde Pink Floyd hasta Rosalía\, pasando por Frank Ocean\, Radiohead\, Kendrick Lamar y Daft Punk\, sin olvidar a los Beatles\, Queen\, Depeche Mode\, Tyler\, the Creator y Taylor Swift. Las posibilidades de Música a Ciegas son incontables\, y seguro que tarde o temprano encontrarás un disco que querrás escuchar con sonido envolvente.
URL:https://poblenouurbandistrict.com/es/agenda/musica-a-ciegas-the-beatles-revolver-2/
LOCATION:Bridge_48\, Carrer de Llull\, 48\, Barcelona\, 08005
CATEGORIES:Música
ATTACH;FMTTYPE=image/png:https://media.poblenouurbandistrict.com/2024/09/25075247/musica-a-ciegas-1.png
END:VEVENT
BEGIN:VEVENT
DTSTART;TZID=Europe/Madrid:20240922T210000
DTEND;TZID=Europe/Madrid:20240922T223000
DTSTAMP:20260424T001926
CREATED:20240918T092100Z
LAST-MODIFIED:20240918T092100Z
UID:10006859-1727038800-1727044200@poblenouurbandistrict.com
SUMMARY:Música a Ciegas: Tool\, Lateralus
DESCRIPTION:Cada martes\, miércoles y domingo\, te invitamos a vivir una experiencia única en BRIDGE: Música a Ciegas. \nMúsica a Ciegas es una oportunidad para escuchar discos de tus artistas favoritos en completa oscuridad\, con un sonido inmersivo que transforma la manera en que disfrutas de la música. \nEste ciclo se convierte en un laboratorio musical de alta fidelidad\, permitiéndote disfrutar sin distracciones de algunos de los discos más emblemáticos de la historia de la música. Desde Pink Floyd hasta Rosalía\, pasando por Frank Ocean\, Radiohead\, Kendrick Lamar y Daft Punk\, sin olvidar a los Beatles\, Queen\, Depeche Mode\, Tyler\, the Creator y Taylor Swift. Las posibilidades de Música a Ciegas son incontables\, y seguro que tarde o temprano encontrarás un disco que querrás escuchar con sonido envolvente.
URL:https://poblenouurbandistrict.com/es/agenda/musica-a-ciegas-tool-lateralus/
LOCATION:Bridge_48\, Carrer de Llull\, 48\, Barcelona\, 08005
CATEGORIES:Música
ATTACH;FMTTYPE=image/png:https://media.poblenouurbandistrict.com/2024/09/25075247/musica-a-ciegas-1.png
END:VEVENT
BEGIN:VEVENT
DTSTART;TZID=Europe/Madrid:20240924T193000
DTEND;TZID=Europe/Madrid:20240924T210000
DTSTAMP:20260424T001926
CREATED:20240918T092338Z
LAST-MODIFIED:20240918T092338Z
UID:10006860-1727206200-1727211600@poblenouurbandistrict.com
SUMMARY:Música a Ciegas: QUEEN\, Greatest Hits I
DESCRIPTION:Cada martes\, miércoles y domingo\, te invitamos a vivir una experiencia única en BRIDGE: Música a Ciegas. \nMúsica a Ciegas es una oportunidad para escuchar discos de tus artistas favoritos en completa oscuridad\, con un sonido inmersivo que transforma la manera en que disfrutas de la música. \nEste ciclo se convierte en un laboratorio musical de alta fidelidad\, permitiéndote disfrutar sin distracciones de algunos de los discos más emblemáticos de la historia de la música. Desde Pink Floyd hasta Rosalía\, pasando por Frank Ocean\, Radiohead\, Kendrick Lamar y Daft Punk\, sin olvidar a los Beatles\, Queen\, Depeche Mode\, Tyler\, the Creator y Taylor Swift. Las posibilidades de Música a Ciegas son incontables\, y seguro que tarde o temprano encontrarás un disco que querrás escuchar con sonido envolvente.
URL:https://poblenouurbandistrict.com/es/agenda/musica-a-ciegas-queen-greatest-hits-i/
LOCATION:Bridge_48\, Carrer de Llull\, 48\, Barcelona\, 08005
CATEGORIES:Música
ATTACH;FMTTYPE=image/png:https://media.poblenouurbandistrict.com/2024/09/25075247/musica-a-ciegas-1.png
END:VEVENT
BEGIN:VEVENT
DTSTART;TZID=Europe/Madrid:20240924T210000
DTEND;TZID=Europe/Madrid:20240924T223000
DTSTAMP:20260424T001926
CREATED:20240918T092509Z
LAST-MODIFIED:20240918T092509Z
UID:10006861-1727211600-1727217000@poblenouurbandistrict.com
SUMMARY:Música a Ciegas: Twenty One Pilots\, Clancy
DESCRIPTION:Cada martes\, miércoles y domingo\, te invitamos a vivir una experiencia única en BRIDGE: Música a Ciegas. \nMúsica a Ciegas es una oportunidad para escuchar discos de tus artistas favoritos en completa oscuridad\, con un sonido inmersivo que transforma la manera en que disfrutas de la música. \nEste ciclo se convierte en un laboratorio musical de alta fidelidad\, permitiéndote disfrutar sin distracciones de algunos de los discos más emblemáticos de la historia de la música. Desde Pink Floyd hasta Rosalía\, pasando por Frank Ocean\, Radiohead\, Kendrick Lamar y Daft Punk\, sin olvidar a los Beatles\, Queen\, Depeche Mode\, Tyler\, the Creator y Taylor Swift. Las posibilidades de Música a Ciegas son incontables\, y seguro que tarde o temprano encontrarás un disco que querrás escuchar con sonido envolvente.
URL:https://poblenouurbandistrict.com/es/agenda/musica-a-ciegas-twenty-one-pilots-clancy/
LOCATION:Bridge_48\, Carrer de Llull\, 48\, Barcelona\, 08005
CATEGORIES:Música
ATTACH;FMTTYPE=image/png:https://media.poblenouurbandistrict.com/2024/09/25075247/musica-a-ciegas-1.png
END:VEVENT
BEGIN:VEVENT
DTSTART;TZID=Europe/Madrid:20240925T190000
DTEND;TZID=Europe/Madrid:20240925T210000
DTSTAMP:20260424T001926
CREATED:20240918T092832Z
LAST-MODIFIED:20240918T092832Z
UID:10006862-1727290800-1727298000@poblenouurbandistrict.com
SUMMARY:Música a Ciegas: Charly García\, Piano Bar
DESCRIPTION:Cada martes\, miércoles y domingo\, te invitamos a vivir una experiencia única en BRIDGE: Música a Ciegas. \nMúsica a Ciegas es una oportunidad para escuchar discos de tus artistas favoritos en completa oscuridad\, con un sonido inmersivo que transforma la manera en que disfrutas de la música. \nEste ciclo se convierte en un laboratorio musical de alta fidelidad\, permitiéndote disfrutar sin distracciones de algunos de los discos más emblemáticos de la historia de la música. Desde Pink Floyd hasta Rosalía\, pasando por Frank Ocean\, Radiohead\, Kendrick Lamar y Daft Punk\, sin olvidar a los Beatles\, Queen\, Depeche Mode\, Tyler\, the Creator y Taylor Swift. Las posibilidades de Música a Ciegas son incontables\, y seguro que tarde o temprano encontrarás un disco que querrás escuchar con sonido envolvente.
URL:https://poblenouurbandistrict.com/es/agenda/musica-a-ciegas-charly-garcia-piano-bar/
LOCATION:Bridge_48\, Carrer de Llull\, 48\, Barcelona\, 08005
CATEGORIES:Música
ATTACH;FMTTYPE=image/png:https://media.poblenouurbandistrict.com/2024/09/25075247/musica-a-ciegas-1.png
END:VEVENT
BEGIN:VEVENT
DTSTART;TZID=Europe/Madrid:20240925T210000
DTEND;TZID=Europe/Madrid:20240925T223000
DTSTAMP:20260424T001926
CREATED:20240918T093037Z
LAST-MODIFIED:20240918T093037Z
UID:10006863-1727298000-1727303400@poblenouurbandistrict.com
SUMMARY:Música a Ciegas: Radiohead\, Ok COMPUTER
DESCRIPTION:Cada martes\, miércoles y domingo\, te invitamos a vivir una experiencia única en BRIDGE: Música a Ciegas. \nMúsica a Ciegas es una oportunidad para escuchar discos de tus artistas favoritos en completa oscuridad\, con un sonido inmersivo que transforma la manera en que disfrutas de la música. \nEste ciclo se convierte en un laboratorio musical de alta fidelidad\, permitiéndote disfrutar sin distracciones de algunos de los discos más emblemáticos de la historia de la música. Desde Pink Floyd hasta Rosalía\, pasando por Frank Ocean\, Radiohead\, Kendrick Lamar y Daft Punk\, sin olvidar a los Beatles\, Queen\, Depeche Mode\, Tyler\, the Creator y Taylor Swift. Las posibilidades de Música a Ciegas son incontables\, y seguro que tarde o temprano encontrarás un disco que querrás escuchar con sonido envolvente.
URL:https://poblenouurbandistrict.com/es/agenda/musica-a-ciegas-radiohead-ok-computer/
LOCATION:Bridge_48\, Carrer de Llull\, 48\, Barcelona\, 08005
CATEGORIES:Música
ATTACH;FMTTYPE=image/png:https://media.poblenouurbandistrict.com/2024/09/25075247/musica-a-ciegas-1.png
END:VEVENT
BEGIN:VEVENT
DTSTART;TZID=Europe/Madrid:20240927T183000
DTEND;TZID=Europe/Madrid:20240927T223000
DTSTAMP:20260424T001926
CREATED:20240918T082945Z
LAST-MODIFIED:20240918T084249Z
UID:10006854-1727461800-1727476200@poblenouurbandistrict.com
SUMMARY:[:ca]BRIDGE_48 presenta el seu cicle 2ROOMS[:es]BRIDGE_48  presenta su ciclo 2ROOMS[:en]BRIDGE_48  presents its 2ROOMS series[:]
DESCRIPTION:Cada viernes Bridge_48 vive una experiencia inmersiva en dos ambientes simultáneos: BRIDGE LIVE + BRIDGE LAB\, que unen a DJs y artistas consagrados y emergentes\, impulsando así los nuevos talentos formados en sus estudios. \nVive la electrizante atmósfera de BRIDGE LIVE. Participa en una transmisión en vivo interactiva con aforo limitado. Llega temprano para asegurar tu lugar y disfrutar de un viaje musical íntimo con tus DJs favoritos\, donde la música trasciende fronteras. \n 
URL:https://poblenouurbandistrict.com/es/agenda/bridge_48-presenta-el-seu-cicle-2rooms-2/
LOCATION:Bridge_48\, Carrer de Llull\, 48\, Barcelona\, 08005
CATEGORIES:Música
ATTACH;FMTTYPE=image/jpeg:https://media.poblenouurbandistrict.com/2024/09/25075244/2rooms-generico.jpg
END:VEVENT
BEGIN:VEVENT
DTSTART;TZID=Europe/Madrid:20240929T190000
DTEND;TZID=Europe/Madrid:20240929T210000
DTSTAMP:20260424T001926
CREATED:20240918T093209Z
LAST-MODIFIED:20240918T093209Z
UID:10006864-1727636400-1727643600@poblenouurbandistrict.com
SUMMARY:Música a Ciegas: The Dark Side of The Moon
DESCRIPTION:Cada martes\, miércoles y domingo\, te invitamos a vivir una experiencia única en BRIDGE: Música a Ciegas. \nMúsica a Ciegas es una oportunidad para escuchar discos de tus artistas favoritos en completa oscuridad\, con un sonido inmersivo que transforma la manera en que disfrutas de la música. \nEste ciclo se convierte en un laboratorio musical de alta fidelidad\, permitiéndote disfrutar sin distracciones de algunos de los discos más emblemáticos de la historia de la música. Desde Pink Floyd hasta Rosalía\, pasando por Frank Ocean\, Radiohead\, Kendrick Lamar y Daft Punk\, sin olvidar a los Beatles\, Queen\, Depeche Mode\, Tyler\, the Creator y Taylor Swift. Las posibilidades de Música a Ciegas son incontables\, y seguro que tarde o temprano encontrarás un disco que querrás escuchar con sonido envolvente.
URL:https://poblenouurbandistrict.com/es/agenda/musica-a-ciegas-the-dark-side-of-the-moon/
LOCATION:Bridge_48\, Carrer de Llull\, 48\, Barcelona\, 08005
CATEGORIES:Música
ATTACH;FMTTYPE=image/png:https://media.poblenouurbandistrict.com/2024/09/25075247/musica-a-ciegas-1.png
END:VEVENT
BEGIN:VEVENT
DTSTART;TZID=Europe/Madrid:20240929T210000
DTEND;TZID=Europe/Madrid:20240929T223000
DTSTAMP:20260424T001926
CREATED:20240918T093334Z
LAST-MODIFIED:20240918T093334Z
UID:10006865-1727643600-1727649000@poblenouurbandistrict.com
SUMMARY:Música a Ciegas: Daft Punk\, RAM
DESCRIPTION:Cada martes\, miércoles y domingo\, te invitamos a vivir una experiencia única en BRIDGE: Música a Ciegas. \nMúsica a Ciegas es una oportunidad para escuchar discos de tus artistas favoritos en completa oscuridad\, con un sonido inmersivo que transforma la manera en que disfrutas de la música. \nEste ciclo se convierte en un laboratorio musical de alta fidelidad\, permitiéndote disfrutar sin distracciones de algunos de los discos más emblemáticos de la historia de la música. Desde Pink Floyd hasta Rosalía\, pasando por Frank Ocean\, Radiohead\, Kendrick Lamar y Daft Punk\, sin olvidar a los Beatles\, Queen\, Depeche Mode\, Tyler\, the Creator y Taylor Swift. Las posibilidades de Música a Ciegas son incontables\, y seguro que tarde o temprano encontrarás un disco que querrás escuchar con sonido envolvente.
URL:https://poblenouurbandistrict.com/es/agenda/musica-a-ciegas-daft-punk-ram/
LOCATION:Bridge_48\, Carrer de Llull\, 48\, Barcelona\, 08005
CATEGORIES:Música
ATTACH;FMTTYPE=image/png:https://media.poblenouurbandistrict.com/2024/09/25075247/musica-a-ciegas-1.png
END:VEVENT
END:VCALENDAR