BEGIN:VCALENDAR
VERSION:2.0
PRODID:-//Poblenou Urban District - ECPv6.15.20//NONSGML v1.0//EN
CALSCALE:GREGORIAN
METHOD:PUBLISH
X-WR-CALNAME:Poblenou Urban District
X-ORIGINAL-URL:https://poblenouurbandistrict.com/es
X-WR-CALDESC:Eventos para Poblenou Urban District
REFRESH-INTERVAL;VALUE=DURATION:PT1H
X-Robots-Tag:noindex
X-PUBLISHED-TTL:PT1H
BEGIN:VTIMEZONE
TZID:Europe/Madrid
BEGIN:DAYLIGHT
TZOFFSETFROM:+0100
TZOFFSETTO:+0200
TZNAME:CEST
DTSTART:20230326T010000
END:DAYLIGHT
BEGIN:STANDARD
TZOFFSETFROM:+0200
TZOFFSETTO:+0100
TZNAME:CET
DTSTART:20231029T010000
END:STANDARD
BEGIN:DAYLIGHT
TZOFFSETFROM:+0100
TZOFFSETTO:+0200
TZNAME:CEST
DTSTART:20240331T010000
END:DAYLIGHT
BEGIN:STANDARD
TZOFFSETFROM:+0200
TZOFFSETTO:+0100
TZNAME:CET
DTSTART:20241027T010000
END:STANDARD
BEGIN:DAYLIGHT
TZOFFSETFROM:+0100
TZOFFSETTO:+0200
TZNAME:CEST
DTSTART:20250330T010000
END:DAYLIGHT
BEGIN:STANDARD
TZOFFSETFROM:+0200
TZOFFSETTO:+0100
TZNAME:CET
DTSTART:20251026T010000
END:STANDARD
END:VTIMEZONE
BEGIN:VEVENT
DTSTART;TZID=Europe/Madrid:20241202T183000
DTEND;TZID=Europe/Madrid:20241202T183000
DTSTAMP:20260423T191025
CREATED:20241202T125648Z
LAST-MODIFIED:20241202T125648Z
UID:10007054-1733164200-1733164200@poblenouurbandistrict.com
SUMMARY:[:ca]TERROR + NASTY + ARTISTAS INVITADOS[:es]TERROR + NASTY + ARTISTAS INVITADOS[:en]TERROR + NASTY + GUEST ARTISTS[:]
DESCRIPTION:¡Terror vuelve a España! TERROR\, una de las bandas más respetadas del hardcore moderno\, pasará por España en noviembre junto a los belgas NASTY como invitados especiales y dos artistas invitados internacionales por anunciar \nMás información y entradas aquí.
URL:https://poblenouurbandistrict.com/es/agenda/terror-nasty-artistas-invitados/
LOCATION:Sala Razzmatazz\, C/ dels Almogàvers\, 122\, Barcelona\, Barcelona\, 08018\, Espanya
CATEGORIES:Música
ATTACH;FMTTYPE=image/jpeg:https://media.poblenouurbandistrict.com/2024/12/25082051/terrorweb-1000x540-1.jpg
END:VEVENT
BEGIN:VEVENT
DTSTART;TZID=Europe/Madrid:20241202T190000
DTEND;TZID=Europe/Madrid:20241202T190000
DTSTAMP:20260423T191025
CREATED:20241202T124947Z
LAST-MODIFIED:20241202T125155Z
UID:10007053-1733166000-1733166000@poblenouurbandistrict.com
SUMMARY:GRIFF " WORLD VERTIGO TOUR"
DESCRIPTION:La aclamada artista de pop británico Griff se prepara para llevar su gira mundial vertigo a España. \nMás información y entradas aquí.
URL:https://poblenouurbandistrict.com/es/agenda/griff-world-vertigo-tour/
LOCATION:Sala Razzmatazz\, C/ dels Almogàvers\, 122\, Barcelona\, Barcelona\, 08018\, Espanya
CATEGORIES:Música
ATTACH;FMTTYPE=image/jpeg:https://media.poblenouurbandistrict.com/2024/12/25082048/griffweb-1000x540-1.jpg
END:VEVENT
BEGIN:VEVENT
DTSTART;TZID=Europe/Madrid:20241203T200000
DTEND;TZID=Europe/Madrid:20241203T200000
DTSTAMP:20260423T191025
CREATED:20241202T130207Z
LAST-MODIFIED:20241202T130207Z
UID:10007056-1733256000-1733256000@poblenouurbandistrict.com
SUMMARY:DAVE BOLAÑO - SÉ TÚ TOUR 2024
DESCRIPTION:El cantautor colombiano se detiene en España para desatar el poder del Sé Tú\, tour 2024 que promete una experiencia inigualable donde presentará los temas de su nuevo álbum pero también hará un repaso puntual del cancionero que ha forjado durante más de diez años de carrera. \nMás información y entradas aquí.
URL:https://poblenouurbandistrict.com/es/agenda/dave-bolano-se-tu-tour-2024/
LOCATION:Sala Razzmatazz\, C/ dels Almogàvers\, 122\, Barcelona\, Barcelona\, 08018\, Espanya
CATEGORIES:Música
ATTACH;FMTTYPE=image/jpeg:https://media.poblenouurbandistrict.com/2024/12/25082053/dave1-1000x540-1.jpg
END:VEVENT
BEGIN:VEVENT
DTSTART;TZID=Europe/Madrid:20241204T190000
DTEND;TZID=Europe/Madrid:20241204T190000
DTSTAMP:20260423T191025
CREATED:20241203T085126Z
LAST-MODIFIED:20241203T085126Z
UID:10007057-1733338800-1733338800@poblenouurbandistrict.com
SUMMARY:CUARTETO DE NOS - TOUR LÁMINA ONCE 2024
DESCRIPTION:Tras el arrollador éxito que la gira “Lámina Once” tuvo en 2023\, regresa una de las bandas más relevantes del rock en Latinoamerica.En 2024\, la banda promete nueva música y un espectáculo renovado\, además de repasar su flamante última producción y éxitos que los han acompañado durante 4 décadas de carrera. \n  \nMás información y entradas aquí.
URL:https://poblenouurbandistrict.com/es/agenda/cuarteto-de-nos-tour-lamina-once-2024/
LOCATION:Sala Razzmatazz\, C/ dels Almogàvers\, 122\, Barcelona\, Barcelona\, 08018\, Espanya
CATEGORIES:Música
ATTACH;FMTTYPE=image/jpeg:https://media.poblenouurbandistrict.com/2024/12/25082056/cuarteto1-1000x540-1.jpg
END:VEVENT
BEGIN:VEVENT
DTSTART;TZID=Europe/Madrid:20241204T190000
DTEND;TZID=Europe/Madrid:20241204T190000
DTSTAMP:20260423T191025
CREATED:20241203T085544Z
LAST-MODIFIED:20241203T085544Z
UID:10007058-1733338800-1733338800@poblenouurbandistrict.com
SUMMARY:DIGITALISM - IDEALISM LIVE + VEN'NUS
DESCRIPTION:El dúo alemán de música electrónica Digitalism cumple veinte años de carrera este 2024. Un momento especial que coincide con la gira «Idealism Live»\, que los va a traer en diciembre a Madrid (el día 3\, But)\, Barcelona (el 4\, Razzmatazz 2) y Murcia (el 5\, Mamba!). \nDigitalism se fundó en 2004 en Hamburgo y está compuesto por Ismail “Isi” Tüfekçi y Jens “Jence” Moelle. En su discografía\, donde encontramos música que es al mismo tiempo divertida e imaginativa\, seria y extática\, aparecen cuatro LPs\, “Idealism” (2007; este reeditado como “Idealism Forever (Anniversary Edition)” en abril de este año y excusa formal de su tour)\, “I Love You Dude” (2011)\, “Mirage” (2016) y “JPEG” (2019; este reeditado como “JPEG_complete” en 2021)\, además de numerosos remixes para nombres como Daft Punk\, Tiga\, Klaxons\, The White Stripes\, Depeche Mode\, Cut Copy\, The Presets\, Tom Vek y The Futureheads\, entre otros. Sin olvidar que también han lanzado varios EPs\, el último de ellos “Back To Haus” (2023)\, donde han rendido tributo al house\, una música que ha estado presente para ellos desde el principio. \n  \nMás información y entradas aquí.
URL:https://poblenouurbandistrict.com/es/agenda/digitalism-idealism-live-vennus/
LOCATION:Sala Razzmatazz\, C/ dels Almogàvers\, 122\, Barcelona\, Barcelona\, 08018\, Espanya
CATEGORIES:Música
ATTACH;FMTTYPE=image/jpeg:https://media.poblenouurbandistrict.com/2024/12/25082059/digitweb-1000x540-1.jpg
END:VEVENT
BEGIN:VEVENT
DTSTART;TZID=Europe/Madrid:20241204T200000
DTEND;TZID=Europe/Madrid:20241204T200000
DTSTAMP:20260423T191025
CREATED:20241203T085912Z
LAST-MODIFIED:20241203T085912Z
UID:10007059-1733342400-1733342400@poblenouurbandistrict.com
SUMMARY:ROCCO POSCA
DESCRIPTION:Rocco Posca es un artista multifacético y versátil. Comenzó su carrera musical en 2016 a sus 17 años\, y continúa desarrollándose como músico\, cantante\, compositor y actor. Su expresión escénica en el ámbito del rock se caracteriza por la fusión de riffs de guitarras distorsionadas con composiciones introspectivas acústicas\, creando una experiencia sonora única. Su presencia en el escenario se distingue por su fuerza y autenticidad\, dejando una impresión duradera en el público. \n  \nMás información y entradas aquí.
URL:https://poblenouurbandistrict.com/es/agenda/rocco-posca/
LOCATION:Sala Razzmatazz\, C/ dels Almogàvers\, 122\, Barcelona\, Barcelona\, 08018\, Espanya
CATEGORIES:Música
ATTACH;FMTTYPE=image/jpeg:https://media.poblenouurbandistrict.com/2024/12/25082102/rocco1-1000x540-1.jpg
END:VEVENT
BEGIN:VEVENT
DTSTART;TZID=Europe/Madrid:20241206T200000
DTEND;TZID=Europe/Madrid:20241206T200000
DTSTAMP:20260423T191025
CREATED:20241203T090215Z
LAST-MODIFIED:20241203T090215Z
UID:10007060-1733515200-1733515200@poblenouurbandistrict.com
SUMMARY:FUEGO LIVE! SHAOLIN MONKEY + MXNDXZ
DESCRIPTION:Presentando su nuevo disco «Ashes»\, es un concierto que tiene lugar el 06/12/2024 a las 20:00 en Razzmatazz 3\, Barcelona\, España. El estilo del concierto es Reggae\, Hip-hop\, Trap y Urbano. \nEl rapero catalán Shaolin Monkey publica su segundo álbum «Ashes» en el que fusiona elementos del rap clásico con sonidos actuales. \n  \nMás información y entradas aquí.
URL:https://poblenouurbandistrict.com/es/agenda/fuego-live-shaolin-monkey-mxndxz/
LOCATION:Sala Razzmatazz\, C/ dels Almogàvers\, 122\, Barcelona\, Barcelona\, 08018\, Espanya
CATEGORIES:Música
ATTACH;FMTTYPE=image/jpeg:https://media.poblenouurbandistrict.com/2024/12/25082105/shaolinn1-1000x540-1.jpg
END:VEVENT
BEGIN:VEVENT
DTSTART;VALUE=DATE:20241207
DTEND;VALUE=DATE:20241209
DTSTAMP:20260423T191025
CREATED:20241202T094812Z
LAST-MODIFIED:20241202T094812Z
UID:10007048-1733529600-1733702399@poblenouurbandistrict.com
SUMMARY:[:en]Palo Market Fest[:]
DESCRIPTION:
URL:https://poblenouurbandistrict.com/es/agenda/palo-market-fest-8/
LOCATION:Palo Alto\, Carrer dels Pellaires\, 30 - 38\, Barcelona\, 08019
CATEGORIES:Diseño,Gastronomía,Música
END:VEVENT
BEGIN:VEVENT
DTSTART;TZID=Europe/Madrid:20241207T200000
DTEND;TZID=Europe/Madrid:20241207T200000
DTSTAMP:20260423T191025
CREATED:20241203T090509Z
LAST-MODIFIED:20241203T090509Z
UID:10007061-1733601600-1733601600@poblenouurbandistrict.com
SUMMARY:NADAL 015 - REHAB TOUR
DESCRIPTION:Nadal015 presenta su nuevo trabajo «REHAB» y repasamos los viejos éxitos. \nMás información y entradas aquí.
URL:https://poblenouurbandistrict.com/es/agenda/nadal-015-rehab-tour/
LOCATION:Sala Razzmatazz\, C/ dels Almogàvers\, 122\, Barcelona\, Barcelona\, 08018\, Espanya
CATEGORIES:Música
ATTACH;FMTTYPE=image/png:https://media.poblenouurbandistrict.com/2024/12/25082106/nadal0151-1000x540-1.png
END:VEVENT
BEGIN:VEVENT
DTSTART;TZID=Europe/Madrid:20241208T183000
DTEND;TZID=Europe/Madrid:20241208T183000
DTSTAMP:20260423T191025
CREATED:20241203T090825Z
LAST-MODIFIED:20241203T090825Z
UID:10007062-1733682600-1733682600@poblenouurbandistrict.com
SUMMARY:LA ÚNICA TROPICAL
DESCRIPTION:La Única Tropical está lista para expandir sus horizontes musicales con una emocionante gira de conciertos por Europa. Con un estilo tropical que es tan único como pegajoso\, esta agrupación se propone llevar sus ritmos vibrantes a escenarios internacionales. \nMás información y entradas aquí.
URL:https://poblenouurbandistrict.com/es/agenda/la-unica-tropical/
LOCATION:Sala Razzmatazz\, C/ dels Almogàvers\, 122\, Barcelona\, Barcelona\, 08018\, Espanya
CATEGORIES:Música
ATTACH;FMTTYPE=image/jpeg:https://media.poblenouurbandistrict.com/2024/12/25082111/launicatropweb-1000x540-1.jpg
END:VEVENT
BEGIN:VEVENT
DTSTART;TZID=Europe/Madrid:20241209T190000
DTEND;TZID=Europe/Madrid:20241209T190000
DTSTAMP:20260423T191025
CREATED:20241202T100431Z
LAST-MODIFIED:20241202T100431Z
UID:10007049-1733770800-1733770800@poblenouurbandistrict.com
SUMMARY:[:ca]CONCERT DE COBLA: COBLA I VEUS – COBLA SELVATANA[:es]CONCIERTO DE COBLA: COBLA Y VOCES – COBLA SELVATANA[:en]CONCERT DE COBLA: COBLA I VEUS – COBLA SELVATANA[:]
DESCRIPTION:Más información y entradas aquí.
URL:https://poblenouurbandistrict.com/es/agenda/concert-de-cobla-cobla-i-veus-cobla-selvatana/
LOCATION:Casino l’aliança del Poblenou\, Rambla del Poblenou\, 42\,\, Barcelona\, Barcelona\, 08005\, Espanya
CATEGORIES:Música
ATTACH;FMTTYPE=image/jpeg:https://media.poblenouurbandistrict.com/2024/12/25082011/cobla-i-veus-2.jpg
END:VEVENT
BEGIN:VEVENT
DTSTART;TZID=Europe/Madrid:20241210T193000
DTEND;TZID=Europe/Madrid:20241210T193000
DTSTAMP:20260423T191025
CREATED:20241210T083157Z
LAST-MODIFIED:20241210T083157Z
UID:10007063-1733859000-1733859000@poblenouurbandistrict.com
SUMMARY:BLUES PILLS & DANIEL ROMANO'S OUTFIT - HAPPY F*CKING BIRTHDAY TOUR
DESCRIPTION:El joven cuarteto sueco es la sensación del rock electrizante que ha hechizado al mundo con sus enérgicos shows en vivo con la líder Elin Larsson a la cabeza. \nCon motivo de este nuevo trabajo\, la banda anucia una gira Europea acompañados del canadiense\,  polifacético Daniel Romano\, quien actuará como telonero principal en todas sus fechas\, acompañado de su banda Daniel Romano’s Outfit! \n  \nMás información y entradas aquí.
URL:https://poblenouurbandistrict.com/es/agenda/blues-pills-daniel-romanos-outfit-happy-fcking-birthday-tour/
LOCATION:Sala Razzmatazz\, C/ dels Almogàvers\, 122\, Barcelona\, Barcelona\, 08018\, Espanya
CATEGORIES:Música
ATTACH;FMTTYPE=image/jpeg:https://media.poblenouurbandistrict.com/2024/12/25082242/bluespills-photo-1000x540-1.jpg
END:VEVENT
BEGIN:VEVENT
DTSTART;TZID=Europe/Madrid:20241212T190000
DTEND;TZID=Europe/Madrid:20241212T190000
DTSTAMP:20260423T191025
CREATED:20241210T104742Z
LAST-MODIFIED:20241210T104742Z
UID:10007065-1734030000-1734030000@poblenouurbandistrict.com
SUMMARY:KAZY LAMBIST
DESCRIPTION:El francés Kazy Lambist\, un referente global del electro-pop\, presenta su segundo disco\, «Moda»\, en el que el Mediterráneo ejerce de simbólico hilo conductor. Música acogedora y panorámica\, sofisticada y hedonista\, volátil y elegante\, que preserva siempre el equilibrio entre refinamiento y placer. \nMás información y entradas aquí.
URL:https://poblenouurbandistrict.com/es/agenda/kazy-lambist/
LOCATION:Sala Razzmatazz\, C/ dels Almogàvers\, 122\, Barcelona\, Barcelona\, 08018\, Espanya
CATEGORIES:Música
ATTACH;FMTTYPE=image/jpeg:https://media.poblenouurbandistrict.com/2024/12/25082245/kazylambist11-1000x540-1.jpg
END:VEVENT
BEGIN:VEVENT
DTSTART;TZID=Europe/Madrid:20241212T190000
DTEND;TZID=Europe/Madrid:20241212T190000
DTSTAMP:20260423T191025
CREATED:20241210T105206Z
LAST-MODIFIED:20241210T105206Z
UID:10007066-1734030000-1734030000@poblenouurbandistrict.com
SUMMARY:DORIAN - CRUÏLLA TARDOR 2024
DESCRIPTION:UN FUEGO SIN EDAD \nMás de 20 años después de debutar\, esta banda barcelonesa sigue demostrando por qué es\, como canta en «Dos vidas»\, uno de sus últimos éxitos\, un fuego sin edad que arde hacia la eternidad. No sólo ha sido capaz de componer algunos de los hits imprescindibles de toda una generación\, sino que ha logrado algo todavía más difícil: no dejar de hacerlo durante toda su trayectoria. \nMás información y entradas aquí.
URL:https://poblenouurbandistrict.com/es/agenda/dorian-cruilla-tardor-2024/
LOCATION:Sala Razzmatazz\, C/ dels Almogàvers\, 122\, Barcelona\, Barcelona\, 08018\, Espanya
CATEGORIES:Música
ATTACH;FMTTYPE=image/jpeg:https://media.poblenouurbandistrict.com/2024/12/25082247/dorian1-1000x540-1.jpg
END:VEVENT
BEGIN:VEVENT
DTSTART;TZID=Europe/Madrid:20241212T193000
DTEND;TZID=Europe/Madrid:20241212T193000
DTSTAMP:20260423T191025
CREATED:20241210T105730Z
LAST-MODIFIED:20241210T105730Z
UID:10007067-1734031800-1734031800@poblenouurbandistrict.com
SUMMARY:AIKO + SIDERLAND
DESCRIPTION:LA GIRA «AIKONIC TOUR» DE AIKO ATERRIZA EN MADRID Y BARCELONA EN DICIEMBRE \nLa representante de la República Checa en Eurovisión 2024 se embarca en su propia gira para presentar su nuevo disco Después de ganar la selección nacional previa al certamen\, Aiko presenta una puesta en escena fascinante y cautivadora. \n«Aikonic» es un álbum conceptual formado por nueve composiciones que establecen una tónica general y resuenan en la personalidad de Aiko con tres adjetivos: confiada\, directa y audaz. \nMés informació i entrades aquí.
URL:https://poblenouurbandistrict.com/es/agenda/aiko-siderland/
LOCATION:Sala Razzmatazz\, C/ dels Almogàvers\, 122\, Barcelona\, Barcelona\, 08018\, Espanya
CATEGORIES:Música
ATTACH;FMTTYPE=image/jpeg:https://media.poblenouurbandistrict.com/2024/12/25082251/aikorazz-1000x540-1.jpg
END:VEVENT
BEGIN:VEVENT
DTSTART;TZID=Europe/Madrid:20241213T200000
DTEND;TZID=Europe/Madrid:20241213T200000
DTSTAMP:20260423T191025
CREATED:20241210T110402Z
LAST-MODIFIED:20241210T110402Z
UID:10007068-1734120000-1734120000@poblenouurbandistrict.com
SUMMARY:TRIÁNGULO DE AMOR BIZARRO: GIRA XX20 AÑOS DEL TRIÁNGULO
DESCRIPTION:Para conmemorar los 20 años que la banda lleva en los escenarios\, en su gira XX20 AÑOS DEL TRIÁNGULO\, Isa\, Rodrigo y Rafa se  ponen en manos del Tarot. \nAl inicio de cada actuación serán el Azar y el propio público de cada ciudad quienes decidan qué 2 discos íntegros se tocarán en cada concierto\, de entre los 6 que componen su discografía\, convertidos en cartas tarománticas. \nMés informació i entrades aquí.
URL:https://poblenouurbandistrict.com/es/agenda/triangulo-de-amor-bizarro-gira-xx20-anos-del-triangulo/
LOCATION:Sala Razzmatazz\, C/ dels Almogàvers\, 122\, Barcelona\, Barcelona\, 08018\, Espanya
CATEGORIES:Música
ATTACH;FMTTYPE=image/jpeg:https://media.poblenouurbandistrict.com/2024/12/25082253/tringulo-alta-1000x540-1.jpg
END:VEVENT
BEGIN:VEVENT
DTSTART;TZID=Europe/Madrid:20241213T200000
DTEND;TZID=Europe/Madrid:20241213T200000
DTSTAMP:20260423T191025
CREATED:20241210T110856Z
LAST-MODIFIED:20241210T110856Z
UID:10007069-1734120000-1734120000@poblenouurbandistrict.com
SUMMARY:DA IGUAL - GIRA TATUADO A FUEGO
DESCRIPTION:Da igual estrena su nueva gira “Tatuado a fuego”. Su directo lleno de energía ya es un secreto a voces. No te pierdas su show en vivo… Es una explosión de color. \nMés informació i entrades aquí.
URL:https://poblenouurbandistrict.com/es/agenda/da-igual-gira-tatuado-a-fuego/
LOCATION:Sala Razzmatazz\, C/ dels Almogàvers\, 122\, Barcelona\, Barcelona\, 08018\, Espanya
CATEGORIES:Música
ATTACH;FMTTYPE=image/png:https://media.poblenouurbandistrict.com/2024/12/25082256/daigual1-1000x540-1.png
END:VEVENT
BEGIN:VEVENT
DTSTART;TZID=Europe/Madrid:20241214T200000
DTEND;TZID=Europe/Madrid:20241214T200000
DTSTAMP:20260423T191025
CREATED:20241210T111813Z
LAST-MODIFIED:20241210T111813Z
UID:10007070-1734206400-1734206400@poblenouurbandistrict.com
SUMMARY:La Milagrosa
DESCRIPTION:La Milagrosa es una banda de dream-punk con trazas de postpop procedentes de Madrid. \nMás información y entradas aquí.
URL:https://poblenouurbandistrict.com/es/agenda/la-milagrosa/
LOCATION:Sala Razzmatazz\, C/ dels Almogàvers\, 122\, Barcelona\, Barcelona\, 08018\, Espanya
CATEGORIES:Música
ATTACH;FMTTYPE=image/jpeg:https://media.poblenouurbandistrict.com/2024/12/25082259/lamilagrosaneo22832bw-1000x540-1.jpg
END:VEVENT
BEGIN:VEVENT
DTSTART;TZID=Europe/Madrid:20241214T200000
DTEND;TZID=Europe/Madrid:20241214T200000
DTSTAMP:20260423T191025
CREATED:20241210T112112Z
LAST-MODIFIED:20241210T112112Z
UID:10007071-1734206400-1734206400@poblenouurbandistrict.com
SUMMARY:Fuego Live: El Virtual La Percepción Tour
DESCRIPTION:  \nMás información y entradas aquí.
URL:https://poblenouurbandistrict.com/es/agenda/fuego-live-el-virtual-la-percepcion-tour/
LOCATION:Sala Razzmatazz\, C/ dels Almogàvers\, 122\, Barcelona\, Barcelona\, 08018\, Espanya
CATEGORIES:Música
ATTACH;FMTTYPE=image/jpeg:https://media.poblenouurbandistrict.com/2024/12/25082302/image000162-1000x540-1.jpeg
END:VEVENT
BEGIN:VEVENT
DTSTART;TZID=Europe/Madrid:20241215T190000
DTEND;TZID=Europe/Madrid:20241215T190000
DTSTAMP:20260423T191025
CREATED:20241202T100841Z
LAST-MODIFIED:20241202T100841Z
UID:10007050-1734289200-1734289200@poblenouurbandistrict.com
SUMMARY:[:ca]GÒSPEL SOLIDARI[:es]GÓSPEL SOLIDARIO[:en]CHARITY GOSPEL[:]
DESCRIPTION:CONCIERTO SOLIDARIO DE GÓSPEL L’ALIANÇA A BENEFICI D’ARRELS FUNDACIÓ. \nMás información y entradas aquí.
URL:https://poblenouurbandistrict.com/es/agenda/gospel-solidari/
LOCATION:Casino l’aliança del Poblenou\, Rambla del Poblenou\, 42\,\, Barcelona\, Barcelona\, 08005\, Espanya
CATEGORIES:Música
ATTACH;FMTTYPE=image/jpeg:https://media.poblenouurbandistrict.com/2024/12/25082014/c.jpg
END:VEVENT
BEGIN:VEVENT
DTSTART;TZID=Europe/Madrid:20241221T190000
DTEND;TZID=Europe/Madrid:20241221T210000
DTSTAMP:20260423T191025
CREATED:20241202T101909Z
LAST-MODIFIED:20241202T102516Z
UID:10007052-1734807600-1734814800@poblenouurbandistrict.com
SUMMARY:MADAMA BUTTERFLY – NOVARIA ARTISTS
DESCRIPTION:Ópera escenificada en dos actos \nMadama Butterfly de Giacomo Puccini es una de las óperas más aclamadas y frecuentemente representadas a nivel internacional. Pocas óperas del repertorio habitual emocionan y sorprenden el público como esta obra maestra de inicios del siglo XX (1904). \nMás información y entradas aquí.
URL:https://poblenouurbandistrict.com/es/agenda/sau30-en-concert/
LOCATION:Casino l’aliança del Poblenou\, Rambla del Poblenou\, 42\,\, Barcelona\, Barcelona\, 08005\, Espanya
CATEGORIES:Música,Teatro
ATTACH;FMTTYPE=image/jpeg:https://media.poblenouurbandistrict.com/2024/12/25082044/butterfly-imatge-destacada-01-2048x1729-1.jpg
END:VEVENT
END:VCALENDAR