BEGIN:VCALENDAR
VERSION:2.0
PRODID:-//Poblenou Urban District - ECPv6.15.20//NONSGML v1.0//EN
CALSCALE:GREGORIAN
METHOD:PUBLISH
X-ORIGINAL-URL:https://poblenouurbandistrict.com/es
X-WR-CALDESC:Eventos para Poblenou Urban District
REFRESH-INTERVAL;VALUE=DURATION:PT1H
X-Robots-Tag:noindex
X-PUBLISHED-TTL:PT1H
BEGIN:VTIMEZONE
TZID:Europe/Madrid
BEGIN:DAYLIGHT
TZOFFSETFROM:+0100
TZOFFSETTO:+0200
TZNAME:CEST
DTSTART:20240331T010000
END:DAYLIGHT
BEGIN:STANDARD
TZOFFSETFROM:+0200
TZOFFSETTO:+0100
TZNAME:CET
DTSTART:20241027T010000
END:STANDARD
BEGIN:DAYLIGHT
TZOFFSETFROM:+0100
TZOFFSETTO:+0200
TZNAME:CEST
DTSTART:20250330T010000
END:DAYLIGHT
BEGIN:STANDARD
TZOFFSETFROM:+0200
TZOFFSETTO:+0100
TZNAME:CET
DTSTART:20251026T010000
END:STANDARD
BEGIN:DAYLIGHT
TZOFFSETFROM:+0100
TZOFFSETTO:+0200
TZNAME:CEST
DTSTART:20260329T010000
END:DAYLIGHT
BEGIN:STANDARD
TZOFFSETFROM:+0200
TZOFFSETTO:+0100
TZNAME:CET
DTSTART:20261025T010000
END:STANDARD
END:VTIMEZONE
BEGIN:VEVENT
DTSTART;TZID=Europe/Madrid:20250301T223000
DTEND;TZID=Europe/Madrid:20250301T223000
DTSTAMP:20260423T135027
CREATED:20250228T130108Z
LAST-MODIFIED:20250228T130108Z
UID:10007142-1740868200-1740868200@poblenouurbandistrict.com
SUMMARY:YOUNG YELLOW PRICKS - ARCTIC MONKEYS TRIBUTE
DESCRIPTION:El mejor homenaje a Arctic Monkeys.
URL:https://poblenouurbandistrict.com/es/agenda/young-yellow-pricks-arctic-monkeys-tribute/
LOCATION:La Nau
CATEGORIES:Música
END:VEVENT
BEGIN:VEVENT
DTSTART;TZID=Europe/Madrid:20250325T190000
DTEND;TZID=Europe/Madrid:20250325T190000
DTSTAMP:20260423T135027
CREATED:20250325T114827Z
LAST-MODIFIED:20250325T114827Z
UID:10007143-1742929200-1742929200@poblenouurbandistrict.com
SUMMARY:AXEL RUDI PELL
DESCRIPTION:
URL:https://poblenouurbandistrict.com/es/agenda/axel-rudi-pell/
LOCATION:Sala Razzmatazz\, C/ dels Almogàvers\, 122\, Barcelona\, Barcelona\, 08018\, Espanya
CATEGORIES:Música
ATTACH;FMTTYPE=image/jpeg:https://media.poblenouurbandistrict.com/2025/03/25084657/axelweb-1000x540-1.jpg
END:VEVENT
BEGIN:VEVENT
DTSTART;TZID=Europe/Madrid:20250326T190000
DTEND;TZID=Europe/Madrid:20250326T190000
DTSTAMP:20260423T135027
CREATED:20250325T115043Z
LAST-MODIFIED:20250325T115043Z
UID:10007144-1743015600-1743015600@poblenouurbandistrict.com
SUMMARY:RUSLANA - GÉNESIS TOUR 2025
DESCRIPTION:
URL:https://poblenouurbandistrict.com/es/agenda/ruslana-genesis-tour-2025/
LOCATION:Sala Razzmatazz\, C/ dels Almogàvers\, 122\, Barcelona\, Barcelona\, 08018\, Espanya
CATEGORIES:Música
ATTACH;FMTTYPE=image/png:https://media.poblenouurbandistrict.com/2025/03/25084700/ruslapic-1000x540-1.png
END:VEVENT
BEGIN:VEVENT
DTSTART;TZID=Europe/Madrid:20250326T200000
DTEND;TZID=Europe/Madrid:20250326T200000
DTSTAMP:20260423T135027
CREATED:20250325T115304Z
LAST-MODIFIED:20250325T115304Z
UID:10007145-1743019200-1743019200@poblenouurbandistrict.com
SUMMARY:LOS MESONEROS
DESCRIPTION:
URL:https://poblenouurbandistrict.com/es/agenda/los-mesoneros/
LOCATION:Sala Razzmatazz\, C/ dels Almogàvers\, 122\, Barcelona\, Barcelona\, 08018\, Espanya
CATEGORIES:Música
ATTACH;FMTTYPE=image/jpeg:https://media.poblenouurbandistrict.com/2025/03/25084703/mesonerosposter.jpg
END:VEVENT
BEGIN:VEVENT
DTSTART;TZID=Europe/Madrid:20250327T190000
DTEND;TZID=Europe/Madrid:20250327T190000
DTSTAMP:20260423T135027
CREATED:20250325T115508Z
LAST-MODIFIED:20250325T120409Z
UID:10007146-1743102000-1743102000@poblenouurbandistrict.com
SUMMARY:BIGFLO & OLI + BERYWAM
DESCRIPTION:
URL:https://poblenouurbandistrict.com/es/agenda/bigflo-oli-berywam/
LOCATION:Sala Razzmatazz\, C/ dels Almogàvers\, 122\, Barcelona\, Barcelona\, 08018\, Espanya
CATEGORIES:Música
ATTACH;FMTTYPE=image/jpeg:https://media.poblenouurbandistrict.com/2025/03/25084706/bigfloweb-1000x540-1.jpg
END:VEVENT
BEGIN:VEVENT
DTSTART;TZID=Europe/Madrid:20250327T193000
DTEND;TZID=Europe/Madrid:20250327T193000
DTSTAMP:20260423T135027
CREATED:20250325T115919Z
LAST-MODIFIED:20250325T120519Z
UID:10007148-1743103800-1743103800@poblenouurbandistrict.com
SUMMARY:L'HAINE
DESCRIPTION:
URL:https://poblenouurbandistrict.com/es/agenda/lhaine/
LOCATION:Sala Razzmatazz\, C/ dels Almogàvers\, 122\, Barcelona\, Barcelona\, 08018\, Espanya
CATEGORIES:Música
ATTACH;FMTTYPE=image/png:https://media.poblenouurbandistrict.com/2025/03/25084712/lhainecart.png
END:VEVENT
BEGIN:VEVENT
DTSTART;TZID=Europe/Madrid:20250327T200000
DTEND;TZID=Europe/Madrid:20250327T200000
DTSTAMP:20260423T135027
CREATED:20250325T115731Z
LAST-MODIFIED:20250325T120547Z
UID:10007147-1743105600-1743105600@poblenouurbandistrict.com
SUMMARY:THE PICTUREBOOKS
DESCRIPTION:
URL:https://poblenouurbandistrict.com/es/agenda/the-picturebooks/
LOCATION:Sala Razzmatazz\, C/ dels Almogàvers\, 122\, Barcelona\, Barcelona\, 08018\, Espanya
CATEGORIES:Música
ATTACH;FMTTYPE=image/jpeg:https://media.poblenouurbandistrict.com/2025/03/25084709/picturebooks1-1000x540-1.jpg
END:VEVENT
BEGIN:VEVENT
DTSTART;TZID=Europe/Madrid:20250328T193000
DTEND;TZID=Europe/Madrid:20250328T193000
DTSTAMP:20260423T135027
CREATED:20250325T120048Z
LAST-MODIFIED:20250325T120802Z
UID:10007149-1743190200-1743190200@poblenouurbandistrict.com
SUMMARY:ZEAL & ARDOR
DESCRIPTION:
URL:https://poblenouurbandistrict.com/es/agenda/zeal-ardor/
LOCATION:Sala Razzmatazz\, C/ dels Almogàvers\, 122\, Barcelona\, Barcelona\, 08018\, Espanya
CATEGORIES:Música
ATTACH;FMTTYPE=image/jpeg:https://media.poblenouurbandistrict.com/2025/03/25084716/zeal1-1000x540-1.jpeg
END:VEVENT
BEGIN:VEVENT
DTSTART;TZID=Europe/Madrid:20250328T200000
DTEND;TZID=Europe/Madrid:20250328T200000
DTSTAMP:20260423T135027
CREATED:20250325T120241Z
LAST-MODIFIED:20250325T120911Z
UID:10007150-1743192000-1743192000@poblenouurbandistrict.com
SUMMARY:NIKLAS PASCHBURG
DESCRIPTION:
URL:https://poblenouurbandistrict.com/es/agenda/niklas-paschburg/
LOCATION:Sala Razzmatazz\, C/ dels Almogàvers\, 122\, Barcelona\, Barcelona\, 08018\, Espanya
CATEGORIES:Música
ATTACH;FMTTYPE=image/jpeg:https://media.poblenouurbandistrict.com/2025/03/25084719/niklas-1000x540-1.jpg
END:VEVENT
BEGIN:VEVENT
DTSTART;TZID=Europe/Madrid:20250328T203000
DTEND;TZID=Europe/Madrid:20250328T203000
DTSTAMP:20260423T135027
CREATED:20250325T121023Z
LAST-MODIFIED:20250325T121023Z
UID:10007151-1743193800-1743193800@poblenouurbandistrict.com
SUMMARY:SUU - GUITAR BCN 25
DESCRIPTION:
URL:https://poblenouurbandistrict.com/es/agenda/suu-guitar-bcn-25/
LOCATION:Sala Razzmatazz\, C/ dels Almogàvers\, 122\, Barcelona\, Barcelona\, 08018\, Espanya
CATEGORIES:Música
ATTACH;FMTTYPE=image/jpeg:https://media.poblenouurbandistrict.com/2025/03/25084722/suuposter2.jpg
END:VEVENT
BEGIN:VEVENT
DTSTART;TZID=Europe/Madrid:20250329T190000
DTEND;TZID=Europe/Madrid:20250329T190000
DTSTAMP:20260423T135027
CREATED:20250325T121502Z
LAST-MODIFIED:20250325T121502Z
UID:10007153-1743274800-1743274800@poblenouurbandistrict.com
SUMMARY:THE LIMIÑANAS + EXNOVIOS
DESCRIPTION:
URL:https://poblenouurbandistrict.com/es/agenda/the-liminanas-exnovios/
LOCATION:Sala Razzmatazz\, C/ dels Almogàvers\, 122\, Barcelona\, Barcelona\, 08018\, Espanya
CATEGORIES:Música
ATTACH;FMTTYPE=image/jpeg:https://media.poblenouurbandistrict.com/2025/03/25084731/exnovios.jpg
END:VEVENT
BEGIN:VEVENT
DTSTART;TZID=Europe/Madrid:20250329T193000
DTEND;TZID=Europe/Madrid:20250329T193000
DTSTAMP:20260423T135027
CREATED:20250325T121316Z
LAST-MODIFIED:20250325T121316Z
UID:10007152-1743276600-1743276600@poblenouurbandistrict.com
SUMMARY:GUILLEM GISBERT - B · SERIES25
DESCRIPTION:
URL:https://poblenouurbandistrict.com/es/agenda/guillem-gisbert-b-%c2%b7-series25/
LOCATION:Sala Razzmatazz\, C/ dels Almogàvers\, 122\, Barcelona\, Barcelona\, 08018\, Espanya
CATEGORIES:Música
ATTACH;FMTTYPE=image/png:https://media.poblenouurbandistrict.com/2025/03/25084728/guillem2.png
END:VEVENT
BEGIN:VEVENT
DTSTART;TZID=Europe/Madrid:20250329T200000
DTEND;TZID=Europe/Madrid:20250329T200000
DTSTAMP:20260423T135027
CREATED:20250325T121640Z
LAST-MODIFIED:20250325T121640Z
UID:10007154-1743278400-1743278400@poblenouurbandistrict.com
SUMMARY:Vangoura
DESCRIPTION:
URL:https://poblenouurbandistrict.com/es/agenda/vangoura/
LOCATION:Sala Razzmatazz\, C/ dels Almogàvers\, 122\, Barcelona\, Barcelona\, 08018\, Espanya
CATEGORIES:Música
ATTACH;FMTTYPE=image/jpeg:https://media.poblenouurbandistrict.com/2025/03/25084734/02-vangoura-29mar-miles-feed.jpg
END:VEVENT
BEGIN:VEVENT
DTSTART;TZID=Europe/Madrid:20250330T170000
DTEND;TZID=Europe/Madrid:20250330T170000
DTSTAMP:20260423T135027
CREATED:20250325T122027Z
LAST-MODIFIED:20250325T122027Z
UID:10007156-1743354000-1743354000@poblenouurbandistrict.com
SUMMARY:MARICAS: ACIDHEAVEN\, ISABELLA & THC
DESCRIPTION:
URL:https://poblenouurbandistrict.com/es/agenda/maricas-acidheaven-isabella-thc/
LOCATION:Sala Razzmatazz\, C/ dels Almogàvers\, 122\, Barcelona\, Barcelona\, 08018\, Espanya
CATEGORIES:Música
ATTACH;FMTTYPE=image/png:https://media.poblenouurbandistrict.com/2025/03/25084739/mxricxs.png
END:VEVENT
BEGIN:VEVENT
DTSTART;TZID=Europe/Madrid:20250330T193000
DTEND;TZID=Europe/Madrid:20250330T193000
DTSTAMP:20260423T135027
CREATED:20250325T121846Z
LAST-MODIFIED:20250325T121846Z
UID:10007155-1743363000-1743363000@poblenouurbandistrict.com
SUMMARY:LIN CORTÉS
DESCRIPTION:
URL:https://poblenouurbandistrict.com/es/agenda/lin-cortes/
LOCATION:Sala Razzmatazz\, C/ dels Almogàvers\, 122\, Barcelona\, Barcelona\, 08018\, Espanya
CATEGORIES:Música
ATTACH;FMTTYPE=image/png:https://media.poblenouurbandistrict.com/2025/03/25084737/lincorts-barcelona-entrada.png
END:VEVENT
END:VCALENDAR