BEGIN:VCALENDAR
VERSION:2.0
PRODID:-//Poblenou Urban District - ECPv6.15.20//NONSGML v1.0//EN
CALSCALE:GREGORIAN
METHOD:PUBLISH
X-ORIGINAL-URL:https://poblenouurbandistrict.com/es
X-WR-CALDESC:Eventos para Poblenou Urban District
REFRESH-INTERVAL;VALUE=DURATION:PT1H
X-Robots-Tag:noindex
X-PUBLISHED-TTL:PT1H
BEGIN:VTIMEZONE
TZID:Europe/Madrid
BEGIN:DAYLIGHT
TZOFFSETFROM:+0100
TZOFFSETTO:+0200
TZNAME:CEST
DTSTART:20240331T010000
END:DAYLIGHT
BEGIN:STANDARD
TZOFFSETFROM:+0200
TZOFFSETTO:+0100
TZNAME:CET
DTSTART:20241027T010000
END:STANDARD
BEGIN:DAYLIGHT
TZOFFSETFROM:+0100
TZOFFSETTO:+0200
TZNAME:CEST
DTSTART:20250330T010000
END:DAYLIGHT
BEGIN:STANDARD
TZOFFSETFROM:+0200
TZOFFSETTO:+0100
TZNAME:CET
DTSTART:20251026T010000
END:STANDARD
BEGIN:DAYLIGHT
TZOFFSETFROM:+0100
TZOFFSETTO:+0200
TZNAME:CEST
DTSTART:20260329T010000
END:DAYLIGHT
BEGIN:STANDARD
TZOFFSETFROM:+0200
TZOFFSETTO:+0100
TZNAME:CET
DTSTART:20261025T010000
END:STANDARD
END:VTIMEZONE
BEGIN:VEVENT
DTSTART;TZID=Europe/Madrid:20251218T190000
DTEND;TZID=Europe/Madrid:20251218T190000
DTSTAMP:20260422T191147
CREATED:20251216T114534Z
LAST-MODIFIED:20251216T114534Z
UID:10007397-1766084400-1766084400@poblenouurbandistrict.com
SUMMARY:NFx & Chevy Style Live
DESCRIPTION:
URL:https://poblenouurbandistrict.com/es/agenda/nfx-chevy-style-live/
LOCATION:La Nau
CATEGORIES:Música
ATTACH;FMTTYPE=image/jpeg:https://media.poblenouurbandistrict.com/2025/12/25100219/nfx.jpg
END:VEVENT
BEGIN:VEVENT
DTSTART;TZID=Europe/Madrid:20251219T200000
DTEND;TZID=Europe/Madrid:20251219T200000
DTSTAMP:20260422T191147
CREATED:20251216T104035Z
LAST-MODIFIED:20251216T104035Z
UID:10007377-1766174400-1766174400@poblenouurbandistrict.com
SUMMARY:El Petit de Cal Eril + Núria Graham
DESCRIPTION:
URL:https://poblenouurbandistrict.com/es/agenda/el-petit-de-cal-eril-nuria-graham/
LOCATION:Sala Razzmatazz\, C/ dels Almogàvers\, 122\, Barcelona\, Barcelona\, 08018\, Espanya
CATEGORIES:Música
ATTACH;FMTTYPE=image/jpeg:https://media.poblenouurbandistrict.com/2025/12/25100009/01-caleril-19dic-miles-feed-12.jpg
END:VEVENT
BEGIN:VEVENT
DTSTART;TZID=Europe/Madrid:20251219T220000
DTEND;TZID=Europe/Madrid:20251219T220000
DTSTAMP:20260422T191147
CREATED:20251216T114754Z
LAST-MODIFIED:20251216T114754Z
UID:10007398-1766181600-1766181600@poblenouurbandistrict.com
SUMMARY:SUPER RUMBÓN SALSERO DE NAVIDAD
DESCRIPTION:
URL:https://poblenouurbandistrict.com/es/agenda/super-rumbon-salsero-de-navidad/
LOCATION:La Nau
CATEGORIES:Música
ATTACH;FMTTYPE=image/jpeg:https://media.poblenouurbandistrict.com/2025/12/25100222/rumbon.jpg
END:VEVENT
BEGIN:VEVENT
DTSTART;TZID=Europe/Madrid:20251220T090000
DTEND;TZID=Europe/Madrid:20251220T090000
DTSTAMP:20260422T191147
CREATED:20251216T115017Z
LAST-MODIFIED:20251216T115047Z
UID:10007399-1766221200-1766221200@poblenouurbandistrict.com
SUMMARY:EN CLAVE DE SOUL
DESCRIPTION:
URL:https://poblenouurbandistrict.com/es/agenda/en-clave-de-soul/
LOCATION:La Nau
CATEGORIES:Música
ATTACH;FMTTYPE=image/jpeg:https://media.poblenouurbandistrict.com/2025/12/25100226/enclave.jpg
END:VEVENT
BEGIN:VEVENT
DTSTART;TZID=Europe/Madrid:20251220T200000
DTEND;TZID=Europe/Madrid:20251220T200000
DTSTAMP:20260422T191147
CREATED:20251216T104231Z
LAST-MODIFIED:20251216T104303Z
UID:10007378-1766260800-1766260800@poblenouurbandistrict.com
SUMMARY:Santa Salut
DESCRIPTION:
URL:https://poblenouurbandistrict.com/es/agenda/santa-salut/
LOCATION:Sala Razzmatazz\, C/ dels Almogàvers\, 122\, Barcelona\, Barcelona\, 08018\, Espanya
CATEGORIES:Música
ATTACH;FMTTYPE=image/jpeg:https://media.poblenouurbandistrict.com/2025/12/25100012/ss-1000x540-1.jpg
END:VEVENT
BEGIN:VEVENT
DTSTART;TZID=Europe/Madrid:20251220T200000
DTEND;TZID=Europe/Madrid:20251220T200000
DTSTAMP:20260422T191147
CREATED:20251216T104443Z
LAST-MODIFIED:20251216T104523Z
UID:10007379-1766260800-1766260800@poblenouurbandistrict.com
SUMMARY:Bala + Gyoza
DESCRIPTION:
URL:https://poblenouurbandistrict.com/es/agenda/bala-gyoza/
LOCATION:Sala Razzmatazz\, C/ dels Almogàvers\, 122\, Barcelona\, Barcelona\, 08018\, Espanya
CATEGORIES:Música
ATTACH;FMTTYPE=image/jpeg:https://media.poblenouurbandistrict.com/2025/12/25100015/balaprisas95ppp-9467-1000x540-1.jpg
END:VEVENT
BEGIN:VEVENT
DTSTART;TZID=Europe/Madrid:20251220T203000
DTEND;TZID=Europe/Madrid:20251220T203000
DTSTAMP:20260422T191147
CREATED:20251216T115309Z
LAST-MODIFIED:20251216T115353Z
UID:10007400-1766262600-1766262600@poblenouurbandistrict.com
SUMMARY:[:ca]Quintal Delas (Samba) + Tropicalles[:es]Quintal Delas (Samba)+ Topicalles[:en]Quintal Delas (Samba)+ Topicalles[:]
DESCRIPTION:
URL:https://poblenouurbandistrict.com/es/agenda/quintal-delas-samba-tropicalles/
LOCATION:La Nau
CATEGORIES:Música
ATTACH;FMTTYPE=image/jpeg:https://media.poblenouurbandistrict.com/2025/12/25100229/cartelsamba2012web.jpg
END:VEVENT
BEGIN:VEVENT
DTSTART;TZID=Europe/Madrid:20251221T170000
DTEND;TZID=Europe/Madrid:20251221T170000
DTSTAMP:20260422T191147
CREATED:20251216T104711Z
LAST-MODIFIED:20251216T104711Z
UID:10007380-1766336400-1766336400@poblenouurbandistrict.com
SUMMARY:Manuelas
DESCRIPTION:
URL:https://poblenouurbandistrict.com/es/agenda/manuelas/
LOCATION:Sala Razzmatazz\, C/ dels Almogàvers\, 122\, Barcelona\, Barcelona\, 08018\, Espanya
CATEGORIES:Música
ATTACH;FMTTYPE=image/jpeg:https://media.poblenouurbandistrict.com/2025/12/25100018/manuelasxrazz2002-1000x540-1.jpeg
END:VEVENT
BEGIN:VEVENT
DTSTART;TZID=Europe/Madrid:20251221T183000
DTEND;TZID=Europe/Madrid:20251221T183000
DTSTAMP:20260422T191147
CREATED:20251216T115544Z
LAST-MODIFIED:20251216T115544Z
UID:10007401-1766341800-1766341800@poblenouurbandistrict.com
SUMMARY:LIKE A STONE (PEARL JAM\, AUDIOSLAVE\, SOUNDGARDEN & R.A.T.M. TRIBUTE)
DESCRIPTION:
URL:https://poblenouurbandistrict.com/es/agenda/like-a-stone-pearl-jam-audioslave-soundgarden-r-a-t-m-tribute/
LOCATION:La Nau
CATEGORIES:Música
ATTACH;FMTTYPE=image/jpeg:https://media.poblenouurbandistrict.com/2025/12/25100233/likeastone-barcelona-web-copia.jpg
END:VEVENT
BEGIN:VEVENT
DTSTART;TZID=Europe/Madrid:20251223T180000
DTEND;TZID=Europe/Madrid:20251223T180000
DTSTAMP:20260422T191147
CREATED:20251216T104924Z
LAST-MODIFIED:20251216T104924Z
UID:10007381-1766512800-1766512800@poblenouurbandistrict.com
SUMMARY:ACT X PALESTINE - CONCERT DE NADAL: ELS AMICS DE LES ARTS\, FIGA FLAWAS\, LA FÚMIGA\, MARIA JAUME\, MUSHKA\, SUU\, THE TYETS\, DJ TRAPELLA
DESCRIPTION:
URL:https://poblenouurbandistrict.com/es/agenda/act-x-palestine-concert-de-nadal-els-amics-de-les-arts-figa-flawas-la-fumiga-maria-jaume-mushka-suu-the-tyets-dj-trapella/
LOCATION:Sala Razzmatazz\, C/ dels Almogàvers\, 122\, Barcelona\, Barcelona\, 08018\, Espanya
CATEGORIES:Música
ATTACH;FMTTYPE=image/jpeg:https://media.poblenouurbandistrict.com/2025/12/25100021/actx.jpeg
END:VEVENT
BEGIN:VEVENT
DTSTART;TZID=Europe/Madrid:20251226T220000
DTEND;TZID=Europe/Madrid:20251226T220000
DTSTAMP:20260422T191147
CREATED:20251216T115706Z
LAST-MODIFIED:20251216T115706Z
UID:10007402-1766786400-1766786400@poblenouurbandistrict.com
SUMMARY:TUMBAKIN EN CONCIERTO
DESCRIPTION:
URL:https://poblenouurbandistrict.com/es/agenda/tumbakin-en-concierto/
LOCATION:La Nau
CATEGORIES:Música
ATTACH;FMTTYPE=image/jpeg:https://media.poblenouurbandistrict.com/2025/12/25100236/bcn-tumbakin-web.jpg
END:VEVENT
BEGIN:VEVENT
DTSTART;TZID=Europe/Madrid:20251227T213000
DTEND;TZID=Europe/Madrid:20251227T213000
DTSTAMP:20260422T191147
CREATED:20251216T105358Z
LAST-MODIFIED:20251216T105358Z
UID:10007382-1766871000-1766871000@poblenouurbandistrict.com
SUMMARY:ALBANY
DESCRIPTION:
URL:https://poblenouurbandistrict.com/es/agenda/albany/
LOCATION:Sala Razzmatazz\, C/ dels Almogàvers\, 122\, Barcelona\, Barcelona\, 08018\, Espanya
CATEGORIES:Música
ATTACH;FMTTYPE=image/jpeg:https://media.poblenouurbandistrict.com/2025/12/25100025/albany-1000x540-1.jpg
END:VEVENT
BEGIN:VEVENT
DTSTART;TZID=Europe/Madrid:20251227T213000
DTEND;TZID=Europe/Madrid:20251227T213000
DTSTAMP:20260422T191147
CREATED:20251216T115831Z
LAST-MODIFIED:20251216T115831Z
UID:10007403-1766871000-1766871000@poblenouurbandistrict.com
SUMMARY:COPACABANA
DESCRIPTION:
URL:https://poblenouurbandistrict.com/es/agenda/copacabana/
LOCATION:La Nau
CATEGORIES:Música
ATTACH;FMTTYPE=image/jpeg:https://media.poblenouurbandistrict.com/2025/12/25100239/copacabananuevoweb.jpg
END:VEVENT
BEGIN:VEVENT
DTSTART;TZID=Europe/Madrid:20251228T170000
DTEND;TZID=Europe/Madrid:20251228T170000
DTSTAMP:20260422T191147
CREATED:20251216T105631Z
LAST-MODIFIED:20251216T105631Z
UID:10007383-1766941200-1766941200@poblenouurbandistrict.com
SUMMARY:DUB ACADEMY BCN w Adala + Iration Steppas + Greenlight Sound System
DESCRIPTION:
URL:https://poblenouurbandistrict.com/es/agenda/dub-academy-bcn-w-adala-iration-steppas-greenlight-sound-system/
LOCATION:Sala Razzmatazz\, C/ dels Almogàvers\, 122\, Barcelona\, Barcelona\, 08018\, Espanya
CATEGORIES:Música
ATTACH;FMTTYPE=image/jpeg:https://media.poblenouurbandistrict.com/2025/12/25100028/dub.jpg
END:VEVENT
END:VCALENDAR