BEGIN:VCALENDAR
VERSION:2.0
PRODID:-//Poblenou Urban District - ECPv6.15.20//NONSGML v1.0//EN
CALSCALE:GREGORIAN
METHOD:PUBLISH
X-ORIGINAL-URL:https://poblenouurbandistrict.com/es
X-WR-CALDESC:Eventos para Poblenou Urban District
REFRESH-INTERVAL;VALUE=DURATION:PT1H
X-Robots-Tag:noindex
X-PUBLISHED-TTL:PT1H
BEGIN:VTIMEZONE
TZID:Europe/Madrid
BEGIN:DAYLIGHT
TZOFFSETFROM:+0100
TZOFFSETTO:+0200
TZNAME:CEST
DTSTART:20210328T010000
END:DAYLIGHT
BEGIN:STANDARD
TZOFFSETFROM:+0200
TZOFFSETTO:+0100
TZNAME:CET
DTSTART:20211031T010000
END:STANDARD
BEGIN:DAYLIGHT
TZOFFSETFROM:+0100
TZOFFSETTO:+0200
TZNAME:CEST
DTSTART:20220327T010000
END:DAYLIGHT
BEGIN:STANDARD
TZOFFSETFROM:+0200
TZOFFSETTO:+0100
TZNAME:CET
DTSTART:20221030T010000
END:STANDARD
BEGIN:DAYLIGHT
TZOFFSETFROM:+0100
TZOFFSETTO:+0200
TZNAME:CEST
DTSTART:20230326T010000
END:DAYLIGHT
BEGIN:STANDARD
TZOFFSETFROM:+0200
TZOFFSETTO:+0100
TZNAME:CET
DTSTART:20231029T010000
END:STANDARD
END:VTIMEZONE
BEGIN:VEVENT
DTSTART;TZID=Europe/Madrid:20220721T160000
DTEND;TZID=Europe/Madrid:20220721T170000
DTSTAMP:20260426T044345
CREATED:20220713T102253Z
LAST-MODIFIED:20220713T102253Z
UID:10003907-1658419200-1658422800@poblenouurbandistrict.com
SUMMARY:[:ca]Info Day Online: Producció de Audio[:es]Info Day Online: Producción de Audio[:en]Info Day Online: Audio Production[:]
DESCRIPTION:Si sueñas con trabajar como productor\, el primer paso para conseguirlo es enfocar tu formación en la dirección correcta. \nEn SAE llevamos décadas formando profesionales de primer nivel y algunos de nuestros alumni ya trabajan en empresas como Warner Music Chappell Spain\, BMAT Music Innovators o Spinnin Records. \nTienes la oportunidad de conocer cómo se formaron y descubrir nuestro Programa en Producción de Audio en una sesión online con el Head of Audio en SAE Barcelona\, Víctor Casado y el Head of Audio en SAE Madrid\, Fernando Fernández del Amo\, en la que hablaremos de las necesidades de la industria y revisaremos algunos de los proyectos más destacados que nuestros estudiantes han realizado a lo largo de su formación.
URL:https://poblenouurbandistrict.com/es/agenda/info-day-online-produccio-de-audio-2/
LOCATION:SAE Barcelona\, C/ del Perú\, 176\, Barcelona\, 08020
CATEGORIES:Música
ATTACH;FMTTYPE=image/jpeg:https://media.poblenouurbandistrict.com/2022/07/25053513/info-day-web-audio-production-842x842-1.jpg
END:VEVENT
BEGIN:VEVENT
DTSTART;TZID=Europe/Madrid:20220721T173000
DTEND;TZID=Europe/Madrid:20220721T183000
DTSTAMP:20260426T044345
CREATED:20220713T102553Z
LAST-MODIFIED:20220713T102553Z
UID:10003908-1658424600-1658428200@poblenouurbandistrict.com
SUMMARY:[:ca]Info Day Online: Producció de Música Electrónica[:es]Info Day Online: Producción de Música Electrónica[:en]Info Day Online: Electronic Music Production[:]
DESCRIPTION:Si sueñas con trabajar como productor\, el primer paso para conseguirlo es enfocar tu formación en la dirección correcta. \nEn SAE llevamos décadas formando profesionales de primer nivel y algunos de nuestros alumni ya trabajan en empresas como MTV Dance\, Creamfields o Tomorrowland . \nEl próximo 21 de Julio tienes la oportunidad de conocer cómo se formaron y descubrir nuestro Programa en Producción de Música Electrónica en una sesión online con el Head of Electronic Music en SAE Barcelona\, Javier Guil´lén y el Head of Electronic Music en SAE Madrid\, Marco Octavio Gómez \, en la que hablaremos de las necesidades de la industria y revisaremos algunos de los proyectos más destacados que nuestros estudiantes han realizado a lo largo de su formación.
URL:https://poblenouurbandistrict.com/es/agenda/info-day-online-produccio-de-musica-electronica-2/
LOCATION:SAE Barcelona\, C/ del Perú\, 176\, Barcelona\, 08020
CATEGORIES:Música
ATTACH;FMTTYPE=image/jpeg:https://media.poblenouurbandistrict.com/2022/07/25053514/info-day-web-electronic-music-production-842x842-1.jpg
END:VEVENT
END:VCALENDAR