BEGIN:VCALENDAR
VERSION:2.0
PRODID:-//Poblenou Urban District - ECPv6.15.20//NONSGML v1.0//EN
CALSCALE:GREGORIAN
METHOD:PUBLISH
X-WR-CALNAME:Poblenou Urban District
X-ORIGINAL-URL:https://poblenouurbandistrict.com/es
X-WR-CALDESC:Eventos para Poblenou Urban District
REFRESH-INTERVAL;VALUE=DURATION:PT1H
X-Robots-Tag:noindex
X-PUBLISHED-TTL:PT1H
BEGIN:VTIMEZONE
TZID:Europe/Madrid
BEGIN:DAYLIGHT
TZOFFSETFROM:+0100
TZOFFSETTO:+0200
TZNAME:CEST
DTSTART:20210328T010000
END:DAYLIGHT
BEGIN:STANDARD
TZOFFSETFROM:+0200
TZOFFSETTO:+0100
TZNAME:CET
DTSTART:20211031T010000
END:STANDARD
BEGIN:DAYLIGHT
TZOFFSETFROM:+0100
TZOFFSETTO:+0200
TZNAME:CEST
DTSTART:20220327T010000
END:DAYLIGHT
BEGIN:STANDARD
TZOFFSETFROM:+0200
TZOFFSETTO:+0100
TZNAME:CET
DTSTART:20221030T010000
END:STANDARD
BEGIN:DAYLIGHT
TZOFFSETFROM:+0100
TZOFFSETTO:+0200
TZNAME:CEST
DTSTART:20230326T010000
END:DAYLIGHT
BEGIN:STANDARD
TZOFFSETFROM:+0200
TZOFFSETTO:+0100
TZNAME:CET
DTSTART:20231029T010000
END:STANDARD
END:VTIMEZONE
BEGIN:VEVENT
DTSTART;TZID=Europe/Madrid:20220723T130000
DTEND;TZID=Europe/Madrid:20220723T210000
DTSTAMP:20260426T045651
CREATED:20220722T122721Z
LAST-MODIFIED:20220722T144518Z
UID:10003915-1658581200-1658610000@poblenouurbandistrict.com
SUMMARY:[:ca]Música: Sub-Urban[:es]Música: Sub-Urban[:en]Music: Sub-Urban[:]
DESCRIPTION:Deep House\, Nu-Disco y Soulful son los sonidos que definen a Sub_Urban Music\, un sello discográfico independiente de Mallorca que se ha hecho un hueco entre los mejores sellos de House del mundo. El sello de Sebas Ramis trae este verano a algunos de sus artistas de peso\, como Sam Ruffillo y el vocalista estadounidense Lee Wilson\, acompañados de los habituales Viktor Olle y el propio Sebas Ramis.
URL:https://poblenouurbandistrict.com/es/agenda/musica-sub-urban/2022-07-23/
LOCATION:Hilton Diagonal Mar\, Passeig del Taulat\, 262-264\, Barcelona\, 08019\, España
CATEGORIES:Música
ATTACH;FMTTYPE=image/jpeg:https://media.poblenouurbandistrict.com/2022/07/25053711/capture-decran-2022-07-22-a-142240.jpg
END:VEVENT
BEGIN:VEVENT
DTSTART;TZID=Europe/Madrid:20220723T190000
DTEND;TZID=Europe/Madrid:20220723T210000
DTSTAMP:20260426T045652
CREATED:20220609T095914Z
LAST-MODIFIED:20220609T095914Z
UID:10003803-1658602800-1658610000@poblenouurbandistrict.com
SUMMARY:[:ca]Música: Ecos del Rocío[:es]Música: Ecos del Rocío[:en]Music: Ecos del Rocío[:]
DESCRIPTION:Después de 2 años retirados de los escenarios por causa de la Pandemia\, Ecos del Rocío vuelven a encontrarse con su públic en su nueva gira de conciertos 2022\, y ya están trabajando su nuevo disco.
URL:https://poblenouurbandistrict.com/es/agenda/musica-ecos-del-rocio/
LOCATION:L’Auditori\, Carrer de Lepant\, 150\, Barcelona\, 08013\, Espanya
CATEGORIES:Música
ATTACH;FMTTYPE=image/jpeg:https://media.poblenouurbandistrict.com/2022/06/25052750/screenshot-2022-06-09-at-115847.jpg
END:VEVENT
BEGIN:VEVENT
DTSTART;TZID=Europe/Madrid:20220723T200000
DTEND;TZID=Europe/Madrid:20220723T213000
DTSTAMP:20260426T045652
CREATED:20220530T090111Z
LAST-MODIFIED:20220530T090111Z
UID:10003691-1658606400-1658611800@poblenouurbandistrict.com
SUMMARY:[:ca]Concert: Grime + Ultar + Bloody Tyrant[:es]Concierto: Grime + Ultar + Bloody Tyrant[:en]Concert: Grime + Ultar + Bloody Tyrant[:]
DESCRIPTION:Los dos hermanos gemelos\, Gleb y Maxim Sysoev\, activos en un gran número de proyectos\, entre los que destacan Grima y Ultar\, han unido fuerzas para expandir sus congeladas atmósferas a lo largo de Europa en julio de 2022.
URL:https://poblenouurbandistrict.com/es/agenda/concert-grime-ultar-bloody-tyrant/
LOCATION:Sala Razzmatazz\, C/ dels Almogàvers\, 122\, Barcelona\, Barcelona\, 08018\, Espanya
CATEGORIES:Música
ATTACH;FMTTYPE=image/jpeg:https://media.poblenouurbandistrict.com/2022/05/25052325/screenshot-2022-05-30-at-110021.jpg
END:VEVENT
BEGIN:VEVENT
DTSTART;TZID=Europe/Madrid:20220723T210000
DTEND;TZID=Europe/Madrid:20220723T223000
DTSTAMP:20260426T045652
CREATED:20220701T133158Z
LAST-MODIFIED:20220701T133158Z
UID:10003383-1658610000-1658615400@poblenouurbandistrict.com
SUMMARY:[:ca]Concert: Júlia Pigali + The Signori + Mar Pujol[:es]Concierto: Júlia Pigali + The Signori + Mar Pujol[:en]Concert: Júlia Pigali + The Signori + Mar Pujol[:]
DESCRIPTION:Júlia Pigali + The Signori + Mar Pujol en La Nau
URL:https://poblenouurbandistrict.com/es/agenda/concert-julia-pigali-the-signori-mar-pujol/
LOCATION:La Nau
CATEGORIES:Música
ATTACH;FMTTYPE=image/jpeg:https://media.poblenouurbandistrict.com/2022/07/25053327/capture-decran-2022-07-01-a-152008.jpg
END:VEVENT
END:VCALENDAR