BEGIN:VCALENDAR
VERSION:2.0
PRODID:-//Poblenou Urban District - ECPv6.15.20//NONSGML v1.0//EN
CALSCALE:GREGORIAN
METHOD:PUBLISH
X-WR-CALNAME:Poblenou Urban District
X-ORIGINAL-URL:https://poblenouurbandistrict.com/es
X-WR-CALDESC:Eventos para Poblenou Urban District
REFRESH-INTERVAL;VALUE=DURATION:PT1H
X-Robots-Tag:noindex
X-PUBLISHED-TTL:PT1H
BEGIN:VTIMEZONE
TZID:Europe/Madrid
BEGIN:DAYLIGHT
TZOFFSETFROM:+0100
TZOFFSETTO:+0200
TZNAME:CEST
DTSTART:20210328T010000
END:DAYLIGHT
BEGIN:STANDARD
TZOFFSETFROM:+0200
TZOFFSETTO:+0100
TZNAME:CET
DTSTART:20211031T010000
END:STANDARD
BEGIN:DAYLIGHT
TZOFFSETFROM:+0100
TZOFFSETTO:+0200
TZNAME:CEST
DTSTART:20220327T010000
END:DAYLIGHT
BEGIN:STANDARD
TZOFFSETFROM:+0200
TZOFFSETTO:+0100
TZNAME:CET
DTSTART:20221030T010000
END:STANDARD
BEGIN:DAYLIGHT
TZOFFSETFROM:+0100
TZOFFSETTO:+0200
TZNAME:CEST
DTSTART:20230326T010000
END:DAYLIGHT
BEGIN:STANDARD
TZOFFSETFROM:+0200
TZOFFSETTO:+0100
TZNAME:CET
DTSTART:20231029T010000
END:STANDARD
END:VTIMEZONE
BEGIN:VEVENT
DTSTART;TZID=Europe/Madrid:20220729T130000
DTEND;TZID=Europe/Madrid:20220729T200000
DTSTAMP:20260426T045559
CREATED:20220722T124423Z
LAST-MODIFIED:20220722T124423Z
UID:10003918-1659099600-1659124800@poblenouurbandistrict.com
SUMMARY:[:ca]Música: Puro Meets[:es]Música: Puro Meets[:en]Music: Puro Meets[:]
DESCRIPTION:Barcelona es la ciudad con música en el aire\, es un tejido donde se crean grandes artistas con talento. Meets es el lugar donde los artistas de la escena musical de Barcelona se «encuentran» con diferentes matices. MEETS nos mostrará su personal interpretación del concepto Purobeach a través de sus sonidos.
URL:https://poblenouurbandistrict.com/es/agenda/musica-puro-meets/
LOCATION:Hilton Diagonal Mar\, Passeig del Taulat\, 262-264\, Barcelona\, 08019\, España
CATEGORIES:Música
ATTACH;FMTTYPE=image/jpeg:https://media.poblenouurbandistrict.com/2022/07/25053714/capture-decran-2022-07-22-a-143933.jpg
END:VEVENT
BEGIN:VEVENT
DTSTART;TZID=Europe/Madrid:20220729T190000
DTEND;TZID=Europe/Madrid:20220729T210000
DTSTAMP:20260426T045559
CREATED:20220530T091236Z
LAST-MODIFIED:20220530T091236Z
UID:10003693-1659121200-1659128400@poblenouurbandistrict.com
SUMMARY:[:ca]Concert: LAGWAGON[:es]Concierto: LAGWAGON[:en]Concert: LAGWAGON[:]
DESCRIPTION:LAGWAGON vuelve el próximo 2022 al warmup del Festival Barna ‘n’ Roll. Mad Caddies se unen a la fiesta\, donde ya contábamos con The Flatliners. Por si no fuese suficiente\, aún queda una banda más para desvelar que publicarán pronto.
URL:https://poblenouurbandistrict.com/es/agenda/concert-lagwagon/
LOCATION:Sala Razzmatazz\, C/ dels Almogàvers\, 122\, Barcelona\, Barcelona\, 08018\, Espanya
CATEGORIES:Música
ATTACH;FMTTYPE=image/jpeg:https://media.poblenouurbandistrict.com/2022/05/25052328/screenshot-2022-05-30-at-111108.jpg
END:VEVENT
BEGIN:VEVENT
DTSTART;TZID=Europe/Madrid:20220729T223000
DTEND;TZID=Europe/Madrid:20220729T233000
DTSTAMP:20260426T045559
CREATED:20220609T103101Z
LAST-MODIFIED:20220609T103101Z
UID:10003331-1659133800-1659137400@poblenouurbandistrict.com
SUMMARY:[:ca]Concert: Interactivo[:es]Concierto: Interactivo[:en]Concert: Interactivo[:]
DESCRIPTION:Interactivo es una de las bandas cubanas más notorias de esta generación\, por ser un espacio abierto a las ideas vanguardistas\, a la creatividad\, estilo\, pensamiento musical y talento de grandes intérpretes.
URL:https://poblenouurbandistrict.com/es/agenda/concert-interactivo/
LOCATION:La Nau
CATEGORIES:Música
ATTACH;FMTTYPE=image/jpeg:https://media.poblenouurbandistrict.com/2022/06/25052845/interactivo-entradium.jpg
END:VEVENT
END:VCALENDAR