BEGIN:VCALENDAR
VERSION:2.0
PRODID:-//Poblenou Urban District - ECPv6.15.20//NONSGML v1.0//EN
CALSCALE:GREGORIAN
METHOD:PUBLISH
X-ORIGINAL-URL:https://poblenouurbandistrict.com/es
X-WR-CALDESC:Eventos para Poblenou Urban District
REFRESH-INTERVAL;VALUE=DURATION:PT1H
X-Robots-Tag:noindex
X-PUBLISHED-TTL:PT1H
BEGIN:VTIMEZONE
TZID:Europe/Madrid
BEGIN:DAYLIGHT
TZOFFSETFROM:+0100
TZOFFSETTO:+0200
TZNAME:CEST
DTSTART:20210328T010000
END:DAYLIGHT
BEGIN:STANDARD
TZOFFSETFROM:+0200
TZOFFSETTO:+0100
TZNAME:CET
DTSTART:20211031T010000
END:STANDARD
BEGIN:DAYLIGHT
TZOFFSETFROM:+0100
TZOFFSETTO:+0200
TZNAME:CEST
DTSTART:20220327T010000
END:DAYLIGHT
BEGIN:STANDARD
TZOFFSETFROM:+0200
TZOFFSETTO:+0100
TZNAME:CET
DTSTART:20221030T010000
END:STANDARD
BEGIN:DAYLIGHT
TZOFFSETFROM:+0100
TZOFFSETTO:+0200
TZNAME:CEST
DTSTART:20230326T010000
END:DAYLIGHT
BEGIN:STANDARD
TZOFFSETFROM:+0200
TZOFFSETTO:+0100
TZNAME:CET
DTSTART:20231029T010000
END:STANDARD
END:VTIMEZONE
BEGIN:VEVENT
DTSTART;TZID=Europe/Madrid:20220730T130000
DTEND;TZID=Europe/Madrid:20220730T210000
DTSTAMP:20260426T045903
CREATED:20220722T124830Z
LAST-MODIFIED:20220722T124830Z
UID:10003919-1659186000-1659214800@poblenouurbandistrict.com
SUMMARY:[:ca]Música: Splash yourself into the groove[:es]Música: Splash yourself into the groove[:en]Music: Splash yourself into the groove[:]
DESCRIPTION:SPLASH es una experiencia diurna que surge de la necesidad que tiene la ciudad de Barcelona de un espacio plural\, un lugar donde sabes cuando llegas\, pero nunca cuando te vas… CADA VERANO TIENE UNA HISTORIA
URL:https://poblenouurbandistrict.com/es/agenda/musica-splash-yourself-into-the-groove/
LOCATION:Hilton Diagonal Mar\, Passeig del Taulat\, 262-264\, Barcelona\, 08019\, España
CATEGORIES:Música
ATTACH;FMTTYPE=image/jpeg:https://media.poblenouurbandistrict.com/2022/07/25053715/capture-decran-2022-07-22-a-144737.jpg
END:VEVENT
BEGIN:VEVENT
DTSTART;TZID=Europe/Madrid:20220730T200000
DTEND;TZID=Europe/Madrid:20220730T213000
DTSTAMP:20260426T045903
CREATED:20220609T100330Z
LAST-MODIFIED:20220609T100330Z
UID:10003322-1659211200-1659216600@poblenouurbandistrict.com
SUMMARY:[:ca]Música: Aquí Tothom Canta![:es]Música: ¡Aquí todo el mundo canta![:en]Music: Everybody sings here![:]
DESCRIPTION:De Vivaldi a Verdi\, de West Side Story a La La Land. Un recorrido musical donde cada uno del público encontrará una melodía conocida y las ganas de ponerse a cantar.
URL:https://poblenouurbandistrict.com/es/agenda/musica-aqui-tothom-canta/
LOCATION:L’Auditori\, Carrer de Lepant\, 150\, Barcelona\, 08013\, Espanya
CATEGORIES:Música
ATTACH;FMTTYPE=image/jpeg:https://media.poblenouurbandistrict.com/2022/06/25052751/screenshot-2022-06-09-at-120259.jpg
END:VEVENT
BEGIN:VEVENT
DTSTART;TZID=Europe/Madrid:20220730T203000
DTEND;TZID=Europe/Madrid:20220730T220000
DTSTAMP:20260426T045903
CREATED:20220609T103442Z
LAST-MODIFIED:20220609T103442Z
UID:10003334-1659213000-1659218400@poblenouurbandistrict.com
SUMMARY:[:ca]Concert: La Perla + Akolá Tambó + Lumbalú[:es]Concierto: La Perla + Akolá Tambó + Lumbalú[:en]Concert: La Perla + Akolá Tambó + Lumbalú[:]
DESCRIPTION:Guacamayo Tropical presenta: La Perla en Barcelona junto a Akolá Tambó y Lumbalú.
URL:https://poblenouurbandistrict.com/es/agenda/concert-la-perla-akola-tambo-lumbalu/
LOCATION:La Nau
CATEGORIES:Música
ATTACH;FMTTYPE=image/jpeg:https://media.poblenouurbandistrict.com/2022/06/25052846/screenshot-2022-06-09-at-123325.jpg
END:VEVENT
END:VCALENDAR