BEGIN:VCALENDAR
VERSION:2.0
PRODID:-//Poblenou Urban District - ECPv6.15.20//NONSGML v1.0//EN
CALSCALE:GREGORIAN
METHOD:PUBLISH
X-ORIGINAL-URL:https://poblenouurbandistrict.com/es
X-WR-CALDESC:Eventos para Poblenou Urban District
REFRESH-INTERVAL;VALUE=DURATION:PT1H
X-Robots-Tag:noindex
X-PUBLISHED-TTL:PT1H
BEGIN:VTIMEZONE
TZID:Europe/Madrid
BEGIN:DAYLIGHT
TZOFFSETFROM:+0100
TZOFFSETTO:+0200
TZNAME:CEST
DTSTART:20210328T010000
END:DAYLIGHT
BEGIN:STANDARD
TZOFFSETFROM:+0200
TZOFFSETTO:+0100
TZNAME:CET
DTSTART:20211031T010000
END:STANDARD
BEGIN:DAYLIGHT
TZOFFSETFROM:+0100
TZOFFSETTO:+0200
TZNAME:CEST
DTSTART:20220327T010000
END:DAYLIGHT
BEGIN:STANDARD
TZOFFSETFROM:+0200
TZOFFSETTO:+0100
TZNAME:CET
DTSTART:20221030T010000
END:STANDARD
BEGIN:DAYLIGHT
TZOFFSETFROM:+0100
TZOFFSETTO:+0200
TZNAME:CEST
DTSTART:20230326T010000
END:DAYLIGHT
BEGIN:STANDARD
TZOFFSETFROM:+0200
TZOFFSETTO:+0100
TZNAME:CET
DTSTART:20231029T010000
END:STANDARD
END:VTIMEZONE
BEGIN:VEVENT
DTSTART;TZID=Europe/Madrid:20220806T130000
DTEND;TZID=Europe/Madrid:20220806T210000
DTSTAMP:20260426T024513
CREATED:20220722T130709Z
LAST-MODIFIED:20220722T130709Z
UID:10003924-1659790800-1659819600@poblenouurbandistrict.com
SUMMARY:[:ca]Música: You Ibiza[:es]Música: You Ibiza[:en]Music: You Ibiza[:]
DESCRIPTION:Es mucho más que el nuevo concepto de fiesta ideado por el equipo de TEN Ibiza. TÚ es lo que pasa cuando te dejas influenciar por la magia de la Isla… TÚ\, es un buen cóctel\, una actitud\, una energía. YOU es el auténtico sonido balear del momento. TÚ son las sesiones de Oriol Calvo junto a las de una larga lista de artistas invitados. En definitiva\, YOU es una nueva forma de sentir\, vivir\, bailar y saborear la esencia de Ibiza desde el lugar que elijas.
URL:https://poblenouurbandistrict.com/es/agenda/musica-you-ibiza/
LOCATION:Hilton Diagonal Mar\, Passeig del Taulat\, 262-264\, Barcelona\, 08019\, España
CATEGORIES:Música
ATTACH;FMTTYPE=image/jpeg:https://media.poblenouurbandistrict.com/2022/07/25053720/capture-decran-2022-07-22-a-150559.jpg
END:VEVENT
BEGIN:VEVENT
DTSTART;TZID=Europe/Madrid:20220806T193000
DTEND;TZID=Europe/Madrid:20220806T210000
DTSTAMP:20260426T024513
CREATED:20220615T094914Z
LAST-MODIFIED:20220615T094914Z
UID:10003832-1659814200-1659819600@poblenouurbandistrict.com
SUMMARY:[:ca]Concert: Testament + Exodus + Heathen[:es]Concierto: Testament + Exodus + Heathen[:en]Concert: Testament + Exodus + Heathen[:]
DESCRIPTION:Durante más de tres décadas\, el quinteto de Bay Area nos ha traído metal en su forma más pura\, sin ningún tipo de compromisos y sin quitar el pie del acelerador. Harán un concierto en Sala Razzmatazz el 6 de agosto.
URL:https://poblenouurbandistrict.com/es/agenda/concert-testament-exodus-heathen/
LOCATION:Sala Razzmatazz\, C/ dels Almogàvers\, 122\, Barcelona\, Barcelona\, 08018\, Espanya
CATEGORIES:Música
ATTACH;FMTTYPE=image/jpeg:https://media.poblenouurbandistrict.com/2022/06/25053005/screenshot-2022-06-15-at-114830.jpg
END:VEVENT
END:VCALENDAR