BEGIN:VCALENDAR
VERSION:2.0
PRODID:-//Poblenou Urban District - ECPv6.15.20//NONSGML v1.0//EN
CALSCALE:GREGORIAN
METHOD:PUBLISH
X-ORIGINAL-URL:https://poblenouurbandistrict.com/es
X-WR-CALDESC:Eventos para Poblenou Urban District
REFRESH-INTERVAL;VALUE=DURATION:PT1H
X-Robots-Tag:noindex
X-PUBLISHED-TTL:PT1H
BEGIN:VTIMEZONE
TZID:Europe/Madrid
BEGIN:DAYLIGHT
TZOFFSETFROM:+0100
TZOFFSETTO:+0200
TZNAME:CEST
DTSTART:20210328T010000
END:DAYLIGHT
BEGIN:STANDARD
TZOFFSETFROM:+0200
TZOFFSETTO:+0100
TZNAME:CET
DTSTART:20211031T010000
END:STANDARD
BEGIN:DAYLIGHT
TZOFFSETFROM:+0100
TZOFFSETTO:+0200
TZNAME:CEST
DTSTART:20220327T010000
END:DAYLIGHT
BEGIN:STANDARD
TZOFFSETFROM:+0200
TZOFFSETTO:+0100
TZNAME:CET
DTSTART:20221030T010000
END:STANDARD
BEGIN:DAYLIGHT
TZOFFSETFROM:+0100
TZOFFSETTO:+0200
TZNAME:CEST
DTSTART:20230326T010000
END:DAYLIGHT
BEGIN:STANDARD
TZOFFSETFROM:+0200
TZOFFSETTO:+0100
TZNAME:CET
DTSTART:20231029T010000
END:STANDARD
END:VTIMEZONE
BEGIN:VEVENT
DTSTART;TZID=Europe/Madrid:20220807T130000
DTEND;TZID=Europe/Madrid:20220807T200000
DTSTAMP:20260426T024513
CREATED:20220722T131239Z
LAST-MODIFIED:20220722T131239Z
UID:10003925-1659877200-1659902400@poblenouurbandistrict.com
SUMMARY:[:ca]Música: Puro Music[:es]Música: Puro Music[:en]Music: Puro Music[:]
DESCRIPTION:Un evento extraordinario tendrá lugar en Purobeach. Por primera vez\, nuestros DJs residentes visitarán todos y cada uno de los Purobeach trayendo los auténticos sonidos de la Puroexperience. No pierdas esta oportunidad y siente la verdadera PURO MUSIC.
URL:https://poblenouurbandistrict.com/es/agenda/musica-puro-music/
LOCATION:Hilton Diagonal Mar\, Passeig del Taulat\, 262-264\, Barcelona\, 08019\, España
CATEGORIES:Música
ATTACH;FMTTYPE=image/jpeg:https://media.poblenouurbandistrict.com/2022/07/25053721/capture-decran-2022-07-22-a-151020.jpg
END:VEVENT
BEGIN:VEVENT
DTSTART;TZID=Europe/Madrid:20220807T200000
DTEND;TZID=Europe/Madrid:20220807T220000
DTSTAMP:20260426T024513
CREATED:20220701T141531Z
LAST-MODIFIED:20220701T141531Z
UID:10003385-1659902400-1659909600@poblenouurbandistrict.com
SUMMARY:[:ca]Concert: Kim Woojin[:es]Concierto: Kim Woojin[:en]Concert: Kim Woojin[:]
DESCRIPTION:Kim Woojin (김우진) debutó en 2018 como miembro de Stray Kids\, grupo que dejó a finales de 2019. Desde entonces ha emprendido su carrera en solitario como cantante\, debutando en agosto de 2021 con el mini álbum «The Moment: A Minor» y el sencillo «Ready Now».
URL:https://poblenouurbandistrict.com/es/agenda/concert-kim-woojin/
LOCATION:La Nau
CATEGORIES:Música
ATTACH;FMTTYPE=image/jpeg:https://media.poblenouurbandistrict.com/2022/07/25053331/capture-decran-2022-07-01-a-161437.jpg
END:VEVENT
END:VCALENDAR