BEGIN:VCALENDAR
VERSION:2.0
PRODID:-//Poblenou Urban District - ECPv6.15.20//NONSGML v1.0//EN
CALSCALE:GREGORIAN
METHOD:PUBLISH
X-ORIGINAL-URL:https://poblenouurbandistrict.com/es
X-WR-CALDESC:Eventos para Poblenou Urban District
REFRESH-INTERVAL;VALUE=DURATION:PT1H
X-Robots-Tag:noindex
X-PUBLISHED-TTL:PT1H
BEGIN:VTIMEZONE
TZID:Europe/Madrid
BEGIN:DAYLIGHT
TZOFFSETFROM:+0100
TZOFFSETTO:+0200
TZNAME:CEST
DTSTART:20210328T010000
END:DAYLIGHT
BEGIN:STANDARD
TZOFFSETFROM:+0200
TZOFFSETTO:+0100
TZNAME:CET
DTSTART:20211031T010000
END:STANDARD
BEGIN:DAYLIGHT
TZOFFSETFROM:+0100
TZOFFSETTO:+0200
TZNAME:CEST
DTSTART:20220327T010000
END:DAYLIGHT
BEGIN:STANDARD
TZOFFSETFROM:+0200
TZOFFSETTO:+0100
TZNAME:CET
DTSTART:20221030T010000
END:STANDARD
BEGIN:DAYLIGHT
TZOFFSETFROM:+0100
TZOFFSETTO:+0200
TZNAME:CEST
DTSTART:20230326T010000
END:DAYLIGHT
BEGIN:STANDARD
TZOFFSETFROM:+0200
TZOFFSETTO:+0100
TZNAME:CET
DTSTART:20231029T010000
END:STANDARD
END:VTIMEZONE
BEGIN:VEVENT
DTSTART;TZID=Europe/Madrid:20220819T130000
DTEND;TZID=Europe/Madrid:20220819T200000
DTSTAMP:20260426T030310
CREATED:20220722T125832Z
LAST-MODIFIED:20220722T144031Z
UID:10003923-1660914000-1660939200@poblenouurbandistrict.com
SUMMARY:[:ca]Música: Puro Spirit[:es]Música: Puro Spirit[:en]Music: Puro Spirit[:]
DESCRIPTION:Desconecta de la semana y sumérgete en la hora del fin de semana en nuestro oasis urbano. PURO SPIRIT te ofrece toda la esencia de Purobeach en un ambiente ideal texturizado por la música de nuestros djs residentes.
URL:https://poblenouurbandistrict.com/es/agenda/musica-puro-spirit/2022-08-19/
LOCATION:Hilton Diagonal Mar\, Passeig del Taulat\, 262-264\, Barcelona\, 08019\, España
CATEGORIES:Música
ATTACH;FMTTYPE=image/jpeg:https://media.poblenouurbandistrict.com/2022/07/25053719/capture-decran-2022-07-22-a-145308.jpg
END:VEVENT
END:VCALENDAR