BEGIN:VCALENDAR
VERSION:2.0
PRODID:-//Poblenou Urban District - ECPv6.15.20//NONSGML v1.0//EN
CALSCALE:GREGORIAN
METHOD:PUBLISH
X-WR-CALNAME:Poblenou Urban District
X-ORIGINAL-URL:https://poblenouurbandistrict.com/es
X-WR-CALDESC:Eventos para Poblenou Urban District
REFRESH-INTERVAL;VALUE=DURATION:PT1H
X-Robots-Tag:noindex
X-PUBLISHED-TTL:PT1H
BEGIN:VTIMEZONE
TZID:Europe/Madrid
BEGIN:DAYLIGHT
TZOFFSETFROM:+0100
TZOFFSETTO:+0200
TZNAME:CEST
DTSTART:20210328T010000
END:DAYLIGHT
BEGIN:STANDARD
TZOFFSETFROM:+0200
TZOFFSETTO:+0100
TZNAME:CET
DTSTART:20211031T010000
END:STANDARD
BEGIN:DAYLIGHT
TZOFFSETFROM:+0100
TZOFFSETTO:+0200
TZNAME:CEST
DTSTART:20220327T010000
END:DAYLIGHT
BEGIN:STANDARD
TZOFFSETFROM:+0200
TZOFFSETTO:+0100
TZNAME:CET
DTSTART:20221030T010000
END:STANDARD
BEGIN:DAYLIGHT
TZOFFSETFROM:+0100
TZOFFSETTO:+0200
TZNAME:CEST
DTSTART:20230326T010000
END:DAYLIGHT
BEGIN:STANDARD
TZOFFSETFROM:+0200
TZOFFSETTO:+0100
TZNAME:CET
DTSTART:20231029T010000
END:STANDARD
END:VTIMEZONE
BEGIN:VEVENT
DTSTART;TZID=Europe/Madrid:20220826T220000
DTEND;TZID=Europe/Madrid:20220826T233000
DTSTAMP:20260426T030126
CREATED:20220714T135001Z
LAST-MODIFIED:20220714T135001Z
UID:10003912-1661551200-1661556600@poblenouurbandistrict.com
SUMMARY:[:ca]Concert: Papucho y Manana Club[:es]Concierto: Papucho y Manana Club[:en]Concert: Papucho y Manana Club[:]
DESCRIPTION:Papucho y Manana Club llegan desde La Habana para llenar de buena Música Cubana tu alma y tu cuerpo.\nCreada en el 2009 y con 12 años de existencia\, nos traen de estreno su 4ta producción discográfica llamada “TIMBA 3.0” y un repaso por sus temas más populares.\nPrepárense porque lo que viene el próximo viernes 26 de agosto es una BOMBA!!!
URL:https://poblenouurbandistrict.com/es/agenda/concert-papucho-y-manana-club/
LOCATION:La Nau
CATEGORIES:Música
ATTACH;FMTTYPE=image/jpeg:https://media.poblenouurbandistrict.com/2022/07/25053523/paoucho.jpeg
END:VEVENT
END:VCALENDAR