BEGIN:VCALENDAR
VERSION:2.0
PRODID:-//Poblenou Urban District - ECPv6.15.20//NONSGML v1.0//EN
CALSCALE:GREGORIAN
METHOD:PUBLISH
X-WR-CALNAME:Poblenou Urban District
X-ORIGINAL-URL:https://poblenouurbandistrict.com/es
X-WR-CALDESC:Eventos para Poblenou Urban District
REFRESH-INTERVAL;VALUE=DURATION:PT1H
X-Robots-Tag:noindex
X-PUBLISHED-TTL:PT1H
BEGIN:VTIMEZONE
TZID:Europe/Madrid
BEGIN:DAYLIGHT
TZOFFSETFROM:+0100
TZOFFSETTO:+0200
TZNAME:CEST
DTSTART:20210328T010000
END:DAYLIGHT
BEGIN:STANDARD
TZOFFSETFROM:+0200
TZOFFSETTO:+0100
TZNAME:CET
DTSTART:20211031T010000
END:STANDARD
BEGIN:DAYLIGHT
TZOFFSETFROM:+0100
TZOFFSETTO:+0200
TZNAME:CEST
DTSTART:20220327T010000
END:DAYLIGHT
BEGIN:STANDARD
TZOFFSETFROM:+0200
TZOFFSETTO:+0100
TZNAME:CET
DTSTART:20221030T010000
END:STANDARD
BEGIN:DAYLIGHT
TZOFFSETFROM:+0100
TZOFFSETTO:+0200
TZNAME:CEST
DTSTART:20230326T010000
END:DAYLIGHT
BEGIN:STANDARD
TZOFFSETFROM:+0200
TZOFFSETTO:+0100
TZNAME:CET
DTSTART:20231029T010000
END:STANDARD
END:VTIMEZONE
BEGIN:VEVENT
DTSTART;TZID=Europe/Madrid:20220914T190000
DTEND;TZID=Europe/Madrid:20220914T210000
DTSTAMP:20260426T004624
CREATED:20220830T123415Z
LAST-MODIFIED:20220908T092445Z
UID:10003930-1663182000-1663189200@poblenouurbandistrict.com
SUMMARY:[:ca]Concert: QUATUOR ÉBÈNE I QUARTET CASALS[:es]Concierto: QUATUOR ÉBÈNE I QUARTET CASALS[:en]Concert: QUATUOR ÉBÈNE I QUARTET CASALS[:]
DESCRIPTION:REPERTORIO\n\nCuarteto Casals \n\n\nSofia Gubaidulina:\n\n\nReflections on the theme B-A-C-H \n\n\n (2002) 7′\n\n\nQuatuor Ébène \n\n\nW. A. Mozart: Cuarteto de cuerda n.º 14 en Sol\, K. 387 (1782) 29′\n\n\nJohannes Brahms: Cuarteto de cuerda n.º 3 en Si b\, op. 67 (1875) 36′\n\n\n\nINTÉRPRETES\n\n\n\nCuarteto Casals\n\n\nQuatuor Ébène\n\n\n\nPROGRAMA\n\n\nLa Bienal de Cuartetos de Barcelona comienza con un programa lleno de cruces musicales. En Reflections on the theme B-A-C-H\, Sofiya Gubaidúlina recupera un tema de El arte de la fuga de J. S. Bach –que tendrá un papel central en la Bienal de este año– y explora sus posibilidades en una obra breve\, con cierto aire fantasmagórico\, que es sobre todo un gran homenaje al maestro del Barroco tardío. El Cuarteto de cuerda en Sol\, K. 387\, conocido como “La primavera”\, forma parte de la serie de seis cuartetos que W. A. Mozart dedicó al padre de los cuartetos de cuerda\, Joseph Haydn\, que era amigo suyo. De hecho\, Mozart los compuso en 1782\, un año después del estreno de los cuartetos op. 33 de Haydn\, que le impresionaron considerablemente. El cuarteto “La primavera”\, escrito hacia el final de la vida del compositor\, es una obra de una gran claridad expositiva. El Cuarteto de cuerda n.º 3 en Si b\, op. 67 es una composición más bien animada y jovial que Brahms creó con la voluntad de alejarse de la seriedad de su Primera sinfonía\, estrenada justo una semana después que el cuarteto.
URL:https://poblenouurbandistrict.com/es/agenda/concert-quatuor-ebene-i-quartet-casals/
LOCATION:L’Auditori\, Carrer de Lepant\, 150\, Barcelona\, 08013\, Espanya
CATEGORIES:Música
ATTACH;FMTTYPE=image/jpeg:https://media.poblenouurbandistrict.com/2022/08/25053812/qe-julienmignot-630.jpeg
END:VEVENT
BEGIN:VEVENT
DTSTART;TZID=Europe/Madrid:20220914T210000
DTEND;TZID=Europe/Madrid:20220914T230000
DTSTAMP:20260426T004625
CREATED:20220913T125800Z
LAST-MODIFIED:20220913T125800Z
UID:10003580-1663189200-1663196400@poblenouurbandistrict.com
SUMMARY:[:ca]Concert: Skinny Molly[:es]Concierto: Skinny Molly[:en]Concert: Skinny Molly[:]
DESCRIPTION:Con miembros de Lynyrd Skynyrd y Blackfoot
URL:https://poblenouurbandistrict.com/es/agenda/concert-skinny-molly/
LOCATION:Sala Wolf\, C/ dels Almogàvers\, 88\, Barcelona\, Barcelona\, 08018\, Espanya
CATEGORIES:Música
ATTACH;FMTTYPE=image/jpeg:https://media.poblenouurbandistrict.com/2022/09/25054219/capture-decran-2022-09-13-a-145614.jpg
END:VEVENT
END:VCALENDAR