BEGIN:VCALENDAR
VERSION:2.0
PRODID:-//Poblenou Urban District - ECPv6.15.20//NONSGML v1.0//EN
CALSCALE:GREGORIAN
METHOD:PUBLISH
X-WR-CALNAME:Poblenou Urban District
X-ORIGINAL-URL:https://poblenouurbandistrict.com/es
X-WR-CALDESC:Eventos para Poblenou Urban District
REFRESH-INTERVAL;VALUE=DURATION:PT1H
X-Robots-Tag:noindex
X-PUBLISHED-TTL:PT1H
BEGIN:VTIMEZONE
TZID:Europe/Madrid
BEGIN:DAYLIGHT
TZOFFSETFROM:+0100
TZOFFSETTO:+0200
TZNAME:CEST
DTSTART:20210328T010000
END:DAYLIGHT
BEGIN:STANDARD
TZOFFSETFROM:+0200
TZOFFSETTO:+0100
TZNAME:CET
DTSTART:20211031T010000
END:STANDARD
BEGIN:DAYLIGHT
TZOFFSETFROM:+0100
TZOFFSETTO:+0200
TZNAME:CEST
DTSTART:20220327T010000
END:DAYLIGHT
BEGIN:STANDARD
TZOFFSETFROM:+0200
TZOFFSETTO:+0100
TZNAME:CET
DTSTART:20221030T010000
END:STANDARD
BEGIN:DAYLIGHT
TZOFFSETFROM:+0100
TZOFFSETTO:+0200
TZNAME:CEST
DTSTART:20230326T010000
END:DAYLIGHT
BEGIN:STANDARD
TZOFFSETFROM:+0200
TZOFFSETTO:+0100
TZNAME:CET
DTSTART:20231029T010000
END:STANDARD
END:VTIMEZONE
BEGIN:VEVENT
DTSTART;TZID=Europe/Madrid:20220917T170000
DTEND;TZID=Europe/Madrid:20220917T190000
DTSTAMP:20260426T004516
CREATED:20220901T153832Z
LAST-MODIFIED:20220901T153832Z
UID:10003939-1663434000-1663441200@poblenouurbandistrict.com
SUMMARY:[:ca]Concert: JACK QUARTET Y QUARTETTO MAURICE[:es]Concierto: JACK QUARTET Y QUARTETTO MAURICE[:en]Concert: JACK QUARTET Y QUARTETTO MAURICE[:]
DESCRIPTION:REPERTORIO\n\nQuartetto Maurice \n\n\nGiacinto Scelsi: Cuarteto de cuerda n.º 4 (1964) 12′\n\n\n\n\nNúria Giménez-Comas:\n\n\nVon contrapunctus VI \n\n\n (2018) 4′\n\n\n\n\nDaniel Apodaka: Nueva obra (2022) 20′ – Estreno mundial\, encargo de L’Auditori y Barcelona Creació Sonora\n\n\n\n\nFausto Romitelli:\n\n\nNatura morta con fiamme \n\n\n (1991) 9′\n\n\nJack Quartet \n\n\nErin Gee: Nueva obra (2022) – Estreno nacional\n\n\n\n\nJoan Arnau Pàmies: Nueva obra (2022) – Estreno mundial\, encargo de L’Auditori\n\n\n\n\nJohn Luther Adams:\n\n\nThe Wind in High Places \n\n\n (2011) 16′\n\n\nEric Wubbels: Nueva obra (2022) – Estreno nacional\n\n\n\nINTÉRPRETES\n\n\n\nJACK Quartet\n\n\nQuartetto Maurice\n\n\n\nPROGRAMA\n\n\nEste doble concierto ofrece un panorama amplio sobre la actualidad de la composición para cuarteto\, acaso la formación más difícil y que\, aún hoy\, acredita la destreza de un autor. Aunque la juventud es cada vez un término más complejo\, los cuatro estrenos del concierto permiten conocer sendas voces nuevas de la composición actual: el alavés Daniel Apodaka (cuyas influencias no solo se reducen a la música\, puesto que buena parte de su obra trata de aunar poesía\, prosa\, pintura y sonido); Joan Arnau Pàmies (cuya obra está marcada significativamente por la música electrónica y por la corriente de la nueva complejidad); Erin Gee (que conjuga su doble labor como compositora y vocalista\, lo que hace que la voz adquiera un papel fundamental para entender el sonido desde lo fonético hasta lo semántico) y Eric Wubbels (cuyo interés se ha centrado en las contraposiciones de ideas y en el discurrir temporal). Junto a ellos\, escucharemos el guiño a Bach de Giménez-Comas\, pues su pieza trabaja una de sus fugas de El arte de la fuga desde sus resonancias\, algo que enlaza con Luther Adams\, que trabaja solo con cuerdas al aire y armónicos naturales\, creando un sonido hipnótico\, alérgico a cualquier virtuosismo. Uno de los fundamentos de este trabajo se encuentra en Scelsi\, que trabaja cada cuerda de cada instrumento de manera individualizada y pormenorizada. Romitelli\, por su parte\, también se basará en el sonido\, aunque pasando de lo tecnológico al sonido instrumental: su Natura morta con fiamme surge del trabajo que entre 1990 y 1991 llevó a cabo en el Instituto de Investigación y Coordinación Acústica/Música (IRCAM) francés y que le hace construir la pieza a base de módulos que se forman mediante distintos objetos sonoros\, lo que permite una organización formal mediante esquemas de bloques.
URL:https://poblenouurbandistrict.com/es/agenda/concert-jack-quartet-y-quartetto-maurice/
LOCATION:L’Auditori\, Carrer de Lepant\, 150\, Barcelona\, 08013\, Espanya
CATEGORIES:Música
ATTACH;FMTTYPE=image/jpeg:https://media.poblenouurbandistrict.com/2022/09/25053835/enric-majoral.jpg
END:VEVENT
BEGIN:VEVENT
DTSTART;TZID=Europe/Madrid:20220917T193000
DTEND;TZID=Europe/Madrid:20220917T193000
DTSTAMP:20260426T004516
CREATED:20220905T131301Z
LAST-MODIFIED:20220905T131301Z
UID:10003966-1663443000-1663443000@poblenouurbandistrict.com
SUMMARY:[:ca]Concert: OBSCURA + PERSEFONE + DISILLUSION[:es]Concierto: OBSCURA + PERSEFONE + DISILLUSION[:en]Concert: OBSCURA + PERSEFONE + DISILLUSION[:]
DESCRIPTION:La banda de Metal Obscura\, con sede en Alemania\, lanza el concepto de trilogía en su impresionante nuevo álbum ‘A Valediction’. El primer álbum del grupo (sexto en su carrera) para Nuclear Blast gira en muchos frentes. Avanzado\, elegante y\, sin embargo\, refrescante\, ‘A Valediction’ resume los esfuerzos pasados sin esfuerzo mientras mira con propósito y convicción hacia el futuro. ‘A Valediction’ encabeza a Obscura hacia una nueva era de metal extremo “. \nJunto a ellos ni más ni menos que los andorranos Persefone. Una de las mejores bandas de Metal melódico progresivo y sin duda unos duros trabajadores que han sabido ganarse una grandísima reputación a nivel mundial con sus grandísimos discos de estudio y unos directos implacables. ¡Imprescindibles! \nY para cerrar el círculo los también alemanes Disillusion que para quienes no lo recuerden rompieron el mercado del Death Metal melódico progresivo allá por el 2004 con “Back To Times Of Splendor”.
URL:https://poblenouurbandistrict.com/es/agenda/concert-obscura-persefone-disillusion/
LOCATION:La Nau
CATEGORIES:Música
ATTACH;FMTTYPE=image/jpeg:https://media.poblenouurbandistrict.com/2022/09/25053954/capture-decran-2022-09-05-a-151206.jpg
END:VEVENT
BEGIN:VEVENT
DTSTART;TZID=Europe/Madrid:20220917T193000
DTEND;TZID=Europe/Madrid:20220917T213000
DTSTAMP:20260426T004516
CREATED:20220901T155532Z
LAST-MODIFIED:20220901T155532Z
UID:10003938-1663443000-1663450200@poblenouurbandistrict.com
SUMMARY:[:ca]Concert: CUARTETO QUIROGA i VERONIKA HAGEN[:es]Concierto: CUARTETO QUIROGA Y VERONIKA HAGEN[:en]Concert: CUARTETO QUIROGA & VERONIKA HAGEN[:]
DESCRIPTION:REPERTORIO\n\n\n\nW. A. Mozart:\n\n\n\n\nQuinteto de cuerda en sol m\, K. 516 (1787) 34′\n\n\n\n\nQuinteto de cuerda en Do\, K. 515 (1787) 31′\n\n\nFugas para cuarteto de cuerda sobre J. S. Bach\, K. 405 (1782) 10′\n\n\n\nINTÉRPRETES\n\n\n\nCuarteto Quiroga\n\n\nVeronika Hagen\, viola\n\n\n\nPROGRAMA\n\n\nW. A. Mozart amplió las posibilidades de la música de cámara a través de seis quintetos con dos violas. El Quinteto de cuerda en Do\, K 515 y el Quinteto de cuerda en sol m\, K 516 son dos caras de la misma moneda: Mozart compuso ambos durante la primavera de 1787\, poco después de haberse enterado de que su padre estaba gravemente enfermo\, pero el contraste entre las tonalidades hace que sean dos obras casi opuestas. Aunque el allegro final es más bien alegre\, en el Quinteto en Do predomina un aire ciertamente trágico y oscuro. El Quinteto en sol m\, en cambio\, tiene un carácter más vital y majestuoso. Al año siguiente\, Mozart repitió este juego de tonalidades en la Sinfonía en sol m\, K 550 y en la Sinfonía en Do\, K 551. \nCinco años antes\, Mozart había transcrito para cuarteto de cuerda cinco fugas de El clave bien temperado de J. S. Bach con el objetivo de aprender la técnica del maestro barroco. A partir de entonces\, muchas obras de Mozart incluyeron elementos contrapuntísticos más sofisticados.
URL:https://poblenouurbandistrict.com/es/agenda/concert-cuarteto-quiroga-i-veronika-hagen/
CATEGORIES:Música
ATTACH;FMTTYPE=image/jpeg:https://media.poblenouurbandistrict.com/2022/09/25053837/quarteto-kiroga.jpg
END:VEVENT
BEGIN:VEVENT
DTSTART;TZID=Europe/Madrid:20220917T210000
DTEND;TZID=Europe/Madrid:20220917T230000
DTSTAMP:20260426T004516
CREATED:20220913T130229Z
LAST-MODIFIED:20220913T130229Z
UID:10003585-1663448400-1663455600@poblenouurbandistrict.com
SUMMARY:[:ca]Concert: Los Totora[:es]Concierto: Los Totora[:en]Concert: Los Totora[:]
DESCRIPTION:
URL:https://poblenouurbandistrict.com/es/agenda/concert-los-totora/
LOCATION:Sala Wolf\, C/ dels Almogàvers\, 88\, Barcelona\, Barcelona\, 08018\, Espanya
CATEGORIES:Música
ATTACH;FMTTYPE=image/jpeg:https://media.poblenouurbandistrict.com/2022/09/25054222/capture-decran-2022-09-13-a-150114.jpg
END:VEVENT
END:VCALENDAR