BEGIN:VCALENDAR
VERSION:2.0
PRODID:-//Poblenou Urban District - ECPv6.15.20//NONSGML v1.0//EN
CALSCALE:GREGORIAN
METHOD:PUBLISH
X-WR-CALNAME:Poblenou Urban District
X-ORIGINAL-URL:https://poblenouurbandistrict.com/es
X-WR-CALDESC:Eventos para Poblenou Urban District
REFRESH-INTERVAL;VALUE=DURATION:PT1H
X-Robots-Tag:noindex
X-PUBLISHED-TTL:PT1H
BEGIN:VTIMEZONE
TZID:Europe/Madrid
BEGIN:DAYLIGHT
TZOFFSETFROM:+0100
TZOFFSETTO:+0200
TZNAME:CEST
DTSTART:20210328T010000
END:DAYLIGHT
BEGIN:STANDARD
TZOFFSETFROM:+0200
TZOFFSETTO:+0100
TZNAME:CET
DTSTART:20211031T010000
END:STANDARD
BEGIN:DAYLIGHT
TZOFFSETFROM:+0100
TZOFFSETTO:+0200
TZNAME:CEST
DTSTART:20220327T010000
END:DAYLIGHT
BEGIN:STANDARD
TZOFFSETFROM:+0200
TZOFFSETTO:+0100
TZNAME:CET
DTSTART:20221030T010000
END:STANDARD
BEGIN:DAYLIGHT
TZOFFSETFROM:+0100
TZOFFSETTO:+0200
TZNAME:CEST
DTSTART:20230326T010000
END:DAYLIGHT
BEGIN:STANDARD
TZOFFSETFROM:+0200
TZOFFSETTO:+0100
TZNAME:CET
DTSTART:20231029T010000
END:STANDARD
END:VTIMEZONE
BEGIN:VEVENT
DTSTART;TZID=Europe/Madrid:20221127T110000
DTEND;TZID=Europe/Madrid:20221127T133000
DTSTAMP:20260425T205407
CREATED:20221122T121210Z
LAST-MODIFIED:20221123T165603Z
UID:10003622-1669546800-1669555800@poblenouurbandistrict.com
SUMMARY:SCHÖNBERG: PELLEAS UND MELISANDE
DESCRIPTION:REPERTORIO\n\nJohannes Brahms / Luciano Berio: Sonata para clarinete en fa m\, op. 120 n. 1 (1894) 24′\nOlga Neuwirth: Masaote/Clocks without Hands (Masaote/Relojes sin manijas) (2013-15) 24′ – Estreno nacional\nArnold Schönberg: Pelleas und Melisande \, op. 5 (1902-1903; rev. 1920) 41′ \n\n\n\nINTÉRPRETES\n\nOrquesta Sinfónica de Barcelona y Nacional de Cataluña (OBC)\nAndreas Ottensamer\, clarinete\nMatthias Pintscher\, dirección \n\n\n\nPROGRAMA\n\n\nCon fuertes raíces en el Romanticismo y el decadentismo finisecular\, el poema sinfónico Peleas y Melisenda sobre el texto de Maurice Maeterlinck pertenece al primer período de la obra de Arnold Schönberg\, junto con el ciclo de los Gurrelieder (Canciones de Gurre) y Verklärte Nacht (Noche transfigurada)\, con la que mantiene correspondencias. Con una orquesta de resonancias straussianas\, casi se pueden oír los estertores de un mundo que se apagaba y otro que estaba a punto de estallar\, en paralelo a la evolución creativa del compositor vienés\, que en aquél momento llevaba la tensión expresiva del lenguaje tonal hasta el límite y que poco después tomaría «un camino más arduo»\, como recordaba al final de su vida. \nLuciano Berio\, sólido conocedor de la tradición y proclive en su música a la cita y la paráfrasis\, convirtió la Sonata para clarinete y piano en fa n. 1\, op. 120 en el concierto que Johannes Brahms nunca escribió para ese instrumento. Lo hizo en una etapa -la década de los ochenta del siglo pasado- muy ligada a las transcripciones y reconstrucciones. En esta ocasión\, Berio traslada a la orquesta la escritura meticulosa y densa para el piano que envuelve al solista. \nEn esta partitura dedicada a la Filarmónica de Viena\, formación que la estrenó en 2015\, la reconocida compositora austríaca Olga Neuwirth ofrece una reflexión sobre la naturaleza del tiempo y los recuerdos en la música\, donde se deshacen tal y como lo anuncia el título: Clocks without Hands (relojes sin manijas).
URL:https://poblenouurbandistrict.com/es/agenda/schonberg-pelleas-und-melisande/2022-11-27/
LOCATION:L’Auditori\, Carrer de Lepant\, 150\, Barcelona\, 08013\, Espanya
CATEGORIES:Música
ATTACH;FMTTYPE=image/jpeg:https://media.poblenouurbandistrict.com/2022/11/25055037/diseno-sin-titulo-4.jpg
END:VEVENT
BEGIN:VEVENT
DTSTART;TZID=Europe/Madrid:20221127T180000
DTEND;TZID=Europe/Madrid:20221127T193000
DTSTAMP:20260425T205407
CREATED:20221122T122236Z
LAST-MODIFIED:20221122T122236Z
UID:10003627-1669572000-1669577400@poblenouurbandistrict.com
SUMMARY:[:ca]MÚSIQUES ALPINES[:es]MÚSICAS ALPINAS[:en]ALPINE MUSIC[:]
DESCRIPTION:REPERTORIO\n\n\n\nThomas Trachsel:\n\n\nMarcia dei commedianti \n\n\n (1972) 4’\n\n\n\n\nMario Bürki:\n\n\nChróma \n\n\n. Concierto para dos violonchelos y banda sinfónica (2014) 24′ – Estreno nacional\n\n\n\n\nFranco Cesarini:\n\n\nSolemnitas \n\n\n (2002) 12’\n\n\n\n\nOliver Waespi:\n\n\nDivertimento \n\n\n (2011) 16’\n\n\n\n\n\nINTÉRPRETES\n\n\n\nBanda Municipal de Barcelona\n\n\n\n\nSantiago Cañón y Arnau Tomàs\, violonchelos\n\n\nIsabelle Ruf-Weber\, dirección\n\n\n\nPROGRAMA\n\n\nChróma es una obra para dos violonchelos solistas; es decir\, dos instrumentos de cuerda que no forman parte del conjunto de la banda sinfónica. Precisamente el ‘color’ resultante de esta combinación tan poco habitual es lo que da nombre a la obra\, que se organiza en cuatro movimientos también cromáticos: el plateado de la noche\, la luna y las estrellas; el verde de la naturaleza y la esperanza; el rojo del amor y de la pasión; y el amarillo de la luz y la vida. La coyuntura que se da en este concierto\, además\, es magnífica: dos grandes violonchelistas\, Santiago Cañón y Arnau Tomàs\, bajo la batuta de la directora suiza Isabelle Ruf-Weber. \nLas otras obras del programa también son de autores suizos: una marcha de Trachsel; Solemnitas de Cesarini\, inspirada en una fiesta que se celebra cada año en la ciudad alemana de Burgdorf y que\, musicalmente\, utiliza una melodía popular con variaciones; y Divertimento\, de Waespi\, llena de contrastes\, que nos traslada a la música popular norteamericana\, desde la sonoridad de Nueva Orleans hasta una fiesta tradicional al aire libre.
URL:https://poblenouurbandistrict.com/es/agenda/musiques-alpines/
LOCATION:L’Auditori\, Carrer de Lepant\, 150\, Barcelona\, 08013\, Espanya
CATEGORIES:Música
ATTACH;FMTTYPE=image/jpeg:https://media.poblenouurbandistrict.com/2022/11/25055039/diseno-sin-titulo-5.jpg
END:VEVENT
BEGIN:VEVENT
DTSTART;TZID=Europe/Madrid:20221127T180000
DTEND;TZID=Europe/Madrid:20221127T220000
DTSTAMP:20260425T205407
CREATED:20221123T113558Z
LAST-MODIFIED:20221123T113558Z
UID:10004234-1669572000-1669586400@poblenouurbandistrict.com
SUMMARY:IN FLAMES + AT THE GATES + IMMINENCE + ORBIT CULTURE
DESCRIPTION:Han pasado 8 años desde su última gira como cabezas de cartel y ya era hora que uno de los estandartes del death metal melódico y del metal escandinavo saliese de gira por Europa. Los gotemburgueses In Flames nos visitarán en España con tres conciertazos en los que irán acompañado por otras tres bandas compatriotas: los padres del melodic death At The Gates serán los invitados especiales de esta gira\, y el rompedor pack lo terminarán Imminence y Orbit Culture.
URL:https://poblenouurbandistrict.com/es/agenda/in-flames-at-the-gates-imminence-orbit-culture/
LOCATION:Sala Razzmatazz\, C/ dels Almogàvers\, 122\, Barcelona\, Barcelona\, 08018\, Espanya
CATEGORIES:Música
ATTACH;FMTTYPE=image/jpeg:https://media.poblenouurbandistrict.com/2022/11/25055145/diseno-sin-titulo-20.jpg
END:VEVENT
BEGIN:VEVENT
DTSTART;TZID=Europe/Madrid:20221127T190000
DTEND;TZID=Europe/Madrid:20221127T203000
DTSTAMP:20260425T205407
CREATED:20221123T114003Z
LAST-MODIFIED:20221123T114003Z
UID:10004235-1669575600-1669581000@poblenouurbandistrict.com
SUMMARY:LLARS + JANBU
DESCRIPTION:Llars presenta en directo Allò Que Es Queda  (U98\, 2022)\, su segundo disco\, que ha querido hacerlo especial haciendo un disco donde todas las canciones son con colaboraciones\, haciendo de la creación de este disco un espacio de música y encuentro con amigos y músicos admirados. \nPor los conciertos de presentación del disco\, Llars irá acompañado de *JANBU\, el nuevo proyecto de Jan *Buxeda. Con la sonoridad *indie pop con reminiscencias pop-folk que marcaron la generación de los grupos de los *2010s\, el proyecto del compositor y productor de Caseta se estrena en directo por primera vez presentando los temas de sus recientes sencillos.
URL:https://poblenouurbandistrict.com/es/agenda/llars-janbu/
LOCATION:Sala Razzmatazz\, C/ dels Almogàvers\, 122\, Barcelona\, Barcelona\, 08018\, Espanya
CATEGORIES:Música
ATTACH;FMTTYPE=image/jpeg:https://media.poblenouurbandistrict.com/2022/11/25055147/diseno-sin-titulo-21.jpg
END:VEVENT
END:VCALENDAR