BEGIN:VCALENDAR
VERSION:2.0
PRODID:-//Poblenou Urban District - ECPv6.15.20//NONSGML v1.0//EN
CALSCALE:GREGORIAN
METHOD:PUBLISH
X-WR-CALNAME:Poblenou Urban District
X-ORIGINAL-URL:https://poblenouurbandistrict.com/es
X-WR-CALDESC:Eventos para Poblenou Urban District
REFRESH-INTERVAL;VALUE=DURATION:PT1H
X-Robots-Tag:noindex
X-PUBLISHED-TTL:PT1H
BEGIN:VTIMEZONE
TZID:Europe/Madrid
BEGIN:DAYLIGHT
TZOFFSETFROM:+0100
TZOFFSETTO:+0200
TZNAME:CEST
DTSTART:20210328T010000
END:DAYLIGHT
BEGIN:STANDARD
TZOFFSETFROM:+0200
TZOFFSETTO:+0100
TZNAME:CET
DTSTART:20211031T010000
END:STANDARD
BEGIN:DAYLIGHT
TZOFFSETFROM:+0100
TZOFFSETTO:+0200
TZNAME:CEST
DTSTART:20220327T010000
END:DAYLIGHT
BEGIN:STANDARD
TZOFFSETFROM:+0200
TZOFFSETTO:+0100
TZNAME:CET
DTSTART:20221030T010000
END:STANDARD
BEGIN:DAYLIGHT
TZOFFSETFROM:+0100
TZOFFSETTO:+0200
TZNAME:CEST
DTSTART:20230326T010000
END:DAYLIGHT
BEGIN:STANDARD
TZOFFSETFROM:+0200
TZOFFSETTO:+0100
TZNAME:CET
DTSTART:20231029T010000
END:STANDARD
END:VTIMEZONE
BEGIN:VEVENT
DTSTART;TZID=Europe/Madrid:20221128T193000
DTEND;TZID=Europe/Madrid:20221128T210000
DTSTAMP:20260425T185833
CREATED:20221122T122939Z
LAST-MODIFIED:20221122T122939Z
UID:10003628-1669663800-1669669200@poblenouurbandistrict.com
SUMMARY:[:ca]CONCERT ANIVERSARI VOZES 8A EDICIÓ “BOIG PER TU”[:es]CONCIERTO ANIVERSARIO VOZES 8ª EDICIÓN “BOIG PER TU”[:en]VOZES 8TH ANNIVERSARY CONCERT “BOIG PER TU”[:]
DESCRIPTION:REPERTORIO\n\nI Parte\nSinfonica Infantil y Juvenil Vozes \n\n\nCharpentier:\n\n\nTe Deum \n\n\n. Prelude\n\n\n\n\nRimsky Korsakov:\n\n\nCapricho Español \nOrquesta Sinfonica Vozes \n\n\nMendelshon:\n\n\nSinfonia italiana. \n\n\n  1º Mov\n\n\n\n\nSaint Saëns:\n\n\nBacchanale \n\n\nGlinka:\n\n\nRuslan i Ludmila\n \nII Parte\nPep Llado i Orquesta y Coral Vozes \n\n\nPep Llado:\n\n\nPoema incandescent \nPep Sala \n\n\nCarles Sabater\, Joan Capdevilla\, Pep Sala:\n\n\nGloria \nPep Sala\, Orquesta y Coral Vozes \n\n\nCarles Sabater\, Pep Sala:\n\n\nPercentatges \n\n\nCarles Sabater\, Joan Capdevilla\, Pep Sala:\n\n\nTren de mitjanit \n\n\nCarles Sabater\, Joan Capdevilla\, Pep Sala:\n\n\nBoig per tu \nPep Llado\, Pep Sala\, Orquesta y Coral Vozes \n\n\n Pep Llado:\n\n\nCanción Vozes \n\n\nArreglos y Orquestaciones Ramon Ferre y Pablo Gonzalez\n\n\nRepertorio sujeto a cambios.\n\n\n\nINTÉRPRETES\n\n\n\nSinfonica Infantil y Juvenil Vozes\n\n\n\n\nOrquesta Sinfonica Vozes\n\n\n\n\nCoral Vozes con la colaboración de los alumnos de la escuela de música Musicaula\n\n\n\n\nPep Llado\, vocalista y teclado\n\n\nPep Sala\, vocalista y teclado\n\n\n\nPROGRAMA\n\n\nVozes «LA ALEGRÍA DE HACER MUSICA JUNTOS»\nVozes es un proyecto que desde el año 2004 utiliza la música como herramienta de inclusión\, integración y cohesión social. Para llevar a cabo este objetivo\, Vozes realiza actividades musicales gratuitas dirigidas a todos los colectivos (niños\, niñas\, jóvenes\, familias con problemas socio económicos\, personas con discapacidad\, personas mayores\, etc.) que\, por diversas razones\, no pueden acceder a una actividad artística y que además se encuentran en riesgo de exclusión social. Hoy la familia Vozes reúne a unos 700 niños y niñas\, hombres y mujeres que disfrutan de la alegría de hacer música juntos. En este concierto contamos con la colaboración de Pep Llado\, que ha compuesto una canción para Vozes que la estrenaremos en este concierto como el Himno Vozes\, También se unirá a este espectáculo Pep Sala\, el vocalista principal de la mítica banda de rock catalán SAU\, de quien escucharemos temas como: Glòria \, Tren de mitjanit y la versión sinfónico coral de Boig per tu. Un concierto para no perdérselo!
URL:https://poblenouurbandistrict.com/es/agenda/concert-aniversari-vozes-8a-edicio-boig-per-tu/
LOCATION:L’Auditori\, Carrer de Lepant\, 150\, Barcelona\, 08013\, Espanya
CATEGORIES:Música
ATTACH;FMTTYPE=image/jpeg:https://media.poblenouurbandistrict.com/2022/11/25055040/diseno-sin-titulo-6.jpg
END:VEVENT
BEGIN:VEVENT
DTSTART;TZID=Europe/Madrid:20221128T193000
DTEND;TZID=Europe/Madrid:20221128T213000
DTSTAMP:20260425T185833
CREATED:20221123T114917Z
LAST-MODIFIED:20221123T114917Z
UID:10004236-1669663800-1669671000@poblenouurbandistrict.com
SUMMARY:FINNTROLL: Skálmöld + Atavistia
DESCRIPTION:¿A la tercera irá la vencida? ¡Esperemos que sí! Porque tras mover la gira dos veces\, la movemos de nuevo para que los finlandeses Finntroll visiten España de nuevo para presentar su último disco “Vredesvävd”. La fiesta de “folk metal” será completada por los islandes.… ¡es tu oportunidad!
URL:https://poblenouurbandistrict.com/es/agenda/finntroll-skalmold-atavistia/
LOCATION:Sala Razzmatazz\, C/ dels Almogàvers\, 122\, Barcelona\, Barcelona\, 08018\, Espanya
CATEGORIES:Música
ATTACH;FMTTYPE=image/jpeg:https://media.poblenouurbandistrict.com/2022/11/25055150/diseno-sin-titulo-23.jpg
END:VEVENT
END:VCALENDAR