BEGIN:VCALENDAR
VERSION:2.0
PRODID:-//Poblenou Urban District - ECPv6.15.20//NONSGML v1.0//EN
CALSCALE:GREGORIAN
METHOD:PUBLISH
X-ORIGINAL-URL:https://poblenouurbandistrict.com/es
X-WR-CALDESC:Eventos para Poblenou Urban District
REFRESH-INTERVAL;VALUE=DURATION:PT1H
X-Robots-Tag:noindex
X-PUBLISHED-TTL:PT1H
BEGIN:VTIMEZONE
TZID:Europe/Madrid
BEGIN:DAYLIGHT
TZOFFSETFROM:+0100
TZOFFSETTO:+0200
TZNAME:CEST
DTSTART:20210328T010000
END:DAYLIGHT
BEGIN:STANDARD
TZOFFSETFROM:+0200
TZOFFSETTO:+0100
TZNAME:CET
DTSTART:20211031T010000
END:STANDARD
BEGIN:DAYLIGHT
TZOFFSETFROM:+0100
TZOFFSETTO:+0200
TZNAME:CEST
DTSTART:20220327T010000
END:DAYLIGHT
BEGIN:STANDARD
TZOFFSETFROM:+0200
TZOFFSETTO:+0100
TZNAME:CET
DTSTART:20221030T010000
END:STANDARD
BEGIN:DAYLIGHT
TZOFFSETFROM:+0100
TZOFFSETTO:+0200
TZNAME:CEST
DTSTART:20230326T010000
END:DAYLIGHT
BEGIN:STANDARD
TZOFFSETFROM:+0200
TZOFFSETTO:+0100
TZNAME:CET
DTSTART:20231029T010000
END:STANDARD
END:VTIMEZONE
BEGIN:VEVENT
DTSTART;TZID=Europe/Madrid:20221201T192000
DTEND;TZID=Europe/Madrid:20221201T223000
DTSTAMP:20260425T190012
CREATED:20221123T120233Z
LAST-MODIFIED:20221123T120233Z
UID:10004239-1669922400-1669933800@poblenouurbandistrict.com
SUMMARY:CAROLINA DURANTE - CRUÏLLA TARDOR 2022 + AIKO EL GRUPO + BANANI
DESCRIPTION:Con la pasión del primer día y la potencia de aquella Noche de los Muertos Vivientes sigue el camino de Carolina Durante. La formación se ha convertido en referente de su generación\, trascendiendo más allá de los números que la rodean. Son\, para algunos\, responsables del resurgimiento del rock y pop con guitarras. Y en este camino\, harán parada en Barcelona\, en el Cruïlla Tardor 2022. \nLa banda no se entendería sin la carismática voz de Diego\, con capacidad para tocar la fibra con letras a medio camino entre la inquietud existencial y el humor. Pero\, por supuesto\, el grupo tampoco existiría sin el espíritu punk-pop de Mario en la guitarra\, la contundente sobriedad de Martín al bajo o el talento y excentricidad de Juan golpeando la batería. Son los cuatro elementos que forman tu nueva banda preferida\, con su singular personalidad\, que explota en Cuatro Chavales\, el último álbum de la banda. \nCon él llegan al Cruïlla Tardor\, el 1 de diciembre en la Sala Razzmatazz. Tras poner patas arriba el Fòrum en el Cruïlla 2021\, Carolina Durante promete ser una de las citas destacadas del otoño barcelonés. ¡No te lo pierdas!
URL:https://poblenouurbandistrict.com/es/agenda/carolina-durante-cruilla-tardor-2022-aiko-el-grupo-banani/
LOCATION:Sala Razzmatazz\, C/ dels Almogàvers\, 122\, Barcelona\, Barcelona\, 08018\, Espanya
CATEGORIES:Música
ATTACH;FMTTYPE=image/jpeg:https://media.poblenouurbandistrict.com/2022/11/25055154/diseno-sin-titulo-26.jpg
END:VEVENT
BEGIN:VEVENT
DTSTART;TZID=Europe/Madrid:20221201T203000
DTEND;TZID=Europe/Madrid:20221201T220000
DTSTAMP:20260425T190012
CREATED:20221123T115645Z
LAST-MODIFIED:20221123T115645Z
UID:10004238-1669926600-1669932000@poblenouurbandistrict.com
SUMMARY:CURTCIRCUIT - THE CRAB APPLES + ESTRUÇ
DESCRIPTION:The Crab Apples es una banda de Barcelona formada por Carla Gimeno (voz)\, Laia Alsina (guitarra eléctrica) y Laia Martí (bajo). El 1 de diciembre pasan por Curtcircuit para el concierto de “despedida” de su último álbum ‘CRAP’ que sacaron el año pasado y que ha supuesto un antes y después en su carrera y toda una declaración de intenciones. Para el concierto contarán en el escenario con algunos de los músicos que han colaborado con ellas en el álbum y los dos últimos singles que han sacado ‘Hay Luz’ y ‘Seguiré Bailando’. Última oportunidad de verlas en directo presentando este disco en el que vemos un sonido más contemporáneo pero con los toques 80-90’s a los que nos tienen acostumbrados.
URL:https://poblenouurbandistrict.com/es/agenda/curtcircuit-the-crab-apples-estruc/
LOCATION:Sala Razzmatazz\, C/ dels Almogàvers\, 122\, Barcelona\, Barcelona\, 08018\, Espanya
CATEGORIES:Música
ATTACH;FMTTYPE=image/jpeg:https://media.poblenouurbandistrict.com/2022/11/25055152/diseno-sin-titulo-25.jpg
END:VEVENT
END:VCALENDAR