BEGIN:VCALENDAR
VERSION:2.0
PRODID:-//Poblenou Urban District - ECPv6.15.20//NONSGML v1.0//EN
CALSCALE:GREGORIAN
METHOD:PUBLISH
X-WR-CALNAME:Poblenou Urban District
X-ORIGINAL-URL:https://poblenouurbandistrict.com/es
X-WR-CALDESC:Eventos para Poblenou Urban District
REFRESH-INTERVAL;VALUE=DURATION:PT1H
X-Robots-Tag:noindex
X-PUBLISHED-TTL:PT1H
BEGIN:VTIMEZONE
TZID:Europe/Madrid
BEGIN:DAYLIGHT
TZOFFSETFROM:+0100
TZOFFSETTO:+0200
TZNAME:CEST
DTSTART:20210328T010000
END:DAYLIGHT
BEGIN:STANDARD
TZOFFSETFROM:+0200
TZOFFSETTO:+0100
TZNAME:CET
DTSTART:20211031T010000
END:STANDARD
BEGIN:DAYLIGHT
TZOFFSETFROM:+0100
TZOFFSETTO:+0200
TZNAME:CEST
DTSTART:20220327T010000
END:DAYLIGHT
BEGIN:STANDARD
TZOFFSETFROM:+0200
TZOFFSETTO:+0100
TZNAME:CET
DTSTART:20221030T010000
END:STANDARD
BEGIN:DAYLIGHT
TZOFFSETFROM:+0100
TZOFFSETTO:+0200
TZNAME:CEST
DTSTART:20230326T010000
END:DAYLIGHT
BEGIN:STANDARD
TZOFFSETFROM:+0200
TZOFFSETTO:+0100
TZNAME:CET
DTSTART:20231029T010000
END:STANDARD
END:VTIMEZONE
BEGIN:VEVENT
DTSTART;TZID=Europe/Madrid:20221203T173000
DTEND;TZID=Europe/Madrid:20221203T200000
DTSTAMP:20260425T205407
CREATED:20221123T121506Z
LAST-MODIFIED:20221123T121506Z
UID:10004242-1670088600-1670097600@poblenouurbandistrict.com
SUMMARY:COCK SPARRER + LION'S LAW + GIUDA + DES-KONTROL
DESCRIPTION:Després de tot un any passant per festivals celebrant el seu * * ha arribat el torn de fer el propi en una gran sala. La mítica *RAZZMATAZZ de Barcelona rebrà el 50 aniversari dels anglesos * *\, la banda més gran del #*StreetPunk.  Vindran acompanyats de molt bones bandes com *’* * (França)\, * (Itàlia) i *-* (Euskadi); pel que promet ser la festa final del seu aniversari i qui sap quan tornaran a la gran ciutat. Qualsevol concert dels anglesos és una celebració.
URL:https://poblenouurbandistrict.com/es/agenda/cock-sparrer-lions-law-giuda-des-kontrol/
LOCATION:Sala Razzmatazz\, C/ dels Almogàvers\, 122\, Barcelona\, Barcelona\, 08018\, Espanya
CATEGORIES:Música
ATTACH;FMTTYPE=image/jpeg:https://media.poblenouurbandistrict.com/2022/11/25055157/diseno-sin-titulo-29.jpg
END:VEVENT
BEGIN:VEVENT
DTSTART;TZID=Europe/Madrid:20221203T200000
DTEND;TZID=Europe/Madrid:20221203T220000
DTSTAMP:20260425T205407
CREATED:20221123T121855Z
LAST-MODIFIED:20221123T121855Z
UID:10004243-1670097600-1670104800@poblenouurbandistrict.com
SUMMARY:TIERRA SANTA + THE VIGUS REPORT
DESCRIPTION:‘Destino’ es el nuevo trabajo discográfico de Tierra Santa y supone ser el duodécimo álbum en estudio de la formación riojana compuesto por once canciones que nos devuelven la rabia y garra de sus orígenes\, con un sonido espectacular que se identifica con los grandes clásicos del género. Una obra muy especial que promete convertirse en un referente de su discografía gracias a la totalidad de los cortes que dan vida a este nuevo disco.
URL:https://poblenouurbandistrict.com/es/agenda/tierra-santa-the-vigus-report/
LOCATION:Sala Razzmatazz\, C/ dels Almogàvers\, 122\, Barcelona\, Barcelona\, 08018\, Espanya
CATEGORIES:Música
ATTACH;FMTTYPE=image/jpeg:https://media.poblenouurbandistrict.com/2022/11/25055158/diseno-sin-titulo-30.jpg
END:VEVENT
BEGIN:VEVENT
DTSTART;TZID=Europe/Madrid:20221203T210000
DTEND;TZID=Europe/Madrid:20221203T223000
DTSTAMP:20260425T205407
CREATED:20221122T124546Z
LAST-MODIFIED:20221122T124546Z
UID:10003634-1670101200-1670106600@poblenouurbandistrict.com
SUMMARY:RITA PAYÉS
DESCRIPTION:INTÉRPRETES\n\n\n\nRita Payés\, trombón\, voz y guitarra\n\n\n\n\nElisabeth Roma\, guitarra\n\n\n\n\nHoracio Fumero\, contrabajo\n\n\n\n\nJuan R. Berbín\, percusión\n\n\n\n\nPol Batlle\, voz y guitarra eléctrica\n\n\n\n\n\nPROGRAMA\n\n\nLa joven trombonista y cantante Rita Payés cierra la gira de su último disco Como la piel en L’Auditori de Barcelona dentro del marco del Cruïlla Tardor . El concierto será la última parada de este tour que ha llevado a la artista a diez países diferentes en más de 25 conciertos y 4 meses de rodaje.\nPara esta gira\, Rita Payés cuenta con las voces y la guitarra eléctrica de Pol Batlle\, además de un equipo de músicos formado por la madre de la artista\, Elisabeth Roma\, a la guitarra\, y Horacio Fumero al contrabajo y Juan R. Berbín a la batería y la percusión.\nCon sólo 22 años\, Rita Payés ha vivido y respirado música desde que era una niña gracias a su familia. También la marcó su paso por la Sant Andreu Jazz Band bajo la dirección de Joan Chamorro. Creciendo al lado de Andrea Motis y tantísimas otras.\nEn 2019 le regaló a su madre una sesión de grabación en un estudio. Allí grabaron las canciones que se habían cantado la una a otra toda la vida hasta el punto de girar con estos temas por toda Europa. Un año después\, a raíz del éxito del primer álbum “en familia”\, amplían la formación a cuarteto para grabar las primeras canciones originales de Rita\, que podremos disfrutar en este concierto.
URL:https://poblenouurbandistrict.com/es/agenda/rita-payes/
LOCATION:L’Auditori\, Carrer de Lepant\, 150\, Barcelona\, 08013\, Espanya
CATEGORIES:Música
ATTACH;FMTTYPE=image/jpeg:https://media.poblenouurbandistrict.com/2022/11/25055043/diseno-sin-titulo-8.jpg
END:VEVENT
END:VCALENDAR