BEGIN:VCALENDAR
VERSION:2.0
PRODID:-//Poblenou Urban District - ECPv6.15.20//NONSGML v1.0//EN
CALSCALE:GREGORIAN
METHOD:PUBLISH
X-ORIGINAL-URL:https://poblenouurbandistrict.com/es
X-WR-CALDESC:Eventos para Poblenou Urban District
REFRESH-INTERVAL;VALUE=DURATION:PT1H
X-Robots-Tag:noindex
X-PUBLISHED-TTL:PT1H
BEGIN:VTIMEZONE
TZID:Europe/Madrid
BEGIN:DAYLIGHT
TZOFFSETFROM:+0100
TZOFFSETTO:+0200
TZNAME:CEST
DTSTART:20210328T010000
END:DAYLIGHT
BEGIN:STANDARD
TZOFFSETFROM:+0200
TZOFFSETTO:+0100
TZNAME:CET
DTSTART:20211031T010000
END:STANDARD
BEGIN:DAYLIGHT
TZOFFSETFROM:+0100
TZOFFSETTO:+0200
TZNAME:CEST
DTSTART:20220327T010000
END:DAYLIGHT
BEGIN:STANDARD
TZOFFSETFROM:+0200
TZOFFSETTO:+0100
TZNAME:CET
DTSTART:20221030T010000
END:STANDARD
BEGIN:DAYLIGHT
TZOFFSETFROM:+0100
TZOFFSETTO:+0200
TZNAME:CEST
DTSTART:20230326T010000
END:DAYLIGHT
BEGIN:STANDARD
TZOFFSETFROM:+0200
TZOFFSETTO:+0100
TZNAME:CET
DTSTART:20231029T010000
END:STANDARD
END:VTIMEZONE
BEGIN:VEVENT
DTSTART;TZID=Europe/Madrid:20221207T193000
DTEND;TZID=Europe/Madrid:20221207T213000
DTSTAMP:20260425T190011
CREATED:20221123T124028Z
LAST-MODIFIED:20221123T124358Z
UID:10004254-1670441400-1670448600@poblenouurbandistrict.com
SUMMARY:GIANLUCA PETRELLA COSMIC RENAISSANCE & VENERUS PIANO SOLTANTO
DESCRIPTION:Músico de jazz de renombre internacional\, Gianluca Petrella es actualmente uno de los máximos exponentes del jazz italiano en el mundo. Líder de varios grupos (desde Cosmic Band hasta Tubolibre Quartet y más) también trabaja con importantes músicos como Enrico Rava. \nEs uno de los trombonistas más talentosos del mundo (dos veces ganador del premio «Downbeat Critics Poll» como mejor trombonista estrella en ascenso). \nActúa con el nuevo “Cosmic Renaissance”\, el quinteto compuesto por Mirco Rubegni (trompeta) \, Francesco Ponticelli (bajo)\, Federico Scettri (batería) y Simone Padovani (percusión).
URL:https://poblenouurbandistrict.com/es/agenda/gianluca-petrella-cosmic-renaissance-venerus-piano-soltanto/
LOCATION:Sala Razzmatazz\, C/ dels Almogàvers\, 122\, Barcelona\, Barcelona\, 08018\, Espanya
CATEGORIES:Música
ATTACH;FMTTYPE=image/jpeg:https://media.poblenouurbandistrict.com/2022/11/25055203/diseno-sin-titulo-33.jpg
END:VEVENT
BEGIN:VEVENT
DTSTART;TZID=Europe/Madrid:20221207T210000
DTEND;TZID=Europe/Madrid:20221207T210000
DTSTAMP:20260425T190011
CREATED:20221129T131407Z
LAST-MODIFIED:20221129T142051Z
UID:10004317-1670446800-1670446800@poblenouurbandistrict.com
SUMMARY:THE LAZY TOKES
DESCRIPTION:Concierto de Rock
URL:https://poblenouurbandistrict.com/es/agenda/the-lazy-tokes/
LOCATION:La Nau
CATEGORIES:Música
ATTACH;FMTTYPE=image/png:https://poblenouurbandistrict.com/wp-content/uploads/2022/11/diseno-sin-titulo-6.jpg
END:VEVENT
BEGIN:VEVENT
DTSTART;TZID=Europe/Madrid:20221207T210000
DTEND;TZID=Europe/Madrid:20221207T230000
DTSTAMP:20260425T190011
CREATED:20221123T123611Z
LAST-MODIFIED:20221123T123611Z
UID:10004245-1670446800-1670454000@poblenouurbandistrict.com
SUMMARY:BONOBO - FRAGMENTS TOUR '22 + POTÉ
DESCRIPTION:Alias artístico del productor\, compositor\, músico y DJ británico (afincado en Estados Unidos) Simon Green. \nSu séptimo disco\, «Fragments»\, ha aparecido en enero de 2022\, contando con las colaboraciones de Jamila Woods\, Joji\, Kadhja Bonet\, Jordan Rakei\, O’Flynn y Miguel Atwood-Ferguson. La salida de “Fragments” ha venido acompañada de las dos nominaciones de Bonobo en los Grammy de 2021\, lo que hace que ya haya recibido cinco en su carrera. \n«Fragments» es\, seguramente\, el disco emocionalmente más intenso de la carrera de Bonobo\, gracias a lo bien que refleja la lucha contra la soledad -personal y colectiva- y el triunfo sobre esta.
URL:https://poblenouurbandistrict.com/es/agenda/bonobo-fragments-tour-22-pote/
LOCATION:Sala Razzmatazz\, C/ dels Almogàvers\, 122\, Barcelona\, Barcelona\, 08018\, Espanya
CATEGORIES:Música
ATTACH;FMTTYPE=image/jpeg:https://media.poblenouurbandistrict.com/2022/11/25055201/diseno-sin-titulo-32.jpg
END:VEVENT
END:VCALENDAR