BEGIN:VCALENDAR
VERSION:2.0
PRODID:-//Poblenou Urban District - ECPv6.15.20//NONSGML v1.0//EN
CALSCALE:GREGORIAN
METHOD:PUBLISH
X-WR-CALNAME:Poblenou Urban District
X-ORIGINAL-URL:https://poblenouurbandistrict.com/es
X-WR-CALDESC:Eventos para Poblenou Urban District
REFRESH-INTERVAL;VALUE=DURATION:PT1H
X-Robots-Tag:noindex
X-PUBLISHED-TTL:PT1H
BEGIN:VTIMEZONE
TZID:Europe/Madrid
BEGIN:DAYLIGHT
TZOFFSETFROM:+0100
TZOFFSETTO:+0200
TZNAME:CEST
DTSTART:20210328T010000
END:DAYLIGHT
BEGIN:STANDARD
TZOFFSETFROM:+0200
TZOFFSETTO:+0100
TZNAME:CET
DTSTART:20211031T010000
END:STANDARD
BEGIN:DAYLIGHT
TZOFFSETFROM:+0100
TZOFFSETTO:+0200
TZNAME:CEST
DTSTART:20220327T010000
END:DAYLIGHT
BEGIN:STANDARD
TZOFFSETFROM:+0200
TZOFFSETTO:+0100
TZNAME:CET
DTSTART:20221030T010000
END:STANDARD
BEGIN:DAYLIGHT
TZOFFSETFROM:+0100
TZOFFSETTO:+0200
TZNAME:CEST
DTSTART:20230326T010000
END:DAYLIGHT
BEGIN:STANDARD
TZOFFSETFROM:+0200
TZOFFSETTO:+0100
TZNAME:CET
DTSTART:20231029T010000
END:STANDARD
END:VTIMEZONE
BEGIN:VEVENT
DTSTART;TZID=Europe/Madrid:20221208T193000
DTEND;TZID=Europe/Madrid:20221208T213000
DTSTAMP:20260425T185817
CREATED:20221124T102828Z
LAST-MODIFIED:20221124T104258Z
UID:10004303-1670527800-1670535000@poblenouurbandistrict.com
SUMMARY:ECLIPSE + XTASY
DESCRIPTION:Eclipse regresan para presentar su fantástico nuevo trabajo de estudio\, “Wired”\, alabado por la crítica especializada. \nEclipse son una de las bandas más influyentes en su género\, en poco tiempo llamaron la atención de una de las firmas de mayor relevancia del género melódico a nivel internacional\, Frontiers Music srl. \nEn directo son todo un espectáculo que han cosechado éxitos por los shows que ofrecen con destellos de Whitesnake/David Coverdale\, Europe y Toto. \nAcompañando a los suecos tendremos a los navarros Xtasy\, quienes están presentando su último disco\, “Eye of the Storm”.
URL:https://poblenouurbandistrict.com/es/agenda/eclipse-xtasy/
LOCATION:L’Auditori\, Carrer de Lepant\, 150\, Barcelona\, 08013\, Espanya
CATEGORIES:Música
ATTACH;FMTTYPE=image/jpeg:https://media.poblenouurbandistrict.com/2022/11/25055228/diseno-sin-titulo-44.jpg
END:VEVENT
BEGIN:VEVENT
DTSTART;TZID=Europe/Madrid:20221208T194500
DTEND;TZID=Europe/Madrid:20221208T220000
DTSTAMP:20260425T185817
CREATED:20221124T110338Z
LAST-MODIFIED:20221124T110338Z
UID:10004314-1670528700-1670536800@poblenouurbandistrict.com
SUMMARY:[:ca]LA ORQUESTRA DEL ROCK A LA LLUM DE LES ESPELMES[:es]LA ORQUESTRA DEL ROCK A LA LUZ DE LAS VELAS[:en]THE ORCHESTRA FROM ROCK TO CANDLELIGHT[:]
DESCRIPTION:Después de 40 shows y más de 70\,000 personas en Reino Unido e Irlanda\, nos dirigimos a Europa. \nQué puedes esperar: \nLos mejores temas de Rock y Metal interpretados por una orquestra de cámara a la luz de las velas. \nAcompáñanos por este recorrido orquestal a través de los grandes éxitos del Rock y Metal de los últimos 50 años rodeados por la luz de las velas.
URL:https://poblenouurbandistrict.com/es/agenda/la-orquestra-del-rock-a-la-llum-de-les-espelmes/
LOCATION:Sala Razzmatazz\, C/ dels Almogàvers\, 122\, Barcelona\, Barcelona\, 08018\, Espanya
CATEGORIES:Música
ATTACH;FMTTYPE=image/jpeg:https://media.poblenouurbandistrict.com/2022/11/25055230/diseno-sin-titulo-45.jpg
END:VEVENT
BEGIN:VEVENT
DTSTART;TZID=Europe/Madrid:20221208T210000
DTEND;TZID=Europe/Madrid:20221208T223000
DTSTAMP:20260425T185817
CREATED:20221129T143743Z
LAST-MODIFIED:20221129T143743Z
UID:10004246-1670533200-1670538600@poblenouurbandistrict.com
SUMMARY:CLUB DEL RÍO
DESCRIPTION:Club del río es una banda de Madrid formada por seis miembros. Esteban de Bergia\, Alvaro Ayuso\, Juan Feo\, Juan Serra\, Álvaro Baños y Adriano Pezzi. Este grupo nació cuando eran unos críos. Como la vida misma\, una banda de amigos se convierte en una banda de música. Después de varios periodos musicales y experimentación\, el proyecto se consolidó en lo que ahora es Club del Río.
URL:https://poblenouurbandistrict.com/es/agenda/club-del-rio/
LOCATION:La Nau
CATEGORIES:Música
END:VEVENT
END:VCALENDAR