BEGIN:VCALENDAR
VERSION:2.0
PRODID:-//Poblenou Urban District - ECPv6.15.20//NONSGML v1.0//EN
CALSCALE:GREGORIAN
METHOD:PUBLISH
X-WR-CALNAME:Poblenou Urban District
X-ORIGINAL-URL:https://poblenouurbandistrict.com/es
X-WR-CALDESC:Eventos para Poblenou Urban District
REFRESH-INTERVAL;VALUE=DURATION:PT1H
X-Robots-Tag:noindex
X-PUBLISHED-TTL:PT1H
BEGIN:VTIMEZONE
TZID:Europe/Madrid
BEGIN:DAYLIGHT
TZOFFSETFROM:+0100
TZOFFSETTO:+0200
TZNAME:CEST
DTSTART:20210328T010000
END:DAYLIGHT
BEGIN:STANDARD
TZOFFSETFROM:+0200
TZOFFSETTO:+0100
TZNAME:CET
DTSTART:20211031T010000
END:STANDARD
BEGIN:DAYLIGHT
TZOFFSETFROM:+0100
TZOFFSETTO:+0200
TZNAME:CEST
DTSTART:20220327T010000
END:DAYLIGHT
BEGIN:STANDARD
TZOFFSETFROM:+0200
TZOFFSETTO:+0100
TZNAME:CET
DTSTART:20221030T010000
END:STANDARD
BEGIN:DAYLIGHT
TZOFFSETFROM:+0100
TZOFFSETTO:+0200
TZNAME:CEST
DTSTART:20230326T010000
END:DAYLIGHT
BEGIN:STANDARD
TZOFFSETFROM:+0200
TZOFFSETTO:+0100
TZNAME:CET
DTSTART:20231029T010000
END:STANDARD
END:VTIMEZONE
BEGIN:VEVENT
DTSTART;TZID=Europe/Madrid:20221211T210000
DTEND;TZID=Europe/Madrid:20221211T230000
DTSTAMP:20260425T185930
CREATED:20221124T112054Z
LAST-MODIFIED:20221124T112054Z
UID:10003667-1670792400-1670799600@poblenouurbandistrict.com
SUMMARY:SOFIA ELLAR
DESCRIPTION:Sofía Ellar se lanza a la carretera para presentar los temas de su nuevo álbum «Libre» en la gira española que lleva el mismo nombre. \n“Libre” es el tercer disco autoeditado y autoproducido por la artista y supone un punto de inflexión en su carrera\, un paso firme hacia adelante en todos los sentidos. Una evolución natural a nivel compositivo y con una producción compacta\, homogénea\, a veces incluso grandilocuente que lleva la esencia del sonido Ellar a otra dimensión sin perder la naturalidad y frescura que caracteriza a la cantautora.
URL:https://poblenouurbandistrict.com/es/agenda/sofia-ellar/
LOCATION:Sala Razzmatazz\, C/ dels Almogàvers\, 122\, Barcelona\, Barcelona\, 08018\, Espanya
CATEGORIES:Música
ATTACH;FMTTYPE=image/png:https://poblenouurbandistrict.com/wp-content/uploads/2022/11/diseno-sin-titulo-48.jpg
END:VEVENT
END:VCALENDAR