BEGIN:VCALENDAR
VERSION:2.0
PRODID:-//Poblenou Urban District - ECPv6.15.20//NONSGML v1.0//EN
CALSCALE:GREGORIAN
METHOD:PUBLISH
X-WR-CALNAME:Poblenou Urban District
X-ORIGINAL-URL:https://poblenouurbandistrict.com/es
X-WR-CALDESC:Eventos para Poblenou Urban District
REFRESH-INTERVAL;VALUE=DURATION:PT1H
X-Robots-Tag:noindex
X-PUBLISHED-TTL:PT1H
BEGIN:VTIMEZONE
TZID:Europe/Madrid
BEGIN:DAYLIGHT
TZOFFSETFROM:+0100
TZOFFSETTO:+0200
TZNAME:CEST
DTSTART:20210328T010000
END:DAYLIGHT
BEGIN:STANDARD
TZOFFSETFROM:+0200
TZOFFSETTO:+0100
TZNAME:CET
DTSTART:20211031T010000
END:STANDARD
BEGIN:DAYLIGHT
TZOFFSETFROM:+0100
TZOFFSETTO:+0200
TZNAME:CEST
DTSTART:20220327T010000
END:DAYLIGHT
BEGIN:STANDARD
TZOFFSETFROM:+0200
TZOFFSETTO:+0100
TZNAME:CET
DTSTART:20221030T010000
END:STANDARD
BEGIN:DAYLIGHT
TZOFFSETFROM:+0100
TZOFFSETTO:+0200
TZNAME:CEST
DTSTART:20230326T010000
END:DAYLIGHT
BEGIN:STANDARD
TZOFFSETFROM:+0200
TZOFFSETTO:+0100
TZNAME:CET
DTSTART:20231029T010000
END:STANDARD
END:VTIMEZONE
BEGIN:VEVENT
DTSTART;TZID=Europe/Madrid:20221217T190000
DTEND;TZID=Europe/Madrid:20221217T203000
DTSTAMP:20260425T185810
CREATED:20221124T092350Z
LAST-MODIFIED:20221124T092808Z
UID:10004252-1671303600-1671309000@poblenouurbandistrict.com
SUMMARY:BRAHMS PIANO CONCERTO
DESCRIPTION:REPERTORIO\n\n\n\nHenri Dutilleux:\n\n\nMétaboles \n\n\n (1964) 17’‎\n\n\n\n\nFelip Pedrell: E\n\n\nxcelsior\, poema sinfónico \n\n\n (1880) 29’‎\n\n\n\n\nJohannes Brahms: Concierto para piano n.º 1 en re m\, op. 15 (1854-1858) 44’‎\n\n\n\n\n\nINTÉRPRETES\n\n\n\nOrquesta Sinfónica de Barcelona y Nacional de Cataluña (OBC)‎\n\n\n\n\nAndreas Haefliger\, piano\n\n\n\n\nLudovic Morlot\, dirección\n\n\n\n\n\nPROGRAMA\n\n\nUn largo y tortuoso camino de creación fue el que vivió el Concierto para piano n.º 1 de Johannes Brahms\, referente en toda la historia del género\, que en su origen fue una sonata y más tarde un proyecto de sinfonía. El fondo trágico que late en él desde los primeros compases se ha relacionado en numerosas ocasiones con el deterioro y fallecimiento de su amigo Robert Schumann en 1856. Con raíces en el pasado y la mirada puesta en el futuro\, lo que despertó en su tiempo sorpresa e irritación a partes iguales\, aquí el joven Brahms crea una obra con un sello personal e inconfundible que encarna a la vez el paradigma del concierto romántico. \nFelip Pedrell\, gran renovador de la música de nuestro país y difusor de la obra de Richard Wagner\, toma un nuevo rumbo en el momento en que escribe Excelsior\, poema sinfónico donde se respiran aires wagnerianos. Sería después cuando daría fruto a obras como Els Pirineus (Los Pirineos) o El comte Arnau (El conde Arnau).\n“Una epifanía sonora del eterno movimiento de las metamorfosis naturales que se encuentran en el seno del mundo real”. Así definió Henri Dutilleux su Métaboles\, gran exploración tímbrica y formal repleta de símbolos místicos recurrentes en la obra del francés\, un mago del sonido.
URL:https://poblenouurbandistrict.com/es/agenda/brahms-piano-concerto/2022-12-17/
LOCATION:L’Auditori\, Carrer de Lepant\, 150\, Barcelona\, 08013\, Espanya
CATEGORIES:Música
ATTACH;FMTTYPE=image/jpeg:https://media.poblenouurbandistrict.com/2022/11/25055217/diseno-sin-titulo-39.jpg
END:VEVENT
BEGIN:VEVENT
DTSTART;TZID=Europe/Madrid:20221217T200000
DTEND;TZID=Europe/Madrid:20221217T223000
DTSTAMP:20260425T185810
CREATED:20221124T113416Z
LAST-MODIFIED:20221124T113416Z
UID:10003673-1671307200-1671316200@poblenouurbandistrict.com
SUMMARY:THE OTHER SIDE - A PINK FLOYD LIVE EXPERIENCE 10º ANIVERSARIO
DESCRIPTION:The Other Side es el mejor tributo a Pink Floyd del pais. Así lo afirman críticos y público. Sus 10 años encima de los escenarios y sus varias giras los avalan. Un espectáculo de luz y sonido a la altura de cualquier tipo de evento que no deja indiferente a nadie. \nCon motivo del 45 aniversario del album Animals de la banda británica\, The Other Side incluye este año en su repertorio el disco entero junto con una selección de grandes éxitos que hace las delicias de cualquier fan\, no solo de Pink Floyd sino de la música rock en general. \nUn espectáculo de mas de 2 horas que no te puedes perder.
URL:https://poblenouurbandistrict.com/es/agenda/the-other-side-a-pink-floyd-live-experience-10o-aniversario/
LOCATION:Sala Razzmatazz\, C/ dels Almogàvers\, 122\, Barcelona\, Barcelona\, 08018\, Espanya
CATEGORIES:Música
ATTACH;FMTTYPE=image/jpeg:https://media.poblenouurbandistrict.com/2022/11/25055237/diseno-sin-titulo-51.jpg
END:VEVENT
BEGIN:VEVENT
DTSTART;TZID=Europe/Madrid:20221217T210000
DTEND;TZID=Europe/Madrid:20221217T223000
DTSTAMP:20260425T185810
CREATED:20221129T144756Z
LAST-MODIFIED:20221129T144812Z
UID:10004002-1671310800-1671316200@poblenouurbandistrict.com
SUMMARY:Vulk
DESCRIPTION:Vulk es un cuarteto vasco de punk y post-punk que se formó alrededor del año 2014.A comienzos de 2015 editaron su primer single EP ‘Zaldia Burning’ y\, dos años después\, debutaron con el LP ‘Beat Kamerlanden’ (2017). En 2018 estrenaron ‘Ground For Dogs’ y\, tres años más tarde\, a comienzos de 2021\, sacaron a la luz su tercer largo con el sello catalán Montgrí\, bajo el título de ‘Vulk Ez Da’.
URL:https://poblenouurbandistrict.com/es/agenda/vulk/
LOCATION:La Nau
CATEGORIES:Música
ATTACH;FMTTYPE=image/jpeg:https://media.poblenouurbandistrict.com/2022/11/25055340/vulk.jpeg
END:VEVENT
END:VCALENDAR