BEGIN:VCALENDAR
VERSION:2.0
PRODID:-//Poblenou Urban District - ECPv6.15.20//NONSGML v1.0//EN
CALSCALE:GREGORIAN
METHOD:PUBLISH
X-WR-CALNAME:Poblenou Urban District
X-ORIGINAL-URL:https://poblenouurbandistrict.com/es
X-WR-CALDESC:Eventos para Poblenou Urban District
REFRESH-INTERVAL;VALUE=DURATION:PT1H
X-Robots-Tag:noindex
X-PUBLISHED-TTL:PT1H
BEGIN:VTIMEZONE
TZID:Europe/Madrid
BEGIN:DAYLIGHT
TZOFFSETFROM:+0100
TZOFFSETTO:+0200
TZNAME:CEST
DTSTART:20210328T010000
END:DAYLIGHT
BEGIN:STANDARD
TZOFFSETFROM:+0200
TZOFFSETTO:+0100
TZNAME:CET
DTSTART:20211031T010000
END:STANDARD
BEGIN:DAYLIGHT
TZOFFSETFROM:+0100
TZOFFSETTO:+0200
TZNAME:CEST
DTSTART:20220327T010000
END:DAYLIGHT
BEGIN:STANDARD
TZOFFSETFROM:+0200
TZOFFSETTO:+0100
TZNAME:CET
DTSTART:20221030T010000
END:STANDARD
BEGIN:DAYLIGHT
TZOFFSETFROM:+0100
TZOFFSETTO:+0200
TZNAME:CEST
DTSTART:20230326T010000
END:DAYLIGHT
BEGIN:STANDARD
TZOFFSETFROM:+0200
TZOFFSETTO:+0100
TZNAME:CET
DTSTART:20231029T010000
END:STANDARD
END:VTIMEZONE
BEGIN:VEVENT
DTSTART;TZID=Europe/Madrid:20221223T210000
DTEND;TZID=Europe/Madrid:20221223T223000
DTSTAMP:20260425T185833
CREATED:20221129T145405Z
LAST-MODIFIED:20221129T150712Z
UID:10003952-1671829200-1671834600@poblenouurbandistrict.com
SUMMARY:ALF
DESCRIPTION:Bajo el nombre ALF\, se esconde Alfredo Tarrés Jávega\, un músico y compositor barcelonés\, con una amplia trayectoria en la escena musical del país. Tras una etapa inicial a los mandos de varias bandas\, destacando Sép7imo Cielo\, y movido por unas inquietudes diferentes\, funda años más tarde el grupo de funky-disco-glam\, LÚCUMALUNCH\, con el que saca dos trabajos discográficos al mercado\, y se hacen un nombre en la Barcelona de principios de siglo\, con un show en directo muy trabajado y sorprendente.\nA día de hoy\, ALF combina su proyecto personal\, con la multidisciplinar banda de versiones LA LOCA HISTERIA (Premi Arc 2015)\, donde recorre el país durante varios años\, con un show músico-teatral único y diferente.\nCon todo este bagaje\, ALF nos presenta ahora su primer trabajo en solitario\, titulado BLUE\, donde mantiene este concepto y esta esencia en el directo\, y donde combina el pop funky disco\, con letras que invitan al oyente a la reflexión.\nSerá en La Nau\, y junto a una potente banda de músicos\, que harán las delicias de todo aquel que tenga ganas de bailar y disfrutar de una buena dosis de disco-funk\, durante las casi dos horas que dura su espectáculo.\nNo se piensan dejar nada\, prometen poner el escenario patas arriba y dar rienda suelta a sus instintos más profundos\, a través de un directo que no te dejará ni indiferente ni sentado.
URL:https://poblenouurbandistrict.com/es/agenda/alf/
LOCATION:La Nau
CATEGORIES:Música
ATTACH;FMTTYPE=image/png:https://poblenouurbandistrict.com/wp-content/uploads/2022/11/diseno-sin-titulo-2-1.jpg
END:VEVENT
BEGIN:VEVENT
DTSTART;TZID=Europe/Madrid:20221223T210000
DTEND;TZID=Europe/Madrid:20221223T230000
DTSTAMP:20260425T185833
CREATED:20221124T114111Z
LAST-MODIFIED:20221124T114111Z
UID:10003676-1671829200-1671836400@poblenouurbandistrict.com
SUMMARY:MORGAN - THE RIVER TOUR
DESCRIPTION:Tras el éxito de sus multitudinarios conciertos acompañando a Fito & Fitipaldis en su última gira (‘cada vez cadáver’) a lo largo del territorio nacional\, Morgan presenta su gira de otoño/invierno en las que visitará algunas de las salas más míticas de nuestro país\, ofreciendo su show en un formato más cercano\, continuando con la presentación de su último trabajo\, ‘The River and The Stone’.
URL:https://poblenouurbandistrict.com/es/agenda/morgan-the-river-tour/
LOCATION:Sala Razzmatazz\, C/ dels Almogàvers\, 122\, Barcelona\, Barcelona\, 08018\, Espanya
CATEGORIES:Música
ATTACH;FMTTYPE=image/jpeg:https://media.poblenouurbandistrict.com/2022/11/25055238/diseno-sin-titulo-52.jpg
END:VEVENT
END:VCALENDAR