BEGIN:VCALENDAR
VERSION:2.0
PRODID:-//Poblenou Urban District - ECPv6.15.20//NONSGML v1.0//EN
CALSCALE:GREGORIAN
METHOD:PUBLISH
X-WR-CALNAME:Poblenou Urban District
X-ORIGINAL-URL:https://poblenouurbandistrict.com/es
X-WR-CALDESC:Eventos para Poblenou Urban District
REFRESH-INTERVAL;VALUE=DURATION:PT1H
X-Robots-Tag:noindex
X-PUBLISHED-TTL:PT1H
BEGIN:VTIMEZONE
TZID:Europe/Madrid
BEGIN:DAYLIGHT
TZOFFSETFROM:+0100
TZOFFSETTO:+0200
TZNAME:CEST
DTSTART:20210328T010000
END:DAYLIGHT
BEGIN:STANDARD
TZOFFSETFROM:+0200
TZOFFSETTO:+0100
TZNAME:CET
DTSTART:20211031T010000
END:STANDARD
BEGIN:DAYLIGHT
TZOFFSETFROM:+0100
TZOFFSETTO:+0200
TZNAME:CEST
DTSTART:20220327T010000
END:DAYLIGHT
BEGIN:STANDARD
TZOFFSETFROM:+0200
TZOFFSETTO:+0100
TZNAME:CET
DTSTART:20221030T010000
END:STANDARD
BEGIN:DAYLIGHT
TZOFFSETFROM:+0100
TZOFFSETTO:+0200
TZNAME:CEST
DTSTART:20230326T010000
END:DAYLIGHT
BEGIN:STANDARD
TZOFFSETFROM:+0200
TZOFFSETTO:+0100
TZNAME:CET
DTSTART:20231029T010000
END:STANDARD
END:VTIMEZONE
BEGIN:VEVENT
DTSTART;TZID=Europe/Madrid:20221230T190000
DTEND;TZID=Europe/Madrid:20221230T203000
DTSTAMP:20260425T170042
CREATED:20221124T095708Z
LAST-MODIFIED:20221124T095708Z
UID:10004247-1672426800-1672432200@poblenouurbandistrict.com
SUMMARY:[:ca]CAP D'ANY AMB GERSHWIN[:es]FIN DE AÑO CON GERSHWIN[:en]NEW YEAR’S EVE WITH GERSHWIN[:]
DESCRIPTION:REPERTORIO\n\n\n\nGeorge Gershwin: Concierto para piano en Fa (1925) 31’\n\n\n\n\nGeorge Gershwin / Albert Guinovart:\n\n\nI Love rhythm \n\n\n\, suite de temas de Gershwin (2019)\n\n\n\n\nGeorge Gershwin:\n\n\nThe Porgy and Bess Collection \n\n\n (1935) 20’\n\n\n\n\n\nINTÉRPRETES\n\n\n\nBanda Municipal de Barcelona\n\n\n\n\nAlbert Guinovart\, piano\n\n\nJosé R. Pascual-Vilaplana\, dirección\n\n\n\nPROGRAMA\n\n\nGeorge Gershwin se convirtió en uno de los compositores más famosos de su época en Estados Unidos. La música fresca\, alegre y de carácter popular que escribía conectó con la sociedad norteamericana de los llamados ‘felices años veinte’ del siglo pasado. Una miscelánea de los temas más conocidos de este autor ocupa la segunda parte del programa del concierto: en primer lugar\, con la suite para banda y piano de Albert Guinovart –en la que él mismo interpreta la parte solista– y\, en segundo lugar\, con una colección de fragmentos de la ópera Porgy and Bess\, una de las obras de Gershwin aún hoy de las más aclamadas y que incluye la famosísima canción de cuna Summertime. Guinovart también interpreta el Concierto para piano en fa\, una partitura sensual y sugerente que nos transporta hacia la Nueva York del jazz\, del blues y de unas músicas que nos son familiares cien años después.
URL:https://poblenouurbandistrict.com/es/agenda/cap-dany-amb-gershwin/
LOCATION:L’Auditori\, Carrer de Lepant\, 150\, Barcelona\, 08013\, Espanya
CATEGORIES:Música
ATTACH;FMTTYPE=image/jpeg:https://media.poblenouurbandistrict.com/2022/11/25055227/diseno-sin-titulo-43.jpg
END:VEVENT
BEGIN:VEVENT
DTSTART;TZID=Europe/Madrid:20221230T190000
DTEND;TZID=Europe/Madrid:20221230T210000
DTSTAMP:20260425T170042
CREATED:20221220T114756Z
LAST-MODIFIED:20221220T115130Z
UID:10004377-1672426800-1672434000@poblenouurbandistrict.com
SUMMARY:[:ca]Danza con Voz en Vivo[:es]Danza con Voz en Vivo[:]
DESCRIPTION:CELEBRACIÓN BIS el viernes 30 de diciembre de 19 a 21 hs \nUn Encuentro Celebrativo / El Cuerpo se Abre a la Danza y al Sonido de un Concierto Improvisado de Solo Voz / Un Espacio Vibrante para ser Traspasados por lo Espontáneo / Experiencia de Entrega Íntima y Compartida / Frescura\, Contacto\, Viaje Interior\, Co-creación. \nInscripciones: \nhttps://www.alasbcn.com/celebracion-nuevo-ano/
URL:https://poblenouurbandistrict.com/es/agenda/danza-con-voz-en-vivo/
LOCATION:ALAS\, Passatge de Masoliver\, 25\, 1ª\, Barcelona\, 08005
CATEGORIES:Curso,Danza,Música,Taller
ATTACH;FMTTYPE=image/jpeg:https://media.poblenouurbandistrict.com/2022/12/25055440/alas.jpg
END:VEVENT
BEGIN:VEVENT
DTSTART;TZID=Europe/Madrid:20221230T210000
DTEND;TZID=Europe/Madrid:20221230T230000
DTSTAMP:20260425T170042
CREATED:20221124T121509Z
LAST-MODIFIED:20221124T121509Z
UID:10004315-1672434000-1672441200@poblenouurbandistrict.com
SUMMARY:LOS ZIGARROS
DESCRIPTION:Tras su imparable trayectoria\, coronando los charts de ventas con sus anteriores trabajos discográficos\, recorriendo el país con más de 300 fechas a sus espaldas o teloneando a los mismísimos Rolling Stone en Barcelona a su paso por Europa\, la banda sigue ocupando un lugar muy destacado dentro del rock nacional. \nHabiendo hecho ya parada en numerosas ciudades y colgando el cartel de ‘entradas agotadas’ en muchos de sus conciertos\, nuevas fechas se suman al calendario\, esta vez girando dentro del circuito de salas.
URL:https://poblenouurbandistrict.com/es/agenda/los-zigarros/
LOCATION:Sala Razzmatazz\, C/ dels Almogàvers\, 122\, Barcelona\, Barcelona\, 08018\, Espanya
CATEGORIES:Música
ATTACH;FMTTYPE=image/jpeg:https://media.poblenouurbandistrict.com/2022/11/25055245/diseno-sin-titulo-56.jpg
END:VEVENT
END:VCALENDAR