BEGIN:VCALENDAR
VERSION:2.0
PRODID:-//Poblenou Urban District - ECPv6.15.20//NONSGML v1.0//EN
CALSCALE:GREGORIAN
METHOD:PUBLISH
X-ORIGINAL-URL:https://poblenouurbandistrict.com/es
X-WR-CALDESC:Eventos para Poblenou Urban District
REFRESH-INTERVAL;VALUE=DURATION:PT1H
X-Robots-Tag:noindex
X-PUBLISHED-TTL:PT1H
BEGIN:VTIMEZONE
TZID:Europe/Madrid
BEGIN:DAYLIGHT
TZOFFSETFROM:+0100
TZOFFSETTO:+0200
TZNAME:CEST
DTSTART:20220327T010000
END:DAYLIGHT
BEGIN:STANDARD
TZOFFSETFROM:+0200
TZOFFSETTO:+0100
TZNAME:CET
DTSTART:20221030T010000
END:STANDARD
BEGIN:DAYLIGHT
TZOFFSETFROM:+0100
TZOFFSETTO:+0200
TZNAME:CEST
DTSTART:20230326T010000
END:DAYLIGHT
BEGIN:STANDARD
TZOFFSETFROM:+0200
TZOFFSETTO:+0100
TZNAME:CET
DTSTART:20231029T010000
END:STANDARD
BEGIN:DAYLIGHT
TZOFFSETFROM:+0100
TZOFFSETTO:+0200
TZNAME:CEST
DTSTART:20240331T010000
END:DAYLIGHT
BEGIN:STANDARD
TZOFFSETFROM:+0200
TZOFFSETTO:+0100
TZNAME:CET
DTSTART:20241027T010000
END:STANDARD
END:VTIMEZONE
BEGIN:VEVENT
DTSTART;TZID=Europe/Madrid:20230909T120000
DTEND;TZID=Europe/Madrid:20230910T220000
DTSTAMP:20260425T005256
CREATED:20230908T110815Z
LAST-MODIFIED:20230908T110815Z
UID:10006657-1694260800-1694383200@poblenouurbandistrict.com
SUMMARY:[:ca]Palo Market Fest[:es]Palo Market Fest[:]
DESCRIPTION:
URL:https://poblenouurbandistrict.com/es/agenda/palo-market-fest-2/
LOCATION:Palo Alto\, Carrer dels Pellaires\, 30 - 38\, Barcelona\, 08019
CATEGORIES:Arte,Gastronomía,Música
END:VEVENT
BEGIN:VEVENT
DTSTART;TZID=Europe/Madrid:20230910T200000
DTEND;TZID=Europe/Madrid:20230910T200000
DTSTAMP:20260425T005256
CREATED:20230908T105936Z
LAST-MODIFIED:20230908T192116Z
UID:10006656-1694376000-1694376000@poblenouurbandistrict.com
SUMMARY:[:ca]DESAFINADO - Latin Session[:es]DESAFINADO - Latin Session[:]
DESCRIPTION:
URL:https://poblenouurbandistrict.com/es/agenda/desafinado-latin-session/
LOCATION:La Nau
CATEGORIES:Música
END:VEVENT
BEGIN:VEVENT
DTSTART;TZID=Europe/Madrid:20230910T203000
DTEND;TZID=Europe/Madrid:20230910T220000
DTSTAMP:20260425T005256
CREATED:20230908T102545Z
LAST-MODIFIED:20230915T173150Z
UID:10006660-1694377800-1694383200@poblenouurbandistrict.com
SUMMARY:[:ca]Live Music[:es]Live Music[:]
DESCRIPTION:
URL:https://poblenouurbandistrict.com/es/agenda/live-music-i-dj-set/2023-09-10/
LOCATION:Trikini\, Pujades\, 226\, Barcelona\, Catalunya\, 08005\, Espanya
CATEGORIES:Música
END:VEVENT
BEGIN:VEVENT
DTSTART;TZID=Europe/Madrid:20230910T223000
DTEND;TZID=Europe/Madrid:20230910T233000
DTSTAMP:20260425T005256
CREATED:20230908T191731Z
LAST-MODIFIED:20230915T173105Z
UID:10006663-1694385000-1694388600@poblenouurbandistrict.com
SUMMARY:[:ca]Dj Set[:es]Dj Set[:]
DESCRIPTION:
URL:https://poblenouurbandistrict.com/es/agenda/dj-set/2023-09-10/
LOCATION:Trikini\, Pujades\, 226\, Barcelona\, Catalunya\, 08005\, Espanya
CATEGORIES:Música
END:VEVENT
END:VCALENDAR