BEGIN:VCALENDAR
VERSION:2.0
PRODID:-//Poblenou Urban District - ECPv6.15.20//NONSGML v1.0//EN
CALSCALE:GREGORIAN
METHOD:PUBLISH
X-ORIGINAL-URL:https://poblenouurbandistrict.com/es
X-WR-CALDESC:Eventos para Poblenou Urban District
REFRESH-INTERVAL;VALUE=DURATION:PT1H
X-Robots-Tag:noindex
X-PUBLISHED-TTL:PT1H
BEGIN:VTIMEZONE
TZID:Europe/Madrid
BEGIN:DAYLIGHT
TZOFFSETFROM:+0100
TZOFFSETTO:+0200
TZNAME:CEST
DTSTART:20220327T010000
END:DAYLIGHT
BEGIN:STANDARD
TZOFFSETFROM:+0200
TZOFFSETTO:+0100
TZNAME:CET
DTSTART:20221030T010000
END:STANDARD
BEGIN:DAYLIGHT
TZOFFSETFROM:+0100
TZOFFSETTO:+0200
TZNAME:CEST
DTSTART:20230326T010000
END:DAYLIGHT
BEGIN:STANDARD
TZOFFSETFROM:+0200
TZOFFSETTO:+0100
TZNAME:CET
DTSTART:20231029T010000
END:STANDARD
BEGIN:DAYLIGHT
TZOFFSETFROM:+0100
TZOFFSETTO:+0200
TZNAME:CEST
DTSTART:20240331T010000
END:DAYLIGHT
BEGIN:STANDARD
TZOFFSETFROM:+0200
TZOFFSETTO:+0100
TZNAME:CET
DTSTART:20241027T010000
END:STANDARD
END:VTIMEZONE
BEGIN:VEVENT
DTSTART;TZID=Europe/Madrid:20231006T190000
DTEND;TZID=Europe/Madrid:20231006T190000
DTSTAMP:20260424T224425
CREATED:20230929T094830Z
LAST-MODIFIED:20230929T094830Z
UID:10006714-1696618800-1696618800@poblenouurbandistrict.com
SUMMARY:[:ca]Concert "La Consagració de la Primavera"[:es]Concierto "La Consagración de la Primavera"[:]
DESCRIPTION:
URL:https://poblenouurbandistrict.com/es/agenda/concert-la-consagracio-de-la-primavera/2023-10-06/
LOCATION:L’Auditori\, Carrer de Lepant\, 150\, Barcelona\, 08013\, Espanya
CATEGORIES:Música
END:VEVENT
BEGIN:VEVENT
DTSTART;TZID=Europe/Madrid:20231006T190000
DTEND;TZID=Europe/Madrid:20231006T190000
DTSTAMP:20260424T224425
CREATED:20230929T095208Z
LAST-MODIFIED:20230929T095208Z
UID:10006716-1696618800-1696618800@poblenouurbandistrict.com
SUMMARY:[:ca]Concert "La Banda a la Festa Major de Montbau"[:es]Concierto "La Banda en la Fiesta Mayor de Montbau"[:]
DESCRIPTION:
URL:https://poblenouurbandistrict.com/es/agenda/concert-la-banda-a-la-festa-major-de-montbau/
LOCATION:Pla de Montbau\, Pla de Montbau\, 3\, Barcelona\, Catalunya\, 08035\, Espanya
CATEGORIES:Música
END:VEVENT
BEGIN:VEVENT
DTSTART;TZID=Europe/Madrid:20231006T213000
DTEND;TZID=Europe/Madrid:20231006T213000
DTSTAMP:20260424T224425
CREATED:20230929T114736Z
LAST-MODIFIED:20230929T114736Z
UID:10006745-1696627800-1696627800@poblenouurbandistrict.com
SUMMARY:[:ca]Concert "Rafa Espino"[:es]Concierto "Rafa Espino"[:]
DESCRIPTION:
URL:https://poblenouurbandistrict.com/es/agenda/concert-rafa-espino/
LOCATION:La Nau
CATEGORIES:Música
END:VEVENT
END:VCALENDAR