BEGIN:VCALENDAR
VERSION:2.0
PRODID:-//Poblenou Urban District - ECPv6.15.20//NONSGML v1.0//EN
CALSCALE:GREGORIAN
METHOD:PUBLISH
X-ORIGINAL-URL:https://poblenouurbandistrict.com/es
X-WR-CALDESC:Eventos para Poblenou Urban District
REFRESH-INTERVAL;VALUE=DURATION:PT1H
X-Robots-Tag:noindex
X-PUBLISHED-TTL:PT1H
BEGIN:VTIMEZONE
TZID:Europe/Madrid
BEGIN:DAYLIGHT
TZOFFSETFROM:+0100
TZOFFSETTO:+0200
TZNAME:CEST
DTSTART:20220327T010000
END:DAYLIGHT
BEGIN:STANDARD
TZOFFSETFROM:+0200
TZOFFSETTO:+0100
TZNAME:CET
DTSTART:20221030T010000
END:STANDARD
BEGIN:DAYLIGHT
TZOFFSETFROM:+0100
TZOFFSETTO:+0200
TZNAME:CEST
DTSTART:20230326T010000
END:DAYLIGHT
BEGIN:STANDARD
TZOFFSETFROM:+0200
TZOFFSETTO:+0100
TZNAME:CET
DTSTART:20231029T010000
END:STANDARD
BEGIN:DAYLIGHT
TZOFFSETFROM:+0100
TZOFFSETTO:+0200
TZNAME:CEST
DTSTART:20240331T010000
END:DAYLIGHT
BEGIN:STANDARD
TZOFFSETFROM:+0200
TZOFFSETTO:+0100
TZNAME:CET
DTSTART:20241027T010000
END:STANDARD
END:VTIMEZONE
BEGIN:VEVENT
DTSTART;TZID=Europe/Madrid:20231008T103000
DTEND;TZID=Europe/Madrid:20231008T103000
DTSTAMP:20260424T224419
CREATED:20230929T100411Z
LAST-MODIFIED:20230929T100411Z
UID:10006719-1696761000-1696761000@poblenouurbandistrict.com
SUMMARY:[:ca]Activitat "Matí Musical per a embarassades"[:es]Actividad "Mañana Musical para embarazadas"[:]
DESCRIPTION:
URL:https://poblenouurbandistrict.com/es/agenda/activitat-mati-musical-per-a-embarassades/2023-10-08/
LOCATION:L’Auditori\, Carrer de Lepant\, 150\, Barcelona\, 08013\, Espanya
CATEGORIES:Música
END:VEVENT
BEGIN:VEVENT
DTSTART;TZID=Europe/Madrid:20231008T110000
DTEND;TZID=Europe/Madrid:20231008T110000
DTSTAMP:20260424T224419
CREATED:20230929T094830Z
LAST-MODIFIED:20230929T094830Z
UID:10006715-1696762800-1696762800@poblenouurbandistrict.com
SUMMARY:[:ca]Concert "La Consagració de la Primavera"[:es]Concierto "La Consagración de la Primavera"[:]
DESCRIPTION:
URL:https://poblenouurbandistrict.com/es/agenda/concert-la-consagracio-de-la-primavera/2023-10-08/
LOCATION:L’Auditori\, Carrer de Lepant\, 150\, Barcelona\, 08013\, Espanya
CATEGORIES:Música
END:VEVENT
BEGIN:VEVENT
DTSTART;TZID=Europe/Madrid:20231008T173000
DTEND;TZID=Europe/Madrid:20231008T173000
DTSTAMP:20260424T224419
CREATED:20230929T115137Z
LAST-MODIFIED:20230929T115137Z
UID:10006747-1696786200-1696786200@poblenouurbandistrict.com
SUMMARY:[:ca]Concert "Bajada de Furros"[:es]Concierto "Bajada de Furros"[:]
DESCRIPTION:
URL:https://poblenouurbandistrict.com/es/agenda/concert-bajada-de-furros/
LOCATION:La Nau
CATEGORIES:Música
END:VEVENT
END:VCALENDAR