BEGIN:VCALENDAR
VERSION:2.0
PRODID:-//Poblenou Urban District - ECPv6.15.20//NONSGML v1.0//EN
CALSCALE:GREGORIAN
METHOD:PUBLISH
X-WR-CALNAME:Poblenou Urban District
X-ORIGINAL-URL:https://poblenouurbandistrict.com/es
X-WR-CALDESC:Eventos para Poblenou Urban District
REFRESH-INTERVAL;VALUE=DURATION:PT1H
X-Robots-Tag:noindex
X-PUBLISHED-TTL:PT1H
BEGIN:VTIMEZONE
TZID:Europe/Madrid
BEGIN:DAYLIGHT
TZOFFSETFROM:+0100
TZOFFSETTO:+0200
TZNAME:CEST
DTSTART:20230326T010000
END:DAYLIGHT
BEGIN:STANDARD
TZOFFSETFROM:+0200
TZOFFSETTO:+0100
TZNAME:CET
DTSTART:20231029T010000
END:STANDARD
BEGIN:DAYLIGHT
TZOFFSETFROM:+0100
TZOFFSETTO:+0200
TZNAME:CEST
DTSTART:20240331T010000
END:DAYLIGHT
BEGIN:STANDARD
TZOFFSETFROM:+0200
TZOFFSETTO:+0100
TZNAME:CET
DTSTART:20241027T010000
END:STANDARD
BEGIN:DAYLIGHT
TZOFFSETFROM:+0100
TZOFFSETTO:+0200
TZNAME:CEST
DTSTART:20250330T010000
END:DAYLIGHT
BEGIN:STANDARD
TZOFFSETFROM:+0200
TZOFFSETTO:+0100
TZNAME:CET
DTSTART:20251026T010000
END:STANDARD
END:VTIMEZONE
BEGIN:VEVENT
DTSTART;TZID=Europe/Madrid:20241018T210000
DTEND;TZID=Europe/Madrid:20241018T210000
DTSTAMP:20260424T002029
CREATED:20241004T115505Z
LAST-MODIFIED:20241004T115855Z
UID:10006915-1729285200-1729285200@poblenouurbandistrict.com
SUMMARY:SKYDRVG
DESCRIPTION:SKYDRVG es el proyecto conjunto de Pedro LaDroga y $kyhook. Una de las mentes más carismáticas de la escena urbana y el productor de algunos de los hits más importantes del panorama nacional\, unidos. Pedro LaDroga ha colaborado además con C. Tangana o Limabeatz\, y su sonido ha influenciado a algunos de los artistas más destacados del panorama nacional e internacional. El zaragozano $kyhook está detrás de algunos de los beats más reconocidos del panorama urbano nacional de los últimos años. El “beatmaker” y dj ha actuado en el Sónar Festival y teloneado a artistas de la talla de Bad Bunny. \nAhora vuelven para celebrar el décimo aniversario de este proyecto colaborativo con una gira inolvidable a finales de este año que recorrerá las principales ciudades del país. ¡No te pierdas esta cita única! \nMás información y entradas aquí.
URL:https://poblenouurbandistrict.com/es/agenda/bikoko/
LOCATION:La Nau
CATEGORIES:Música
ATTACH;FMTTYPE=image/jpeg:https://media.poblenouurbandistrict.com/2024/10/25075742/skydrvg-10th-pedro-skyhook-web.jpg
END:VEVENT
END:VCALENDAR