BEGIN:VCALENDAR
VERSION:2.0
PRODID:-//Poblenou Urban District - ECPv6.15.20//NONSGML v1.0//EN
CALSCALE:GREGORIAN
METHOD:PUBLISH
X-WR-CALNAME:Poblenou Urban District
X-ORIGINAL-URL:https://poblenouurbandistrict.com/es
X-WR-CALDESC:Eventos para Poblenou Urban District
REFRESH-INTERVAL;VALUE=DURATION:PT1H
X-Robots-Tag:noindex
X-PUBLISHED-TTL:PT1H
BEGIN:VTIMEZONE
TZID:Europe/Madrid
BEGIN:DAYLIGHT
TZOFFSETFROM:+0100
TZOFFSETTO:+0200
TZNAME:CEST
DTSTART:20230326T010000
END:DAYLIGHT
BEGIN:STANDARD
TZOFFSETFROM:+0200
TZOFFSETTO:+0100
TZNAME:CET
DTSTART:20231029T010000
END:STANDARD
BEGIN:DAYLIGHT
TZOFFSETFROM:+0100
TZOFFSETTO:+0200
TZNAME:CEST
DTSTART:20240331T010000
END:DAYLIGHT
BEGIN:STANDARD
TZOFFSETFROM:+0200
TZOFFSETTO:+0100
TZNAME:CET
DTSTART:20241027T010000
END:STANDARD
BEGIN:DAYLIGHT
TZOFFSETFROM:+0100
TZOFFSETTO:+0200
TZNAME:CEST
DTSTART:20250330T010000
END:DAYLIGHT
BEGIN:STANDARD
TZOFFSETFROM:+0200
TZOFFSETTO:+0100
TZNAME:CET
DTSTART:20251026T010000
END:STANDARD
END:VTIMEZONE
BEGIN:VEVENT
DTSTART;TZID=Europe/Madrid:20241112T183000
DTEND;TZID=Europe/Madrid:20241112T183000
DTSTAMP:20260423T224139
CREATED:20241111T100559Z
LAST-MODIFIED:20241111T100559Z
UID:10007037-1731436200-1731436200@poblenouurbandistrict.com
SUMMARY:DPR - THE DREAM REBORN WORLD TOUR 2024
DESCRIPTION:El grupo coreano DPR anuncia las fechas de The Dream Reborn World Tour 2024\, la gira que contará con DPR Ian\, DPR Cream y DPR Artic. Actuarán en Barcelona el 12 de noviembre en Razzmatazz. \nDream Perfect Regime es algo único en la industria musical\, sobre todo en Corea del Sur\, ya que se gestiona casi al 100% internamente. Los miembros del equipo de DPR escriben\, producen\, editan y dirigen toda su música y contenidos visuales. \n  \nMás información y entradas aquí.
URL:https://poblenouurbandistrict.com/es/agenda/dpr-the-dream-reborn-world-tour-2024/
LOCATION:Sala Razzmatazz\, C/ dels Almogàvers\, 122\, Barcelona\, Barcelona\, 08018\, Espanya
CATEGORIES:Música
ATTACH;FMTTYPE=image/jpeg:https://media.poblenouurbandistrict.com/2024/11/25081508/dpr2.jpg
END:VEVENT
BEGIN:VEVENT
DTSTART;TZID=Europe/Madrid:20241112T193000
DTEND;TZID=Europe/Madrid:20241112T193000
DTSTAMP:20260423T224139
CREATED:20241111T095519Z
LAST-MODIFIED:20241112T182819Z
UID:10007036-1731439800-1731439800@poblenouurbandistrict.com
SUMMARY:SOM VALÈNCIA - SERGI ESTELLA\, DJ CLAIRE RETROGIRL I BARCELONA BIG BLUES BAND
DESCRIPTION:SOM VALÈNCIA es un evento benéfico múltiple de conciertos durante varios días en diferentes salas y ciudades para recaudar fondos para las personas más afectadas por el devastador paso de la DANA por València. \nLa recaudación de todos los conciertos programados por SOM VALÈNCIA se destinará íntegramente a esta causa a través de una red de organizaciones locales. La Fundación Horta Sud\, con más de 50 años de experiencia\, garantizará la distribución equitativa de los fondos. \n  \nMás información y entradas aquí.
URL:https://poblenouurbandistrict.com/es/agenda/som-valencia-sergi-estella-dj-claire-retrogirl-i-barcelona-big-blues-band/
LOCATION:Sala Razzmatazz\, C/ dels Almogàvers\, 122\, Barcelona\, Barcelona\, 08018\, Espanya
CATEGORIES:Música
ATTACH;FMTTYPE=image/jpeg:https://media.poblenouurbandistrict.com/2024/11/25081504/bbbb2.jpg
END:VEVENT
END:VCALENDAR