BEGIN:VCALENDAR
VERSION:2.0
PRODID:-//Poblenou Urban District - ECPv6.15.20//NONSGML v1.0//EN
CALSCALE:GREGORIAN
METHOD:PUBLISH
X-WR-CALNAME:Poblenou Urban District
X-ORIGINAL-URL:https://poblenouurbandistrict.com/es
X-WR-CALDESC:Eventos para Poblenou Urban District
REFRESH-INTERVAL;VALUE=DURATION:PT1H
X-Robots-Tag:noindex
X-PUBLISHED-TTL:PT1H
BEGIN:VTIMEZONE
TZID:Europe/Madrid
BEGIN:DAYLIGHT
TZOFFSETFROM:+0100
TZOFFSETTO:+0200
TZNAME:CEST
DTSTART:20230326T010000
END:DAYLIGHT
BEGIN:STANDARD
TZOFFSETFROM:+0200
TZOFFSETTO:+0100
TZNAME:CET
DTSTART:20231029T010000
END:STANDARD
BEGIN:DAYLIGHT
TZOFFSETFROM:+0100
TZOFFSETTO:+0200
TZNAME:CEST
DTSTART:20240331T010000
END:DAYLIGHT
BEGIN:STANDARD
TZOFFSETFROM:+0200
TZOFFSETTO:+0100
TZNAME:CET
DTSTART:20241027T010000
END:STANDARD
BEGIN:DAYLIGHT
TZOFFSETFROM:+0100
TZOFFSETTO:+0200
TZNAME:CEST
DTSTART:20250330T010000
END:DAYLIGHT
BEGIN:STANDARD
TZOFFSETFROM:+0200
TZOFFSETTO:+0100
TZNAME:CET
DTSTART:20251026T010000
END:STANDARD
END:VTIMEZONE
BEGIN:VEVENT
DTSTART;TZID=Europe/Madrid:20241210T193000
DTEND;TZID=Europe/Madrid:20241210T193000
DTSTAMP:20260423T205730
CREATED:20241210T083157Z
LAST-MODIFIED:20241210T083157Z
UID:10007063-1733859000-1733859000@poblenouurbandistrict.com
SUMMARY:BLUES PILLS & DANIEL ROMANO'S OUTFIT - HAPPY F*CKING BIRTHDAY TOUR
DESCRIPTION:El joven cuarteto sueco es la sensación del rock electrizante que ha hechizado al mundo con sus enérgicos shows en vivo con la líder Elin Larsson a la cabeza. \nCon motivo de este nuevo trabajo\, la banda anucia una gira Europea acompañados del canadiense\,  polifacético Daniel Romano\, quien actuará como telonero principal en todas sus fechas\, acompañado de su banda Daniel Romano’s Outfit! \n  \nMás información y entradas aquí.
URL:https://poblenouurbandistrict.com/es/agenda/blues-pills-daniel-romanos-outfit-happy-fcking-birthday-tour/
LOCATION:Sala Razzmatazz\, C/ dels Almogàvers\, 122\, Barcelona\, Barcelona\, 08018\, Espanya
CATEGORIES:Música
ATTACH;FMTTYPE=image/jpeg:https://media.poblenouurbandistrict.com/2024/12/25082242/bluespills-photo-1000x540-1.jpg
END:VEVENT
END:VCALENDAR