BEGIN:VCALENDAR
VERSION:2.0
PRODID:-//Poblenou Urban District - ECPv6.15.20//NONSGML v1.0//EN
CALSCALE:GREGORIAN
METHOD:PUBLISH
X-ORIGINAL-URL:https://poblenouurbandistrict.com/es
X-WR-CALDESC:Eventos para Poblenou Urban District
REFRESH-INTERVAL;VALUE=DURATION:PT1H
X-Robots-Tag:noindex
X-PUBLISHED-TTL:PT1H
BEGIN:VTIMEZONE
TZID:Europe/Madrid
BEGIN:DAYLIGHT
TZOFFSETFROM:+0100
TZOFFSETTO:+0200
TZNAME:CEST
DTSTART:20240331T010000
END:DAYLIGHT
BEGIN:STANDARD
TZOFFSETFROM:+0200
TZOFFSETTO:+0100
TZNAME:CET
DTSTART:20241027T010000
END:STANDARD
BEGIN:DAYLIGHT
TZOFFSETFROM:+0100
TZOFFSETTO:+0200
TZNAME:CEST
DTSTART:20250330T010000
END:DAYLIGHT
BEGIN:STANDARD
TZOFFSETFROM:+0200
TZOFFSETTO:+0100
TZNAME:CET
DTSTART:20251026T010000
END:STANDARD
BEGIN:DAYLIGHT
TZOFFSETFROM:+0100
TZOFFSETTO:+0200
TZNAME:CEST
DTSTART:20260329T010000
END:DAYLIGHT
BEGIN:STANDARD
TZOFFSETFROM:+0200
TZOFFSETTO:+0100
TZNAME:CET
DTSTART:20261025T010000
END:STANDARD
END:VTIMEZONE
BEGIN:VEVENT
DTSTART;TZID=Europe/Madrid:20250327T190000
DTEND;TZID=Europe/Madrid:20250327T190000
DTSTAMP:20260423T154318
CREATED:20250325T115508Z
LAST-MODIFIED:20250325T120409Z
UID:10007146-1743102000-1743102000@poblenouurbandistrict.com
SUMMARY:BIGFLO & OLI + BERYWAM
DESCRIPTION:
URL:https://poblenouurbandistrict.com/es/agenda/bigflo-oli-berywam/
LOCATION:Sala Razzmatazz\, C/ dels Almogàvers\, 122\, Barcelona\, Barcelona\, 08018\, Espanya
CATEGORIES:Música
ATTACH;FMTTYPE=image/jpeg:https://media.poblenouurbandistrict.com/2025/03/25084706/bigfloweb-1000x540-1.jpg
END:VEVENT
BEGIN:VEVENT
DTSTART;TZID=Europe/Madrid:20250327T193000
DTEND;TZID=Europe/Madrid:20250327T193000
DTSTAMP:20260423T154318
CREATED:20250325T115919Z
LAST-MODIFIED:20250325T120519Z
UID:10007148-1743103800-1743103800@poblenouurbandistrict.com
SUMMARY:L'HAINE
DESCRIPTION:
URL:https://poblenouurbandistrict.com/es/agenda/lhaine/
LOCATION:Sala Razzmatazz\, C/ dels Almogàvers\, 122\, Barcelona\, Barcelona\, 08018\, Espanya
CATEGORIES:Música
ATTACH;FMTTYPE=image/png:https://media.poblenouurbandistrict.com/2025/03/25084712/lhainecart.png
END:VEVENT
BEGIN:VEVENT
DTSTART;TZID=Europe/Madrid:20250327T200000
DTEND;TZID=Europe/Madrid:20250327T200000
DTSTAMP:20260423T154318
CREATED:20250325T115731Z
LAST-MODIFIED:20250325T120547Z
UID:10007147-1743105600-1743105600@poblenouurbandistrict.com
SUMMARY:THE PICTUREBOOKS
DESCRIPTION:
URL:https://poblenouurbandistrict.com/es/agenda/the-picturebooks/
LOCATION:Sala Razzmatazz\, C/ dels Almogàvers\, 122\, Barcelona\, Barcelona\, 08018\, Espanya
CATEGORIES:Música
ATTACH;FMTTYPE=image/jpeg:https://media.poblenouurbandistrict.com/2025/03/25084709/picturebooks1-1000x540-1.jpg
END:VEVENT
END:VCALENDAR