BEGIN:VCALENDAR
VERSION:2.0
PRODID:-//Poblenou Urban District - ECPv6.15.20//NONSGML v1.0//EN
CALSCALE:GREGORIAN
METHOD:PUBLISH
X-WR-CALNAME:Poblenou Urban District
X-ORIGINAL-URL:https://poblenouurbandistrict.com/es
X-WR-CALDESC:Eventos para Poblenou Urban District
REFRESH-INTERVAL;VALUE=DURATION:PT1H
X-Robots-Tag:noindex
X-PUBLISHED-TTL:PT1H
BEGIN:VTIMEZONE
TZID:Europe/Madrid
BEGIN:DAYLIGHT
TZOFFSETFROM:+0100
TZOFFSETTO:+0200
TZNAME:CEST
DTSTART:20240331T010000
END:DAYLIGHT
BEGIN:STANDARD
TZOFFSETFROM:+0200
TZOFFSETTO:+0100
TZNAME:CET
DTSTART:20241027T010000
END:STANDARD
BEGIN:DAYLIGHT
TZOFFSETFROM:+0100
TZOFFSETTO:+0200
TZNAME:CEST
DTSTART:20250330T010000
END:DAYLIGHT
BEGIN:STANDARD
TZOFFSETFROM:+0200
TZOFFSETTO:+0100
TZNAME:CET
DTSTART:20251026T010000
END:STANDARD
BEGIN:DAYLIGHT
TZOFFSETFROM:+0100
TZOFFSETTO:+0200
TZNAME:CEST
DTSTART:20260329T010000
END:DAYLIGHT
BEGIN:STANDARD
TZOFFSETFROM:+0200
TZOFFSETTO:+0100
TZNAME:CET
DTSTART:20261025T010000
END:STANDARD
END:VTIMEZONE
BEGIN:VEVENT
DTSTART;TZID=Europe/Madrid:20250409T193000
DTEND;TZID=Europe/Madrid:20250409T193000
DTSTAMP:20260423T135124
CREATED:20250404T104649Z
LAST-MODIFIED:20250404T104649Z
UID:10007163-1744227000-1744227000@poblenouurbandistrict.com
SUMMARY:NONPALIDECE
DESCRIPTION:
URL:https://poblenouurbandistrict.com/es/agenda/nonpalidece-2/
LOCATION:Sala Razzmatazz\, C/ dels Almogàvers\, 122\, Barcelona\, Barcelona\, 08018\, Espanya
CATEGORIES:Música
ATTACH;FMTTYPE=image/jpeg:https://media.poblenouurbandistrict.com/2025/04/25085112/nonpalidece1-1000x540-1.jpg
END:VEVENT
BEGIN:VEVENT
DTSTART;TZID=Europe/Madrid:20250409T193000
DTEND;TZID=Europe/Madrid:20250409T193000
DTSTAMP:20260423T135124
CREATED:20250404T104933Z
LAST-MODIFIED:20250404T104933Z
UID:10007165-1744227000-1744227000@poblenouurbandistrict.com
SUMMARY:[:ca]Tonic Water[:es]TONIC WALTER[:en]TONIC WALTER[:]
DESCRIPTION:
URL:https://poblenouurbandistrict.com/es/agenda/tonic-water/
LOCATION:Sala Razzmatazz\, C/ dels Almogàvers\, 122\, Barcelona\, Barcelona\, 08018\, Espanya
CATEGORIES:Música
ATTACH;FMTTYPE=image/webp:https://media.poblenouurbandistrict.com/2025/04/25085115/tonicposter.webp
END:VEVENT
END:VCALENDAR