BEGIN:VCALENDAR
VERSION:2.0
PRODID:-//Poblenou Urban District - ECPv6.15.20//NONSGML v1.0//EN
CALSCALE:GREGORIAN
METHOD:PUBLISH
X-WR-CALNAME:Poblenou Urban District
X-ORIGINAL-URL:https://poblenouurbandistrict.com/es
X-WR-CALDESC:Eventos para Poblenou Urban District
REFRESH-INTERVAL;VALUE=DURATION:PT1H
X-Robots-Tag:noindex
X-PUBLISHED-TTL:PT1H
BEGIN:VTIMEZONE
TZID:Europe/Madrid
BEGIN:DAYLIGHT
TZOFFSETFROM:+0100
TZOFFSETTO:+0200
TZNAME:CEST
DTSTART:20240331T010000
END:DAYLIGHT
BEGIN:STANDARD
TZOFFSETFROM:+0200
TZOFFSETTO:+0100
TZNAME:CET
DTSTART:20241027T010000
END:STANDARD
BEGIN:DAYLIGHT
TZOFFSETFROM:+0100
TZOFFSETTO:+0200
TZNAME:CEST
DTSTART:20250330T010000
END:DAYLIGHT
BEGIN:STANDARD
TZOFFSETFROM:+0200
TZOFFSETTO:+0100
TZNAME:CET
DTSTART:20251026T010000
END:STANDARD
BEGIN:DAYLIGHT
TZOFFSETFROM:+0100
TZOFFSETTO:+0200
TZNAME:CEST
DTSTART:20260329T010000
END:DAYLIGHT
BEGIN:STANDARD
TZOFFSETFROM:+0200
TZOFFSETTO:+0100
TZNAME:CET
DTSTART:20261025T010000
END:STANDARD
END:VTIMEZONE
BEGIN:VEVENT
DTSTART;TZID=Europe/Madrid:20251009T193000
DTEND;TZID=Europe/Madrid:20251010T193000
DTSTAMP:20260423T010131
CREATED:20250923T110100Z
LAST-MODIFIED:20250923T110100Z
UID:10007301-1760038200-1760124600@poblenouurbandistrict.com
SUMMARY:GOGOL BORDELLO + SPLIT DOGS
DESCRIPTION:
URL:https://poblenouurbandistrict.com/es/agenda/gogol-bordello-split-dogs/
LOCATION:Sala Razzmatazz\, C/ dels Almogàvers\, 122\, Barcelona\, Barcelona\, 08018\, Espanya
CATEGORIES:Música
ATTACH;FMTTYPE=image/jpeg:https://media.poblenouurbandistrict.com/2025/09/25093445/rr25-gogol-general-post-1080x1350-4.jpg
END:VEVENT
BEGIN:VEVENT
DTSTART;TZID=Europe/Madrid:20251010T193000
DTEND;TZID=Europe/Madrid:20251010T193000
DTSTAMP:20260423T010131
CREATED:20250923T113123Z
LAST-MODIFIED:20250923T113123Z
UID:10007304-1760124600-1760124600@poblenouurbandistrict.com
SUMMARY:N.FLYING - &CON4: FULL CIRCLE EUROPEAN TOUR 2025
DESCRIPTION:
URL:https://poblenouurbandistrict.com/es/agenda/n-flying-con4-full-circle-european-tour-2025/
LOCATION:Sala Razzmatazz\, C/ dels Almogàvers\, 122\, Barcelona\, Barcelona\, 08018\, Espanya
CATEGORIES:Música
ATTACH;FMTTYPE=image/jpeg:https://media.poblenouurbandistrict.com/2025/09/25093454/flyingweb-1000x540-1.jpg
END:VEVENT
BEGIN:VEVENT
DTSTART;TZID=Europe/Madrid:20251010T200000
DTEND;TZID=Europe/Madrid:20251010T200000
DTSTAMP:20260423T010131
CREATED:20250923T110658Z
LAST-MODIFIED:20250923T110658Z
UID:10007303-1760126400-1760126400@poblenouurbandistrict.com
SUMMARY:IONNALEE
DESCRIPTION:
URL:https://poblenouurbandistrict.com/es/agenda/ionnalee/
LOCATION:Sala Razzmatazz\, C/ dels Almogàvers\, 122\, Barcelona\, Barcelona\, 08018\, Espanya
CATEGORIES:Música
ATTACH;FMTTYPE=image/png:https://media.poblenouurbandistrict.com/2025/09/25093450/ionnalee1.png
END:VEVENT
END:VCALENDAR