BEGIN:VCALENDAR
VERSION:2.0
PRODID:-//Poblenou Urban District - ECPv6.15.20//NONSGML v1.0//EN
CALSCALE:GREGORIAN
METHOD:PUBLISH
X-WR-CALNAME:Poblenou Urban District
X-ORIGINAL-URL:https://poblenouurbandistrict.com/es
X-WR-CALDESC:Eventos para Poblenou Urban District
REFRESH-INTERVAL;VALUE=DURATION:PT1H
X-Robots-Tag:noindex
X-PUBLISHED-TTL:PT1H
BEGIN:VTIMEZONE
TZID:Europe/Madrid
BEGIN:DAYLIGHT
TZOFFSETFROM:+0100
TZOFFSETTO:+0200
TZNAME:CEST
DTSTART:20210328T010000
END:DAYLIGHT
BEGIN:STANDARD
TZOFFSETFROM:+0200
TZOFFSETTO:+0100
TZNAME:CET
DTSTART:20211031T010000
END:STANDARD
BEGIN:DAYLIGHT
TZOFFSETFROM:+0100
TZOFFSETTO:+0200
TZNAME:CEST
DTSTART:20220327T010000
END:DAYLIGHT
BEGIN:STANDARD
TZOFFSETFROM:+0200
TZOFFSETTO:+0100
TZNAME:CET
DTSTART:20221030T010000
END:STANDARD
BEGIN:DAYLIGHT
TZOFFSETFROM:+0100
TZOFFSETTO:+0200
TZNAME:CEST
DTSTART:20230326T010000
END:DAYLIGHT
BEGIN:STANDARD
TZOFFSETFROM:+0200
TZOFFSETTO:+0100
TZNAME:CET
DTSTART:20231029T010000
END:STANDARD
END:VTIMEZONE
BEGIN:VEVENT
DTSTART;TZID=Europe/Madrid:20220108T113000
DTEND;TZID=Europe/Madrid:20220108T133000
DTSTAMP:20260421T165126
CREATED:20220224T162032Z
LAST-MODIFIED:20220404T112628Z
UID:10002513-1641641400-1641648600@poblenouurbandistrict.com
SUMMARY:[:ca]Taller: Objectes que creen objectes[:es]Taller: Objetos que crean objetos[:]
DESCRIPTION:Os invitamos al Museu del Disseny a descubrir un proceso de producción industrial muy habitual en los objetos que tenemos en casa: el trabajo con moldes.
URL:https://poblenouurbandistrict.com/es/agenda/taller-objectes-que-creen-objectes/2022-01-08/
LOCATION:Museu del Disseny\, Plaça de les Glòries Catalanes\,\, 37\, Barcelona\, Barcelona\, 08018\, Espanya
CATEGORIES:Taller,Teatro
ATTACH;FMTTYPE=image/jpeg:https://media.poblenouurbandistrict.com/2022/02/25044917/diseno-sin-titulo-15-2.jpg
END:VEVENT
BEGIN:VEVENT
DTSTART;TZID=Europe/Madrid:20220115T113000
DTEND;TZID=Europe/Madrid:20220115T133000
DTSTAMP:20260421T165126
CREATED:20220224T162032Z
LAST-MODIFIED:20220404T112628Z
UID:10002514-1642246200-1642253400@poblenouurbandistrict.com
SUMMARY:[:ca]Taller: Objectes que creen objectes[:es]Taller: Objetos que crean objetos[:]
DESCRIPTION:Os invitamos al Museu del Disseny a descubrir un proceso de producción industrial muy habitual en los objetos que tenemos en casa: el trabajo con moldes.
URL:https://poblenouurbandistrict.com/es/agenda/taller-objectes-que-creen-objectes/2022-01-15/
LOCATION:Museu del Disseny\, Plaça de les Glòries Catalanes\,\, 37\, Barcelona\, Barcelona\, 08018\, Espanya
CATEGORIES:Taller,Teatro
ATTACH;FMTTYPE=image/jpeg:https://media.poblenouurbandistrict.com/2022/02/25044917/diseno-sin-titulo-15-2.jpg
END:VEVENT
BEGIN:VEVENT
DTSTART;TZID=Europe/Madrid:20220122T113000
DTEND;TZID=Europe/Madrid:20220122T133000
DTSTAMP:20260421T165126
CREATED:20220224T162032Z
LAST-MODIFIED:20220404T112628Z
UID:10002515-1642851000-1642858200@poblenouurbandistrict.com
SUMMARY:[:ca]Taller: Objectes que creen objectes[:es]Taller: Objetos que crean objetos[:]
DESCRIPTION:Os invitamos al Museu del Disseny a descubrir un proceso de producción industrial muy habitual en los objetos que tenemos en casa: el trabajo con moldes.
URL:https://poblenouurbandistrict.com/es/agenda/taller-objectes-que-creen-objectes/2022-01-22/
LOCATION:Museu del Disseny\, Plaça de les Glòries Catalanes\,\, 37\, Barcelona\, Barcelona\, 08018\, Espanya
CATEGORIES:Taller,Teatro
ATTACH;FMTTYPE=image/jpeg:https://media.poblenouurbandistrict.com/2022/02/25044917/diseno-sin-titulo-15-2.jpg
END:VEVENT
BEGIN:VEVENT
DTSTART;TZID=Europe/Madrid:20220129T113000
DTEND;TZID=Europe/Madrid:20220129T133000
DTSTAMP:20260421T165126
CREATED:20220224T162032Z
LAST-MODIFIED:20220404T112628Z
UID:10002516-1643455800-1643463000@poblenouurbandistrict.com
SUMMARY:[:ca]Taller: Objectes que creen objectes[:es]Taller: Objetos que crean objetos[:]
DESCRIPTION:Os invitamos al Museu del Disseny a descubrir un proceso de producción industrial muy habitual en los objetos que tenemos en casa: el trabajo con moldes.
URL:https://poblenouurbandistrict.com/es/agenda/taller-objectes-que-creen-objectes/2022-01-29/
LOCATION:Museu del Disseny\, Plaça de les Glòries Catalanes\,\, 37\, Barcelona\, Barcelona\, 08018\, Espanya
CATEGORIES:Taller,Teatro
ATTACH;FMTTYPE=image/jpeg:https://media.poblenouurbandistrict.com/2022/02/25044917/diseno-sin-titulo-15-2.jpg
END:VEVENT
END:VCALENDAR