BEGIN:VCALENDAR
VERSION:2.0
PRODID:-//Poblenou Urban District - ECPv6.15.20//NONSGML v1.0//EN
CALSCALE:GREGORIAN
METHOD:PUBLISH
X-WR-CALNAME:Poblenou Urban District
X-ORIGINAL-URL:https://poblenouurbandistrict.com/es
X-WR-CALDESC:Eventos para Poblenou Urban District
REFRESH-INTERVAL;VALUE=DURATION:PT1H
X-Robots-Tag:noindex
X-PUBLISHED-TTL:PT1H
BEGIN:VTIMEZONE
TZID:Europe/Madrid
BEGIN:DAYLIGHT
TZOFFSETFROM:+0100
TZOFFSETTO:+0200
TZNAME:CEST
DTSTART:20210328T010000
END:DAYLIGHT
BEGIN:STANDARD
TZOFFSETFROM:+0200
TZOFFSETTO:+0100
TZNAME:CET
DTSTART:20211031T010000
END:STANDARD
BEGIN:DAYLIGHT
TZOFFSETFROM:+0100
TZOFFSETTO:+0200
TZNAME:CEST
DTSTART:20220327T010000
END:DAYLIGHT
BEGIN:STANDARD
TZOFFSETFROM:+0200
TZOFFSETTO:+0100
TZNAME:CET
DTSTART:20221030T010000
END:STANDARD
BEGIN:DAYLIGHT
TZOFFSETFROM:+0100
TZOFFSETTO:+0200
TZNAME:CEST
DTSTART:20230326T010000
END:DAYLIGHT
BEGIN:STANDARD
TZOFFSETFROM:+0200
TZOFFSETTO:+0100
TZNAME:CET
DTSTART:20231029T010000
END:STANDARD
END:VTIMEZONE
BEGIN:VEVENT
DTSTART;TZID=Europe/Madrid:20220206T113000
DTEND;TZID=Europe/Madrid:20220206T133000
DTSTAMP:20260421T145944
CREATED:20220225T095948Z
LAST-MODIFIED:20220404T112113Z
UID:10002528-1644147000-1644154200@poblenouurbandistrict.com
SUMMARY:[:ca]Taller familiar EXLIBRIS\, PITIBRIS![:es]Taller familiar EXLIBRIS\, PITIBRIS![:]
DESCRIPTION:En el taller Exlibris\, pitibris! nos inspiraremos en las piezas gráficas de la colección del Museo para crear nuestro exlibris personal\, haremos el tampón y finalmente pensaremos un hechizo para proteger nuestros libros. \nLos Domingos
URL:https://poblenouurbandistrict.com/es/agenda/taller-familiar-exlibris-pitibris/2022-02-06/
LOCATION:Museu del Disseny\, Plaça de les Glòries Catalanes\,\, 37\, Barcelona\, Barcelona\, 08018\, Espanya
CATEGORIES:Taller
ATTACH;FMTTYPE=image/jpeg:https://media.poblenouurbandistrict.com/2022/02/25044919/diseno-sin-titulo-16-2.jpg
END:VEVENT
BEGIN:VEVENT
DTSTART;TZID=Europe/Madrid:20220212T113000
DTEND;TZID=Europe/Madrid:20220212T133000
DTSTAMP:20260421T145944
CREATED:20220224T162032Z
LAST-MODIFIED:20220404T112628Z
UID:10002517-1644665400-1644672600@poblenouurbandistrict.com
SUMMARY:[:ca]Taller: Objectes que creen objectes[:es]Taller: Objetos que crean objetos[:]
DESCRIPTION:Os invitamos al Museu del Disseny a descubrir un proceso de producción industrial muy habitual en los objetos que tenemos en casa: el trabajo con moldes.
URL:https://poblenouurbandistrict.com/es/agenda/taller-objectes-que-creen-objectes/2022-02-12/
LOCATION:Museu del Disseny\, Plaça de les Glòries Catalanes\,\, 37\, Barcelona\, Barcelona\, 08018\, Espanya
CATEGORIES:Taller,Teatro
ATTACH;FMTTYPE=image/jpeg:https://media.poblenouurbandistrict.com/2022/02/25044917/diseno-sin-titulo-15-2.jpg
END:VEVENT
BEGIN:VEVENT
DTSTART;TZID=Europe/Madrid:20220213T113000
DTEND;TZID=Europe/Madrid:20220213T133000
DTSTAMP:20260421T145944
CREATED:20220225T095948Z
LAST-MODIFIED:20220404T112113Z
UID:10002529-1644751800-1644759000@poblenouurbandistrict.com
SUMMARY:[:ca]Taller familiar EXLIBRIS\, PITIBRIS![:es]Taller familiar EXLIBRIS\, PITIBRIS![:]
DESCRIPTION:En el taller Exlibris\, pitibris! nos inspiraremos en las piezas gráficas de la colección del Museo para crear nuestro exlibris personal\, haremos el tampón y finalmente pensaremos un hechizo para proteger nuestros libros. \nLos Domingos
URL:https://poblenouurbandistrict.com/es/agenda/taller-familiar-exlibris-pitibris/2022-02-13/
LOCATION:Museu del Disseny\, Plaça de les Glòries Catalanes\,\, 37\, Barcelona\, Barcelona\, 08018\, Espanya
CATEGORIES:Taller
ATTACH;FMTTYPE=image/jpeg:https://media.poblenouurbandistrict.com/2022/02/25044919/diseno-sin-titulo-16-2.jpg
END:VEVENT
BEGIN:VEVENT
DTSTART;TZID=Europe/Madrid:20220219T110000
DTEND;TZID=Europe/Madrid:20220219T130000
DTSTAMP:20260421T145944
CREATED:20220208T131040Z
LAST-MODIFIED:20220209T092408Z
UID:10002295-1645268400-1645275600@poblenouurbandistrict.com
SUMMARY:[:ca]Taller de Macramé[:es]Taller de Macramé[:]
DESCRIPTION:Taller de Macramé a través de la meditación activa en Samaani Holistic. \nCon Jimena Martinez \n  \n 
URL:https://poblenouurbandistrict.com/es/agenda/taller-de-macrame/
LOCATION:Samaani Holistic\, Carrer de la Ciutat de Granada\, 20\, Barcelona\, 08005
CATEGORIES:Taller
ATTACH;FMTTYPE=image/jpeg:https://media.poblenouurbandistrict.com/2022/02/25044548/5755a1c01a2e29640a5dddc1ec5f6b24.jpg
END:VEVENT
BEGIN:VEVENT
DTSTART;TZID=Europe/Madrid:20220219T113000
DTEND;TZID=Europe/Madrid:20220219T133000
DTSTAMP:20260421T145944
CREATED:20220224T162032Z
LAST-MODIFIED:20220404T112628Z
UID:10002518-1645270200-1645277400@poblenouurbandistrict.com
SUMMARY:[:ca]Taller: Objectes que creen objectes[:es]Taller: Objetos que crean objetos[:]
DESCRIPTION:Os invitamos al Museu del Disseny a descubrir un proceso de producción industrial muy habitual en los objetos que tenemos en casa: el trabajo con moldes.
URL:https://poblenouurbandistrict.com/es/agenda/taller-objectes-que-creen-objectes/2022-02-19/
LOCATION:Museu del Disseny\, Plaça de les Glòries Catalanes\,\, 37\, Barcelona\, Barcelona\, 08018\, Espanya
CATEGORIES:Taller,Teatro
ATTACH;FMTTYPE=image/jpeg:https://media.poblenouurbandistrict.com/2022/02/25044917/diseno-sin-titulo-15-2.jpg
END:VEVENT
BEGIN:VEVENT
DTSTART;TZID=Europe/Madrid:20220220T100000
DTEND;TZID=Europe/Madrid:20220220T140000
DTSTAMP:20260421T145944
CREATED:20220210T110051Z
LAST-MODIFIED:20220210T110051Z
UID:10002335-1645351200-1645365600@poblenouurbandistrict.com
SUMMARY:[:ca]Taller de galletas de Carnaval[:es]Taller de galletas de Carnaval[:]
DESCRIPTION:dom\, 20 feb | Espai Granada\n\n\n\nEste invierno os proponemos un delicioso Taller para aprender a decorar galletas de Carnaval
URL:https://poblenouurbandistrict.com/es/agenda/taller-de-galletas-de-carnaval/
LOCATION:Espai Granada\, Carrer de la Ciutat de Granada 28B\, Barcelona\, Barcelona\, 08005\, España
CATEGORIES:Taller
ATTACH;FMTTYPE=image/jpeg:https://media.poblenouurbandistrict.com/2022/02/25044656/capture-decran-2022-02-10-a-115458.jpg
END:VEVENT
BEGIN:VEVENT
DTSTART;TZID=Europe/Madrid:20220220T113000
DTEND;TZID=Europe/Madrid:20220220T133000
DTSTAMP:20260421T145944
CREATED:20220225T095948Z
LAST-MODIFIED:20220404T112113Z
UID:10002530-1645356600-1645363800@poblenouurbandistrict.com
SUMMARY:[:ca]Taller familiar EXLIBRIS\, PITIBRIS![:es]Taller familiar EXLIBRIS\, PITIBRIS![:]
DESCRIPTION:En el taller Exlibris\, pitibris! nos inspiraremos en las piezas gráficas de la colección del Museo para crear nuestro exlibris personal\, haremos el tampón y finalmente pensaremos un hechizo para proteger nuestros libros. \nLos Domingos
URL:https://poblenouurbandistrict.com/es/agenda/taller-familiar-exlibris-pitibris/2022-02-20/
LOCATION:Museu del Disseny\, Plaça de les Glòries Catalanes\,\, 37\, Barcelona\, Barcelona\, 08018\, Espanya
CATEGORIES:Taller
ATTACH;FMTTYPE=image/jpeg:https://media.poblenouurbandistrict.com/2022/02/25044919/diseno-sin-titulo-16-2.jpg
END:VEVENT
BEGIN:VEVENT
DTSTART;TZID=Europe/Madrid:20220226T103000
DTEND;TZID=Europe/Madrid:20220226T123000
DTSTAMP:20260421T145944
CREATED:20220210T110411Z
LAST-MODIFIED:20220210T110411Z
UID:10002336-1645871400-1645878600@poblenouurbandistrict.com
SUMMARY:[:ca]Taller Pizza Party per a nens[:es]Taller Pizza Party para niños[:]
DESCRIPTION:sáb\, 26 feb | Espai Granada\n¿Quieres aprender hacer tus propias pizzas? En Espai Granada hemos planteado un taller para niños donde aprenderemos hacer pizzas y decorarlas con los ingredientes que más te gustan. ¿Te apuntas?
URL:https://poblenouurbandistrict.com/es/agenda/taller-pizza-party-per-a-nens/
LOCATION:Espai Granada\, Carrer de la Ciutat de Granada 28B\, Barcelona\, Barcelona\, 08005\, España
CATEGORIES:Taller
ATTACH;FMTTYPE=image/jpeg:https://media.poblenouurbandistrict.com/2022/02/25044658/capture-decran-2022-02-10-a-120321.jpg
END:VEVENT
BEGIN:VEVENT
DTSTART;TZID=Europe/Madrid:20220226T113000
DTEND;TZID=Europe/Madrid:20220226T133000
DTSTAMP:20260421T145944
CREATED:20220224T162032Z
LAST-MODIFIED:20220404T112628Z
UID:10002519-1645875000-1645882200@poblenouurbandistrict.com
SUMMARY:[:ca]Taller: Objectes que creen objectes[:es]Taller: Objetos que crean objetos[:]
DESCRIPTION:Os invitamos al Museu del Disseny a descubrir un proceso de producción industrial muy habitual en los objetos que tenemos en casa: el trabajo con moldes.
URL:https://poblenouurbandistrict.com/es/agenda/taller-objectes-que-creen-objectes/2022-02-26/
LOCATION:Museu del Disseny\, Plaça de les Glòries Catalanes\,\, 37\, Barcelona\, Barcelona\, 08018\, Espanya
CATEGORIES:Taller,Teatro
ATTACH;FMTTYPE=image/jpeg:https://media.poblenouurbandistrict.com/2022/02/25044917/diseno-sin-titulo-15-2.jpg
END:VEVENT
BEGIN:VEVENT
DTSTART;TZID=Europe/Madrid:20220227T113000
DTEND;TZID=Europe/Madrid:20220227T133000
DTSTAMP:20260421T145944
CREATED:20220225T095948Z
LAST-MODIFIED:20220404T112113Z
UID:10002531-1645961400-1645968600@poblenouurbandistrict.com
SUMMARY:[:ca]Taller familiar EXLIBRIS\, PITIBRIS![:es]Taller familiar EXLIBRIS\, PITIBRIS![:]
DESCRIPTION:En el taller Exlibris\, pitibris! nos inspiraremos en las piezas gráficas de la colección del Museo para crear nuestro exlibris personal\, haremos el tampón y finalmente pensaremos un hechizo para proteger nuestros libros. \nLos Domingos
URL:https://poblenouurbandistrict.com/es/agenda/taller-familiar-exlibris-pitibris/2022-02-27/
LOCATION:Museu del Disseny\, Plaça de les Glòries Catalanes\,\, 37\, Barcelona\, Barcelona\, 08018\, Espanya
CATEGORIES:Taller
ATTACH;FMTTYPE=image/jpeg:https://media.poblenouurbandistrict.com/2022/02/25044919/diseno-sin-titulo-16-2.jpg
END:VEVENT
END:VCALENDAR