BEGIN:VCALENDAR
VERSION:2.0
PRODID:-//Poblenou Urban District - ECPv6.15.20//NONSGML v1.0//EN
CALSCALE:GREGORIAN
METHOD:PUBLISH
X-ORIGINAL-URL:https://poblenouurbandistrict.com/es
X-WR-CALDESC:Eventos para Poblenou Urban District
REFRESH-INTERVAL;VALUE=DURATION:PT1H
X-Robots-Tag:noindex
X-PUBLISHED-TTL:PT1H
BEGIN:VTIMEZONE
TZID:Europe/Madrid
BEGIN:DAYLIGHT
TZOFFSETFROM:+0100
TZOFFSETTO:+0200
TZNAME:CEST
DTSTART:20210328T010000
END:DAYLIGHT
BEGIN:STANDARD
TZOFFSETFROM:+0200
TZOFFSETTO:+0100
TZNAME:CET
DTSTART:20211031T010000
END:STANDARD
BEGIN:DAYLIGHT
TZOFFSETFROM:+0100
TZOFFSETTO:+0200
TZNAME:CEST
DTSTART:20220327T010000
END:DAYLIGHT
BEGIN:STANDARD
TZOFFSETFROM:+0200
TZOFFSETTO:+0100
TZNAME:CET
DTSTART:20221030T010000
END:STANDARD
BEGIN:DAYLIGHT
TZOFFSETFROM:+0100
TZOFFSETTO:+0200
TZNAME:CEST
DTSTART:20230326T010000
END:DAYLIGHT
BEGIN:STANDARD
TZOFFSETFROM:+0200
TZOFFSETTO:+0100
TZNAME:CET
DTSTART:20231029T010000
END:STANDARD
END:VTIMEZONE
BEGIN:VEVENT
DTSTART;TZID=Europe/Madrid:20220912T100000
DTEND;TZID=Europe/Madrid:20220915T120000
DTSTAMP:20260421T022355
CREATED:20220729T122031Z
LAST-MODIFIED:20220729T122031Z
UID:10003927-1662976800-1663243200@poblenouurbandistrict.com
SUMMARY:[:ca]Workshop intensiu de dansa amb Linn Johansson[:es]Workshop intensivo de danza con Linn Johansson[:en]Intensive dance workshop with Linn Johansson[:]
DESCRIPTION:Durante estos 4 días pensamos con el cuerpo.Viviremos una síntesis del trabajo de las clases regulares del año\, donde proponemos un camino que nos lleva al encuentro con la danza. Esto significa que vamos abriendo espacios en nosotros para que ella ocurra\, y la abordamos como un acontecer en el que hay poco que hacer. \nLa danza como un lugar al que se llega poniendo atención a los detalles del cuerpo\, al encuentro de la materia viva con el espacio\, y a la inclusión de todo aquello que nos mueve que puede venir de dentro o de fuera. \nLa palabra que guía vincula la danza con la poesía y la filosofía\, de forma que abre a la vez experiencia y reflexión.
URL:https://poblenouurbandistrict.com/es/agenda/workshop-intensiu-de-dansa-amb-linn-johansson/
LOCATION:ALAS\, Passatge de Masoliver\, 25\, 1ª\, Barcelona\, 08005
CATEGORIES:Curso,Danza,Taller
ATTACH;FMTTYPE=image/jpeg:https://media.poblenouurbandistrict.com/2022/07/25053802/capture-decran-2022-07-29-a-141856.jpg
END:VEVENT
BEGIN:VEVENT
DTSTART;TZID=Europe/Madrid:20220919T180000
DTEND;TZID=Europe/Madrid:20220922T200000
DTSTAMP:20260421T022355
CREATED:20220729T122327Z
LAST-MODIFIED:20220729T122327Z
UID:10003928-1663610400-1663876800@poblenouurbandistrict.com
SUMMARY:[:ca]Workshop intensiu de dansa amb Andrés Waksman[:es]Workshop intensivo de danza con Andrés Waksman[:en]Intensive dance workshop with Andrés Waksman[:]
DESCRIPTION:Durante estos 4 días pensamos con el cuerpo.Viviremos una síntesis del trabajo de las clases regulares del año\, donde proponemos un camino que nos lleva al encuentro con la danza. Esto significa que vamos abriendo espacios en nosotros para que ella ocurra\, y la abordamos como un acontecer en el que hay poco que hacer. \nLa danza como un lugar al que se llega poniendo atención a los detalles del cuerpo\, al encuentro de la materia viva con el espacio\, y a la inclusión de todo aquello que nos mueve que puede venir de dentro o de fuera. \nLa palabra que guía vincula la danza con la poesía y la filosofía\, de forma que abre a la vez experiencia y reflexión.
URL:https://poblenouurbandistrict.com/es/agenda/workshop-intensiu-de-dansa-amb-andres-waksman/
LOCATION:ALAS\, Passatge de Masoliver\, 25\, 1ª\, Barcelona\, 08005
CATEGORIES:Curso,Danza,Taller
ATTACH;FMTTYPE=image/jpeg:https://media.poblenouurbandistrict.com/2022/07/25053804/capture-decran-2022-07-29-a-141856-1.jpg
END:VEVENT
END:VCALENDAR