BEGIN:VCALENDAR
VERSION:2.0
PRODID:-//Poblenou Urban District - ECPv6.15.20//NONSGML v1.0//EN
CALSCALE:GREGORIAN
METHOD:PUBLISH
X-ORIGINAL-URL:https://poblenouurbandistrict.com/es
X-WR-CALDESC:Eventos para Poblenou Urban District
REFRESH-INTERVAL;VALUE=DURATION:PT1H
X-Robots-Tag:noindex
X-PUBLISHED-TTL:PT1H
BEGIN:VTIMEZONE
TZID:Europe/Madrid
BEGIN:DAYLIGHT
TZOFFSETFROM:+0100
TZOFFSETTO:+0200
TZNAME:CEST
DTSTART:20210328T010000
END:DAYLIGHT
BEGIN:STANDARD
TZOFFSETFROM:+0200
TZOFFSETTO:+0100
TZNAME:CET
DTSTART:20211031T010000
END:STANDARD
BEGIN:DAYLIGHT
TZOFFSETFROM:+0100
TZOFFSETTO:+0200
TZNAME:CEST
DTSTART:20220327T010000
END:DAYLIGHT
BEGIN:STANDARD
TZOFFSETFROM:+0200
TZOFFSETTO:+0100
TZNAME:CET
DTSTART:20221030T010000
END:STANDARD
BEGIN:DAYLIGHT
TZOFFSETFROM:+0100
TZOFFSETTO:+0200
TZNAME:CEST
DTSTART:20230326T010000
END:DAYLIGHT
BEGIN:STANDARD
TZOFFSETFROM:+0200
TZOFFSETTO:+0100
TZNAME:CET
DTSTART:20231029T010000
END:STANDARD
END:VTIMEZONE
BEGIN:VEVENT
DTSTART;TZID=Europe/Madrid:20220406T183000
DTEND;TZID=Europe/Madrid:20220406T213000
DTSTAMP:20260421T132744
CREATED:20220325T124512Z
LAST-MODIFIED:20220325T124512Z
UID:10002702-1649269800-1649280600@poblenouurbandistrict.com
SUMMARY:[:ca]Taller: Pizza[:es]Taller: Pizza[:en]Workshop: Pizza[:]
DESCRIPTION:Espai Granada ofrece un taller de pizza para aprender todas las recetas de pizza y focaccia\, la fermentación\, los tipos de harinas\, el horno y diferentes ingredientes.
URL:https://poblenouurbandistrict.com/es/agenda/taller-pizza/
LOCATION:Espai Granada\, Carrer de la Ciutat de Granada 28B\, Barcelona\, Barcelona\, 08005\, España
CATEGORIES:Gastronomía,Taller
ATTACH;FMTTYPE=image/jpeg:https://media.poblenouurbandistrict.com/2022/03/25045834/screenshot-2022-03-25-at-134439.jpg
END:VEVENT
END:VCALENDAR