BEGIN:VCALENDAR
VERSION:2.0
PRODID:-//Poblenou Urban District - ECPv6.15.20//NONSGML v1.0//EN
CALSCALE:GREGORIAN
METHOD:PUBLISH
X-ORIGINAL-URL:https://poblenouurbandistrict.com/es
X-WR-CALDESC:Eventos para Poblenou Urban District
REFRESH-INTERVAL;VALUE=DURATION:PT1H
X-Robots-Tag:noindex
X-PUBLISHED-TTL:PT1H
BEGIN:VTIMEZONE
TZID:Europe/Madrid
BEGIN:DAYLIGHT
TZOFFSETFROM:+0100
TZOFFSETTO:+0200
TZNAME:CEST
DTSTART:20210328T010000
END:DAYLIGHT
BEGIN:STANDARD
TZOFFSETFROM:+0200
TZOFFSETTO:+0100
TZNAME:CET
DTSTART:20211031T010000
END:STANDARD
BEGIN:DAYLIGHT
TZOFFSETFROM:+0100
TZOFFSETTO:+0200
TZNAME:CEST
DTSTART:20220327T010000
END:DAYLIGHT
BEGIN:STANDARD
TZOFFSETFROM:+0200
TZOFFSETTO:+0100
TZNAME:CET
DTSTART:20221030T010000
END:STANDARD
BEGIN:DAYLIGHT
TZOFFSETFROM:+0100
TZOFFSETTO:+0200
TZNAME:CEST
DTSTART:20230326T010000
END:DAYLIGHT
BEGIN:STANDARD
TZOFFSETFROM:+0200
TZOFFSETTO:+0100
TZNAME:CET
DTSTART:20231029T010000
END:STANDARD
END:VTIMEZONE
BEGIN:VEVENT
DTSTART;TZID=Europe/Madrid:20220412T090000
DTEND;TZID=Europe/Madrid:20220412T170000
DTSTAMP:20260421T132831
CREATED:20220325T125458Z
LAST-MODIFIED:20220404T095258Z
UID:10002706-1649754000-1649782800@poblenouurbandistrict.com
SUMMARY:[:ca]Tallers: Casal de Pasqua Food Design[:es]Talleres: Casal de Pascua Food Design[:en]Workshops: Easter Food Design[:]
DESCRIPTION:Durante la semana de Pascua\, Espai Granada llevará a cabo un casal de comida para cocinar con los niños y niñas de una manera lúdica y participativa\, este año sobre el Food Design. \n11 de abril: Workshop Food Art \n12 de abril: Workshop de Cookie Box \n13 de abril: FOOD GIMKANA
URL:https://poblenouurbandistrict.com/es/agenda/tallers-casal-de-pasqua-food-design/2022-04-12/
LOCATION:Espai Granada\, Carrer de la Ciutat de Granada 28B\, Barcelona\, Barcelona\, 08005\, España
CATEGORIES:Gastronomía,Taller
ATTACH;FMTTYPE=image/jpeg:https://media.poblenouurbandistrict.com/2022/03/25045835/screenshot-2022-03-25-at-135318.jpg
END:VEVENT
BEGIN:VEVENT
DTSTART;TZID=Europe/Madrid:20220412T183000
DTEND;TZID=Europe/Madrid:20220412T213000
DTSTAMP:20260421T132831
CREATED:20220325T130330Z
LAST-MODIFIED:20220325T130330Z
UID:10002709-1649788200-1649799000@poblenouurbandistrict.com
SUMMARY:[:ca]Taller: tàper saludable[:es]Taller: tupper saludable[:en]Workshop: healthy tupper[:]
DESCRIPTION:En este taller de Espai Granada\, aprenderás las bases del batch cooking y recetas sencillas\, pero sabrosas para que puedas llevar cuando comes de tupper.
URL:https://poblenouurbandistrict.com/es/agenda/taller-taper-saludable/
LOCATION:Espai Granada\, Carrer de la Ciutat de Granada 28B\, Barcelona\, Barcelona\, 08005\, España
CATEGORIES:Gastronomía,Taller
ATTACH;FMTTYPE=image/jpeg:https://media.poblenouurbandistrict.com/2022/03/25045837/screenshot-2022-03-25-at-140157.jpg
END:VEVENT
END:VCALENDAR