BEGIN:VCALENDAR
VERSION:2.0
PRODID:-//Poblenou Urban District - ECPv6.15.20//NONSGML v1.0//EN
CALSCALE:GREGORIAN
METHOD:PUBLISH
X-ORIGINAL-URL:https://poblenouurbandistrict.com/es
X-WR-CALDESC:Eventos para Poblenou Urban District
REFRESH-INTERVAL;VALUE=DURATION:PT1H
X-Robots-Tag:noindex
X-PUBLISHED-TTL:PT1H
BEGIN:VTIMEZONE
TZID:Europe/Madrid
BEGIN:DAYLIGHT
TZOFFSETFROM:+0100
TZOFFSETTO:+0200
TZNAME:CEST
DTSTART:20210328T010000
END:DAYLIGHT
BEGIN:STANDARD
TZOFFSETFROM:+0200
TZOFFSETTO:+0100
TZNAME:CET
DTSTART:20211031T010000
END:STANDARD
BEGIN:DAYLIGHT
TZOFFSETFROM:+0100
TZOFFSETTO:+0200
TZNAME:CEST
DTSTART:20220327T010000
END:DAYLIGHT
BEGIN:STANDARD
TZOFFSETFROM:+0200
TZOFFSETTO:+0100
TZNAME:CET
DTSTART:20221030T010000
END:STANDARD
BEGIN:DAYLIGHT
TZOFFSETFROM:+0100
TZOFFSETTO:+0200
TZNAME:CEST
DTSTART:20230326T010000
END:DAYLIGHT
BEGIN:STANDARD
TZOFFSETFROM:+0200
TZOFFSETTO:+0100
TZNAME:CET
DTSTART:20231029T010000
END:STANDARD
END:VTIMEZONE
BEGIN:VEVENT
DTSTART;VALUE=DATE:20220421
DTEND;VALUE=DATE:20220422
DTSTAMP:20260421T132744
CREATED:20220406T145042Z
LAST-MODIFIED:20220406T145042Z
UID:10003144-1650499200-1650585599@poblenouurbandistrict.com
SUMMARY:Festival: Extrabold
DESCRIPTION:Del 20 al 22 de abril\, vuelve el Festival Extrabold a BAU\, un festival de diseño gráfico organizado por los mismos estudiantes y que durante unos días llena la universidad de talleres\, instalaciones\, charlas y mucha fiesta. Esta quinta edición quiere poner sobre la mesa la relación implícita entre política y diseño.
URL:https://poblenouurbandistrict.com/es/agenda/festival-extrabold/2022-04-21/
LOCATION:BAU\, Carrer de Pujades\, 118\, Barcelona\, Barcelona\, 08005\, Espanya
CATEGORIES:Arte,Exposición,Taller,Charla
ATTACH;FMTTYPE=image/jpeg:https://media.poblenouurbandistrict.com/2022/04/25050219/277969429-508723784068352-5515992131221451667-n.jpg
END:VEVENT
BEGIN:VEVENT
DTSTART;VALUE=DATE:20220421
DTEND;VALUE=DATE:20220422
DTSTAMP:20260421T132744
CREATED:20220412T085129Z
LAST-MODIFIED:20220412T085129Z
UID:10003154-1650499200-1650585599@poblenouurbandistrict.com
SUMMARY:[:ca]Xerrada: Diàlegs de Sant Jordi[:es]Charla: Diálogos de Sant Jordi[:en]Talk: Sant Jordi Dialogues[:]
DESCRIPTION:Disculpa\, pero esta entrada está disponible sólo en Català.
URL:https://poblenouurbandistrict.com/es/agenda/xerrada-dialegs-de-sant-jordi/2022-04-21/
LOCATION:Disseny Hub\, Pl. de les Glòries Catalanes 37\, Barcelona\, Catalunya\, 08018\, España
CATEGORIES:Taller,Charla
ATTACH;FMTTYPE=image/jpeg:https://media.poblenouurbandistrict.com/2022/04/25050310/pud-agenda-4.jpg
ORGANIZER;CN="Disseny Hub":MAILTO:dissenyhub@bcn.cat
END:VEVENT
BEGIN:VEVENT
DTSTART;TZID=Europe/Madrid:20220421T173000
DTEND;TZID=Europe/Madrid:20220421T193000
DTSTAMP:20260421T132744
CREATED:20220331T144953Z
LAST-MODIFIED:20220331T144953Z
UID:10003102-1650562200-1650569400@poblenouurbandistrict.com
SUMMARY:[:ca]Xerrada: Teatre polític i construcció de moviments. La resistència cultural del Freedom Theatre de Palestina[:es]Charla: Teatro político y construcción de movimientos. La resistencia cultural del Freedom Theatre de Palestina[:en]Talk: Political theater and movement construction. The cultural resistance of the Freedom Theatre of Palestine[:]
DESCRIPTION:Esta charla/taller tiene como objetivo compartir la experiencia de trabajar en un movimiento sociocultural como parte de la revolución popular por la libertad de Palestina\, y la exploración interactiva de qué significa hacer teatro político en territorios ocupados. \nActividad gratuita\, pero con inscripción previa.
URL:https://poblenouurbandistrict.com/es/agenda/xerrada-teatre-politic-i-construccio-de-moviments-la-resistencia-cultural-del-freedom-theatre-de-palestina/
LOCATION:Sala Beckett\, C. de Pere IV\, 228\, 232\, Barcelona\, Barcelona\, 08005
CATEGORIES:Taller,Teatro,Charla
ATTACH;FMTTYPE=image/jpeg:https://media.poblenouurbandistrict.com/2022/03/25050148/teatre-politic.jpg
END:VEVENT
BEGIN:VEVENT
DTSTART;TZID=Europe/Madrid:20220421T190000
DTEND;TZID=Europe/Madrid:20220421T220000
DTSTAMP:20260421T132744
CREATED:20220408T142224Z
LAST-MODIFIED:20220408T142224Z
UID:10003151-1650567600-1650578400@poblenouurbandistrict.com
SUMMARY:[:ca]Taller: Dumplings[:es]Taller: Dumplings[:en]Workshop: Dumplings[:]
DESCRIPTION:En este taller en Espai Granada\, aprenderás sobre la variedad de dumplings\, rellenos de carne\, verdura\, pescado o marisco\, de la mano de la chef Mayela Armas.
URL:https://poblenouurbandistrict.com/es/agenda/taller-dumplings/
LOCATION:Espai Granada\, Carrer de la Ciutat de Granada 28B\, Barcelona\, Barcelona\, 08005\, España
CATEGORIES:Gastronomía,Taller
ATTACH;FMTTYPE=image/jpeg:https://media.poblenouurbandistrict.com/2022/04/25050256/screenshot-2022-04-08-at-162103.jpg
END:VEVENT
END:VCALENDAR