BEGIN:VCALENDAR
VERSION:2.0
PRODID:-//Poblenou Urban District - ECPv6.15.20//NONSGML v1.0//EN
CALSCALE:GREGORIAN
METHOD:PUBLISH
X-WR-CALNAME:Poblenou Urban District
X-ORIGINAL-URL:https://poblenouurbandistrict.com/es
X-WR-CALDESC:Eventos para Poblenou Urban District
REFRESH-INTERVAL;VALUE=DURATION:PT1H
X-Robots-Tag:noindex
X-PUBLISHED-TTL:PT1H
BEGIN:VTIMEZONE
TZID:Europe/Madrid
BEGIN:DAYLIGHT
TZOFFSETFROM:+0100
TZOFFSETTO:+0200
TZNAME:CEST
DTSTART:20210328T010000
END:DAYLIGHT
BEGIN:STANDARD
TZOFFSETFROM:+0200
TZOFFSETTO:+0100
TZNAME:CET
DTSTART:20211031T010000
END:STANDARD
BEGIN:DAYLIGHT
TZOFFSETFROM:+0100
TZOFFSETTO:+0200
TZNAME:CEST
DTSTART:20220327T010000
END:DAYLIGHT
BEGIN:STANDARD
TZOFFSETFROM:+0200
TZOFFSETTO:+0100
TZNAME:CET
DTSTART:20221030T010000
END:STANDARD
BEGIN:DAYLIGHT
TZOFFSETFROM:+0100
TZOFFSETTO:+0200
TZNAME:CEST
DTSTART:20230326T010000
END:DAYLIGHT
BEGIN:STANDARD
TZOFFSETFROM:+0200
TZOFFSETTO:+0100
TZNAME:CET
DTSTART:20231029T010000
END:STANDARD
END:VTIMEZONE
BEGIN:VEVENT
DTSTART;TZID=Europe/Madrid:20220427T183000
DTEND;TZID=Europe/Madrid:20220427T213000
DTSTAMP:20260421T114339
CREATED:20220325T131009Z
LAST-MODIFIED:20220325T131009Z
UID:10003038-1651084200-1651095000@poblenouurbandistrict.com
SUMMARY:[:ca]Taller: cuina catalana[:es]Taller: cocina catalana[:en]Workshop: Catalan cuisine[:]
DESCRIPTION:Espai Granada ofrece un taller de cocina catalana para conocer sus orígenes y descubrir por qué es un referente gastronómico en todo el mundo.
URL:https://poblenouurbandistrict.com/es/agenda/taller-cuina-catalana/
LOCATION:Espai Granada\, Carrer de la Ciutat de Granada 28B\, Barcelona\, Barcelona\, 08005\, España
CATEGORIES:Gastronomía,Taller
ATTACH;FMTTYPE=image/jpeg:https://media.poblenouurbandistrict.com/2022/03/25045839/screenshot-2022-03-25-at-140906.jpg
END:VEVENT
END:VCALENDAR