BEGIN:VCALENDAR
VERSION:2.0
PRODID:-//Poblenou Urban District - ECPv6.15.20//NONSGML v1.0//EN
CALSCALE:GREGORIAN
METHOD:PUBLISH
X-WR-CALNAME:Poblenou Urban District
X-ORIGINAL-URL:https://poblenouurbandistrict.com/es
X-WR-CALDESC:Eventos para Poblenou Urban District
REFRESH-INTERVAL;VALUE=DURATION:PT1H
X-Robots-Tag:noindex
X-PUBLISHED-TTL:PT1H
BEGIN:VTIMEZONE
TZID:Europe/Madrid
BEGIN:DAYLIGHT
TZOFFSETFROM:+0100
TZOFFSETTO:+0200
TZNAME:CEST
DTSTART:20210328T010000
END:DAYLIGHT
BEGIN:STANDARD
TZOFFSETFROM:+0200
TZOFFSETTO:+0100
TZNAME:CET
DTSTART:20211031T010000
END:STANDARD
BEGIN:DAYLIGHT
TZOFFSETFROM:+0100
TZOFFSETTO:+0200
TZNAME:CEST
DTSTART:20220327T010000
END:DAYLIGHT
BEGIN:STANDARD
TZOFFSETFROM:+0200
TZOFFSETTO:+0100
TZNAME:CET
DTSTART:20221030T010000
END:STANDARD
BEGIN:DAYLIGHT
TZOFFSETFROM:+0100
TZOFFSETTO:+0200
TZNAME:CEST
DTSTART:20230326T010000
END:DAYLIGHT
BEGIN:STANDARD
TZOFFSETFROM:+0200
TZOFFSETTO:+0100
TZNAME:CET
DTSTART:20231029T010000
END:STANDARD
END:VTIMEZONE
BEGIN:VEVENT
DTSTART;TZID=Europe/Madrid:20220429T190000
DTEND;TZID=Europe/Madrid:20220429T200000
DTSTAMP:20260421T114307
CREATED:20220428T134840Z
LAST-MODIFIED:20220428T134840Z
UID:10003275-1651258800-1651262400@poblenouurbandistrict.com
SUMMARY:[:ca]Taller: Get Shaked[:es]Taller: Get Shaked[:en]Workshop: Get Shaked[:]
DESCRIPTION:Organizado en TOPE\, la taquería mexicana del rooftop del hotel The Hoxton\, Poblenou y en colaboración con Tequila Curado\, Get Shaked es la masterclass para aprender a preparar las auténticas margaritas de la mano del experto mixólogo Jorge Balbontín. Después de la clase\, los asistentes podrán disfrutar de sus cócteles a ritmo de música y con las mejores vistas de Barcelona.
URL:https://poblenouurbandistrict.com/es/agenda/taller-get-shaked/
LOCATION:TOPE\, Av. Diagonal 205\, Barcelona\, Catalunya\, 08018\, España
CATEGORIES:Taller
ATTACH;FMTTYPE=image/jpeg:https://media.poblenouurbandistrict.com/2022/04/25050758/screenshot-2022-04-28-at-154806.jpg
ORGANIZER;CN="TOPE":MAILTO:alex.trilla@thehox.com
END:VEVENT
END:VCALENDAR