BEGIN:VCALENDAR
VERSION:2.0
PRODID:-//Poblenou Urban District - ECPv6.15.20//NONSGML v1.0//EN
CALSCALE:GREGORIAN
METHOD:PUBLISH
X-WR-CALNAME:Poblenou Urban District
X-ORIGINAL-URL:https://poblenouurbandistrict.com/es
X-WR-CALDESC:Eventos para Poblenou Urban District
REFRESH-INTERVAL;VALUE=DURATION:PT1H
X-Robots-Tag:noindex
X-PUBLISHED-TTL:PT1H
BEGIN:VTIMEZONE
TZID:Europe/Madrid
BEGIN:DAYLIGHT
TZOFFSETFROM:+0100
TZOFFSETTO:+0200
TZNAME:CEST
DTSTART:20210328T010000
END:DAYLIGHT
BEGIN:STANDARD
TZOFFSETFROM:+0200
TZOFFSETTO:+0100
TZNAME:CET
DTSTART:20211031T010000
END:STANDARD
BEGIN:DAYLIGHT
TZOFFSETFROM:+0100
TZOFFSETTO:+0200
TZNAME:CEST
DTSTART:20220327T010000
END:DAYLIGHT
BEGIN:STANDARD
TZOFFSETFROM:+0200
TZOFFSETTO:+0100
TZNAME:CET
DTSTART:20221030T010000
END:STANDARD
BEGIN:DAYLIGHT
TZOFFSETFROM:+0100
TZOFFSETTO:+0200
TZNAME:CEST
DTSTART:20230326T010000
END:DAYLIGHT
BEGIN:STANDARD
TZOFFSETFROM:+0200
TZOFFSETTO:+0100
TZNAME:CET
DTSTART:20231029T010000
END:STANDARD
END:VTIMEZONE
BEGIN:VEVENT
DTSTART;TZID=Europe/Madrid:20220527T163000
DTEND;TZID=Europe/Madrid:20220527T193000
DTSTAMP:20260421T120215
CREATED:20220506T110828Z
LAST-MODIFIED:20220506T110828Z
UID:10003395-1653669000-1653679800@poblenouurbandistrict.com
SUMMARY:[:ca]Taller: Acceleració Creativa[:es]Taller: Aceleración Creativa[:en]Workshop: Creative Acceleration[:]
DESCRIPTION:Este es un taller en el que vamos a aprender a sacarle el mayor rendimiento posible a nuestro proceso creativo. Aprenderemos a usar herramientas creativas con las que construir grandes ideas y técnicas para aprovechar el tiempo al máximo.
URL:https://poblenouurbandistrict.com/es/agenda/taller-acceleracio-creativa-2/2022-05-27/
LOCATION:Barcelona School of Creativity\, Carrer Pallars\, 65\, Nau 4\, Barcelona\, Catalunya\, 08018\, España
CATEGORIES:Taller
ATTACH;FMTTYPE=image/jpeg:https://media.poblenouurbandistrict.com/2022/05/25051242/screenshot-2022-05-06-at-130705.jpg
ORGANIZER;CN="Barcelona School of Creativity":MAILTO:hola@barcelonaschoolofcreativity.com
END:VEVENT
BEGIN:VEVENT
DTSTART;TZID=Europe/Madrid:20220527T190000
DTEND;TZID=Europe/Madrid:20220527T220000
DTSTAMP:20260421T120215
CREATED:20220411T105405Z
LAST-MODIFIED:20220411T105405Z
UID:10002764-1653678000-1653688800@poblenouurbandistrict.com
SUMMARY:[:ca]Taller: Cuina coreana[:es]Taller: Cocina coreana[:en]Workshop: Korean cuisine[:]
DESCRIPTION:Taller en Espai Granada: La chef Mayela Armas\, con gran experiencia en la cocina coreana\, nos introduce en la gastronomía y nos muestra técnicas de cocción.
URL:https://poblenouurbandistrict.com/es/agenda/taller-cuina-coreana/
LOCATION:Espai Granada\, Carrer de la Ciutat de Granada 28B\, Barcelona\, Barcelona\, 08005\, España
CATEGORIES:Gastronomía,Taller
ATTACH;FMTTYPE=image/jpeg:https://media.poblenouurbandistrict.com/2022/04/25050302/screenshot-2022-04-11-at-125102.jpg
END:VEVENT
END:VCALENDAR