BEGIN:VCALENDAR
VERSION:2.0
PRODID:-//Poblenou Urban District - ECPv6.15.20//NONSGML v1.0//EN
CALSCALE:GREGORIAN
METHOD:PUBLISH
X-WR-CALNAME:Poblenou Urban District
X-ORIGINAL-URL:https://poblenouurbandistrict.com/es
X-WR-CALDESC:Eventos para Poblenou Urban District
REFRESH-INTERVAL;VALUE=DURATION:PT1H
X-Robots-Tag:noindex
X-PUBLISHED-TTL:PT1H
BEGIN:VTIMEZONE
TZID:Europe/Madrid
BEGIN:DAYLIGHT
TZOFFSETFROM:+0100
TZOFFSETTO:+0200
TZNAME:CEST
DTSTART:20210328T010000
END:DAYLIGHT
BEGIN:STANDARD
TZOFFSETFROM:+0200
TZOFFSETTO:+0100
TZNAME:CET
DTSTART:20211031T010000
END:STANDARD
BEGIN:DAYLIGHT
TZOFFSETFROM:+0100
TZOFFSETTO:+0200
TZNAME:CEST
DTSTART:20220327T010000
END:DAYLIGHT
BEGIN:STANDARD
TZOFFSETFROM:+0200
TZOFFSETTO:+0100
TZNAME:CET
DTSTART:20221030T010000
END:STANDARD
BEGIN:DAYLIGHT
TZOFFSETFROM:+0100
TZOFFSETTO:+0200
TZNAME:CEST
DTSTART:20230326T010000
END:DAYLIGHT
BEGIN:STANDARD
TZOFFSETFROM:+0200
TZOFFSETTO:+0100
TZNAME:CET
DTSTART:20231029T010000
END:STANDARD
END:VTIMEZONE
BEGIN:VEVENT
DTSTART;TZID=Europe/Madrid:20220601T150000
DTEND;TZID=Europe/Madrid:20220601T170000
DTSTAMP:20260421T112417
CREATED:20220506T105904Z
LAST-MODIFIED:20220506T105904Z
UID:10003392-1654095600-1654102800@poblenouurbandistrict.com
SUMMARY:[:ca]Taller: Disseny de "portfolio"[:es]Taller: Diseño de porfolio[:en]Workshop: Portfolio Design[:]
DESCRIPTION:Si quieres trabajar como creativo o. creativa\, tú no eres tú. Tú eres lo que has hecho\, lo que puedes hacer\, tus ideas\, tus campañas\, tus imágenes o tus textos. Tú eres tu book. \nEn este workshop aprenderás a dominar WIX\, una de las plataformas de diseño de porfolios más habituales. Aprenderás de plugins\, widgets\, cookies\, etiquetas\, SEO\, SEM y más.
URL:https://poblenouurbandistrict.com/es/agenda/taller-disseny-de-portfolio/2022-06-01/
LOCATION:Barcelona School of Creativity\, Carrer Pallars\, 65\, Nau 4\, Barcelona\, Catalunya\, 08018\, España
CATEGORIES:Taller
ATTACH;FMTTYPE=image/jpeg:https://media.poblenouurbandistrict.com/2022/05/25051241/screenshot-2022-05-06-at-125827.jpg
ORGANIZER;CN="Barcelona School of Creativity":MAILTO:hola@barcelonaschoolofcreativity.com
END:VEVENT
BEGIN:VEVENT
DTSTART;TZID=Europe/Madrid:20220601T180000
DTEND;TZID=Europe/Madrid:20220601T200000
DTSTAMP:20260421T112417
CREATED:20220523T145558Z
LAST-MODIFIED:20220523T145558Z
UID:10003123-1654106400-1654113600@poblenouurbandistrict.com
SUMMARY:[:ca]Sessió informativa del Máster Universitari en Disseny[:es]Sesión informativa del Máster Universitario en Diseño[:en]Informative Session on the University Masters Degree in Design[:]
DESCRIPTION:Oportunidad única para conocer de primera mano el Máster Universitario en Diseño de BAU. El miércoles 1 de junio a las 18:00 tendrá lugar una sesión informativa presencial y online sobre el plan de estudios\, el programa\, las salidas profesionales y todos los aspectos relevantes de la titulación.
URL:https://poblenouurbandistrict.com/es/agenda/sessio-informativa-del-master-universitari-en-disseny/
LOCATION:BAU\, Carrer de Pujades\, 118\, Barcelona\, Barcelona\, 08005\, Espanya
CATEGORIES:Arte,Curso,Taller,Charla
ATTACH;FMTTYPE=image/jpeg:https://media.poblenouurbandistrict.com/2022/05/25051935/screenshot-2022-05-23-at-165535.jpg
END:VEVENT
END:VCALENDAR